BEGIN:VCALENDAR
VERSION:2.0
PRODID:-//Bohm Theatre - ECPv5.16.0//NONSGML v1.0//EN
CALSCALE:GREGORIAN
METHOD:PUBLISH
X-WR-CALNAME:Bohm Theatre
X-ORIGINAL-URL:https://bohmtheatre.org
X-WR-CALDESC:Events for Bohm Theatre
REFRESH-INTERVAL;VALUE=DURATION:PT1H
X-Robots-Tag:noindex
X-PUBLISHED-TTL:PT1H
BEGIN:VTIMEZONE
TZID:America/Detroit
BEGIN:DAYLIGHT
TZOFFSETFROM:-0500
TZOFFSETTO:-0400
TZNAME:EDT
DTSTART:20200308T070000
END:DAYLIGHT
BEGIN:STANDARD
TZOFFSETFROM:-0400
TZOFFSETTO:-0500
TZNAME:EST
DTSTART:20201101T060000
END:STANDARD
END:VTIMEZONE
BEGIN:VEVENT
DTSTART;TZID=America/Detroit:20201107T190000
DTEND;TZID=America/Detroit:20201107T190000
DTSTAMP:20260424T185725
CREATED:20201101T000717Z
LAST-MODIFIED:20201101T000717Z
UID:3955-1604775600-1604775600@bohmtheatre.org
SUMMARY:Bohm Country with Tyler Roy
DESCRIPTION:November 7  @7:00 PM \nAdmission: $10  \nTyler Roy is a Country Artist born and raised out of Battle Creek\, MI. He is also a songwriter\, and has written with many others like Nate Cremeans\, Clayton Sawyer\, Marc Alan Barnette\, Jimbeau Hinson\, Dani Jamerson\, and many more. \nHe is always performing in the Midwest and occasionally somewhere new! \nWe are proud to welcome Tyler Roy to the Bohm Stage for our second ever in house Bohm Country live show! \nThink Albion. Think Music. \n  \nA Special Thank you to our sponsors: \n \nMasks and social distancing required with temperature checks and social tracing at the door.
URL:https://bohmtheatre.org/event/bohm-country-with-tyler-roy/
LOCATION:Bohm Theatre\, 201 S. Superior St\, Albion\, MI\, 49224\, United States
CATEGORIES:Music
ATTACH;FMTTYPE=image/jpeg:https://bohmtheatre.org/wp-content/uploads/2020/10/Tyler-Roy.jpg
END:VEVENT
END:VCALENDAR