BEGIN:VCALENDAR
VERSION:2.0
PRODID:-//Bohm Theatre - ECPv5.16.0//NONSGML v1.0//EN
CALSCALE:GREGORIAN
METHOD:PUBLISH
X-ORIGINAL-URL:https://bohmtheatre.org
X-WR-CALDESC:Events for Bohm Theatre
REFRESH-INTERVAL;VALUE=DURATION:PT1H
X-Robots-Tag:noindex
X-PUBLISHED-TTL:PT1H
BEGIN:VTIMEZONE
TZID:America/Detroit
BEGIN:DAYLIGHT
TZOFFSETFROM:-0500
TZOFFSETTO:-0400
TZNAME:EDT
DTSTART:20210314T070000
END:DAYLIGHT
BEGIN:STANDARD
TZOFFSETFROM:-0400
TZOFFSETTO:-0500
TZNAME:EST
DTSTART:20211107T060000
END:STANDARD
END:VTIMEZONE
BEGIN:VEVENT
DTSTART;TZID=America/Detroit:20211206T190000
DTEND;TZID=America/Detroit:20211206T220000
DTSTAMP:20260423T163708
CREATED:20211116T204648Z
LAST-MODIFIED:20211116T204648Z
UID:4205-1638817200-1638828000@bohmtheatre.org
SUMMARY:Blues at the Bohm with The Fat Animals
DESCRIPTION:The Fat Animals \nDecember 6 @7:00 PM \nThe Fat Animals host Blues at the Bohm in December. \nAdmission: $10 | Tickets Here \nJammers Welcome Back to the stage — Complete Vaccinations required to sign up for Jam
URL:https://bohmtheatre.org/event/blues-at-the-bohm-with-the-fat-animals/
LOCATION:Bohm Theatre\, 201 S. Superior St\, Albion\, MI\, 49224\, United States
CATEGORIES:Featured - Bohm II,Music
ATTACH;FMTTYPE=image/jpeg:https://bohmtheatre.org/wp-content/uploads/2021/11/The-Fat-Animals-120621.jpg
END:VEVENT
END:VCALENDAR