BEGIN:VCALENDAR
VERSION:2.0
PRODID:-//Bohm Theatre - ECPv5.16.0//NONSGML v1.0//EN
CALSCALE:GREGORIAN
METHOD:PUBLISH
X-ORIGINAL-URL:https://bohmtheatre.org
X-WR-CALDESC:Events for Bohm Theatre
REFRESH-INTERVAL;VALUE=DURATION:PT1H
X-Robots-Tag:noindex
X-PUBLISHED-TTL:PT1H
BEGIN:VTIMEZONE
TZID:America/Detroit
BEGIN:DAYLIGHT
TZOFFSETFROM:-0500
TZOFFSETTO:-0400
TZNAME:EDT
DTSTART:20220313T070000
END:DAYLIGHT
BEGIN:STANDARD
TZOFFSETFROM:-0400
TZOFFSETTO:-0500
TZNAME:EST
DTSTART:20221106T060000
END:STANDARD
END:VTIMEZONE
BEGIN:VEVENT
DTSTART;VALUE=DATE:20220520
DTEND;VALUE=DATE:20220523
DTSTAMP:20260423T092637
CREATED:20220503T190345Z
LAST-MODIFIED:20220519T205827Z
UID:4404-1653004800-1653263999@bohmtheatre.org
SUMMARY:Doctor Strange in the Multiverse of Madness
DESCRIPTION:Rated PG-13| 2hr 6min \nShowtimes: \n\nFri 7:00 PM\nSat 7:00 PM\nSun 3:00 PM\n\n \nTickets are $5.00 before 5:00 pm. At 5:00 pm and after adults are $6.50\, children (12 and under) and seniors (62 and over) are $5.50. \n\nDr. Stephen Strange casts a forbidden spell that opens the doorway to the multiverse\, including alternate versions of himself\, whose threat to humanity is too great for the combined forces of Strange\, Wong\, and Wanda Maximoff.
URL:https://bohmtheatre.org/event/doctor-strange-in-the-multiverse-of-madness/
LOCATION:Bohm Theatre\, 201 S. Superior St\, Albion\, MI\, 49224\, United States
CATEGORIES:Featured,Movie
ATTACH;FMTTYPE=image/jpeg:https://bohmtheatre.org/wp-content/uploads/2022/05/DR-S-MoM.jpg
END:VEVENT
BEGIN:VEVENT
DTSTART;VALUE=DATE:20220520
DTEND;VALUE=DATE:20220523
DTSTAMP:20260423T092637
CREATED:20220516T220701Z
LAST-MODIFIED:20220516T220701Z
UID:4420-1653004800-1653263999@bohmtheatre.org
SUMMARY:The 25th Annual Putnam County Spelling Bee
DESCRIPTION:ACT II COMMUNITY THEATER\npresents\nThe 25th Annual Putnam County Spelling Bee\nMay 20     7:00 PM \nMay 21     7:00PM \nMay 22     2:00 PM \nTICKETS AVAILABLE HERE
URL:https://bohmtheatre.org/event/the-25th-annual-putnam-county-spelling-bee/
LOCATION:Bohm Theatre\, 201 S. Superior St\, Albion\, MI\, 49224\, United States
CATEGORIES:Featured - Bohm II
ATTACH;FMTTYPE=image/jpeg:https://bohmtheatre.org/wp-content/uploads/2022/05/SPELLING-BEE.jpg
END:VEVENT
END:VCALENDAR