BEGIN:VCALENDAR
VERSION:2.0
PRODID:-//Bohm Theatre - ECPv5.16.0//NONSGML v1.0//EN
CALSCALE:GREGORIAN
METHOD:PUBLISH
X-WR-CALNAME:Bohm Theatre
X-ORIGINAL-URL:https://bohmtheatre.org
X-WR-CALDESC:Events for Bohm Theatre
REFRESH-INTERVAL;VALUE=DURATION:PT1H
X-Robots-Tag:noindex
X-PUBLISHED-TTL:PT1H
BEGIN:VTIMEZONE
TZID:America/Detroit
BEGIN:DAYLIGHT
TZOFFSETFROM:-0500
TZOFFSETTO:-0400
TZNAME:EDT
DTSTART:20220313T070000
END:DAYLIGHT
BEGIN:STANDARD
TZOFFSETFROM:-0400
TZOFFSETTO:-0500
TZNAME:EST
DTSTART:20221106T060000
END:STANDARD
END:VTIMEZONE
BEGIN:VEVENT
DTSTART;VALUE=DATE:20220722
DTEND;VALUE=DATE:20220801
DTSTAMP:20260423T045630
CREATED:20220719T204644Z
LAST-MODIFIED:20220727T201205Z
UID:4495-1658448000-1659311999@bohmtheatre.org
SUMMARY:NOPE
DESCRIPTION:Rated R| 2hr 15min \nShowtimes: \n\nFri 6:30 PM\nSat 6:30 PM\nSun 2:30 PM\n\n \nTickets are $5.00 before 5:00 pm. At 5:00 pm and after adults are $6.50\, children (12 and under) and seniors (62 and over) are $5.50. \n\nThe residents of a lonely gulch in inland California bear witness to an uncanny and chilling discovery.
URL:https://bohmtheatre.org/event/nope/
LOCATION:Bohm Theatre\, 201 S. Superior St\, Albion\, MI\, 49224\, United States
CATEGORIES:Featured - Bohm II,Movie
ATTACH;FMTTYPE=image/jpeg:https://bohmtheatre.org/wp-content/uploads/2022/07/Nope-poster-thumb-800x1422-83025.jpg
END:VEVENT
BEGIN:VEVENT
DTSTART;VALUE=DATE:20220729
DTEND;VALUE=DATE:20220808
DTSTAMP:20260423T045630
CREATED:20220726T183929Z
LAST-MODIFIED:20220804T201719Z
UID:4504-1659052800-1659916799@bohmtheatre.org
SUMMARY:DC League of Super-Pets
DESCRIPTION:Rated PG| 1hr 46min \nShowtimes: \n\nThu 6:30 PM\nFri 6:30 PM\nSat 6:30 PM\nSun 2:30 PM\n\n \nTickets are $5.00 before 5:00 pm. At 5:00 pm and after adults are $6.50\, children (12 and under) and seniors (62 and over) are $5.50. \n\nKrypto the Super-Dog and Superman are inseparable best friends\, sharing the same superpowers and fighting crime side by side in Metropolis. However\, Krypto must master his own powers for a rescue mission when Superman is kidnapped.
URL:https://bohmtheatre.org/event/dc-league-of-super-pets/
LOCATION:Bohm Theatre\, 201 S. Superior St\, Albion\, MI\, 49224\, United States
CATEGORIES:Featured - Bohm II,Movie
ATTACH;FMTTYPE=image/jpeg:https://bohmtheatre.org/wp-content/uploads/2022/07/superpets-scaled.jpg
END:VEVENT
END:VCALENDAR