BEGIN:VCALENDAR
VERSION:2.0
PRODID:-//Bohm Theatre - ECPv5.16.0//NONSGML v1.0//EN
CALSCALE:GREGORIAN
METHOD:PUBLISH
X-ORIGINAL-URL:https://bohmtheatre.org
X-WR-CALDESC:Events for Bohm Theatre
REFRESH-INTERVAL;VALUE=DURATION:PT1H
X-Robots-Tag:noindex
X-PUBLISHED-TTL:PT1H
BEGIN:VTIMEZONE
TZID:America/Detroit
BEGIN:DAYLIGHT
TZOFFSETFROM:-0500
TZOFFSETTO:-0400
TZNAME:EDT
DTSTART:20220313T070000
END:DAYLIGHT
BEGIN:STANDARD
TZOFFSETFROM:-0400
TZOFFSETTO:-0500
TZNAME:EST
DTSTART:20221106T060000
END:STANDARD
END:VTIMEZONE
BEGIN:VEVENT
DTSTART;TZID=America/Detroit:20220812T080000
DTEND;TZID=America/Detroit:20220814T170000
DTSTAMP:20260423T045746
CREATED:20220802T154438Z
LAST-MODIFIED:20220809T191617Z
UID:4510-1660291200-1660496400@bohmtheatre.org
SUMMARY:Bullet Train
DESCRIPTION:Rated R| 2hr 46min \nShowtimes: \n\nFri 7:00 PM\nSat 7:00 PM\nSun 3:00 PM\n\n \nTickets are $5.00 before 5:00 pm. At 5:00 pm and after adults are $6.50\, children (12 and under) and seniors (62 and over) are $5.50. \n\nFive assassins aboard a fast moving bullet train find out their missions have something in common.
URL:https://bohmtheatre.org/event/bullet-train/
LOCATION:Bohm Theatre\, 201 S. Superior St\, Albion\, MI\, 49224\, United States
CATEGORIES:Featured,Movie
ATTACH;FMTTYPE=image/jpeg:https://bohmtheatre.org/wp-content/uploads/2022/08/BulletTrain.jpg
END:VEVENT
BEGIN:VEVENT
DTSTART;VALUE=DATE:20220813
DTEND;VALUE=DATE:20220814
DTSTAMP:20260423T045746
CREATED:20220802T161046Z
LAST-MODIFIED:20220809T191636Z
UID:4518-1660348800-1660435199@bohmtheatre.org
SUMMARY:Word UP at the Bohm with IamYP
DESCRIPTION:Word Up at the Bohm \nIamYP \nAugust 13 @10:00 PM \nHosted by Ryan and Ladi Don of Ryan’s Room. \nWORD UP at the Bohm gives local Hip Hop\, R&B\, Soul artist and poets a platform to showcase their talent! \nWe take pride in allowing artist to be creative and unforgiving in their craft. \nAdmission: $10  \nThink Albion. Think Music.
URL:https://bohmtheatre.org/event/word-up-at-the-bohm-with-iamyp/
LOCATION:Bohm Theatre\, 201 S. Superior St\, Albion\, MI\, 49224\, United States
CATEGORIES:Featured - Bohm II,Music
ATTACH;FMTTYPE=image/jpeg:https://bohmtheatre.org/wp-content/uploads/2022/08/IamYP.jpg
END:VEVENT
END:VCALENDAR