BEGIN:VCALENDAR
VERSION:2.0
PRODID:-//Bohm Theatre - ECPv5.16.0//NONSGML v1.0//EN
CALSCALE:GREGORIAN
METHOD:PUBLISH
X-WR-CALNAME:Bohm Theatre
X-ORIGINAL-URL:https://bohmtheatre.org
X-WR-CALDESC:Events for Bohm Theatre
REFRESH-INTERVAL;VALUE=DURATION:PT1H
X-Robots-Tag:noindex
X-PUBLISHED-TTL:PT1H
BEGIN:VTIMEZONE
TZID:America/Detroit
BEGIN:DAYLIGHT
TZOFFSETFROM:-0500
TZOFFSETTO:-0400
TZNAME:EDT
DTSTART:20220313T070000
END:DAYLIGHT
BEGIN:STANDARD
TZOFFSETFROM:-0400
TZOFFSETTO:-0500
TZNAME:EST
DTSTART:20221106T060000
END:STANDARD
END:VTIMEZONE
BEGIN:VEVENT
DTSTART;VALUE=DATE:20220819
DTEND;VALUE=DATE:20220829
DTSTAMP:20260423T033543
CREATED:20220817T151557Z
LAST-MODIFIED:20220824T165523Z
UID:4533-1660867200-1661731199@bohmtheatre.org
SUMMARY:Beast
DESCRIPTION:Rated R| 1hr 33min \nShowtimes: \n\nFri 6:30 PM\nSat 6:30 PM\nSun 2:30 PM\n\n \nTickets are $5.00 before 5:00 pm. At 5:00 pm and after adults are $6.50\, children (12 and under) and seniors (62 and over) are $5.50. \n\nA father and his two teenage daughters find themselves hunted by a massive rogue lion intent on proving that the Savanna has but one apex predator.
URL:https://bohmtheatre.org/event/beast/
LOCATION:Bohm Theatre\, 201 S. Superior St\, Albion\, MI\, 49224\, United States
CATEGORIES:Featured,Movie
ATTACH;FMTTYPE=image/jpeg:https://bohmtheatre.org/wp-content/uploads/2022/08/Beast.jpg
END:VEVENT
END:VCALENDAR