BEGIN:VCALENDAR
VERSION:2.0
PRODID:-//Bohm Theatre - ECPv5.16.0//NONSGML v1.0//EN
CALSCALE:GREGORIAN
METHOD:PUBLISH
X-WR-CALNAME:Bohm Theatre
X-ORIGINAL-URL:https://bohmtheatre.org
X-WR-CALDESC:Events for Bohm Theatre
REFRESH-INTERVAL;VALUE=DURATION:PT1H
X-Robots-Tag:noindex
X-PUBLISHED-TTL:PT1H
BEGIN:VTIMEZONE
TZID:America/Detroit
BEGIN:DAYLIGHT
TZOFFSETFROM:-0500
TZOFFSETTO:-0400
TZNAME:EDT
DTSTART:20220313T070000
END:DAYLIGHT
BEGIN:STANDARD
TZOFFSETFROM:-0400
TZOFFSETTO:-0500
TZNAME:EST
DTSTART:20221106T060000
END:STANDARD
END:VTIMEZONE
BEGIN:VEVENT
DTSTART;VALUE=DATE:20221104
DTEND;VALUE=DATE:20221107
DTSTAMP:20260422T231036
CREATED:20221102T204828Z
LAST-MODIFIED:20221102T205027Z
UID:4600-1667520000-1667779199@bohmtheatre.org
SUMMARY:Ticket To Paradise
DESCRIPTION:Rated PG-13| 1hr 44min \nShowtimes: \n\nFri 7:00 PM\nSat 7:00 PM\nSun 3:00 PM\n\n  \nTICKETS ON SALE \n \nTickets are $5.00 before 5:00 pm. At 5:00 pm and after adults are $6.50\, children (12 and under) and seniors (62 and over) are $5.50. \n\nA man and his ex-wife race to Bali\, Indonesia\, to stop their daughter from marrying a seaweed farmer. As they desperately try to sabotage the wedding\, the bickering duo soon find themselves rekindling old feelings that once made them happy together.
URL:https://bohmtheatre.org/event/ticket-to-paradise/
LOCATION:Bohm Theatre\, 201 S. Superior St\, Albion\, MI\, 49224\, United States
CATEGORIES:Featured,Movie
ATTACH;FMTTYPE=image/jpeg:https://bohmtheatre.org/wp-content/uploads/2022/11/MV5BZWY2MGIxYjMtNGRiMi00ODczLWFlZjItYzE5YTdmNzdlNDEwXkEyXkFqcGdeQXVyMTMzODk3NDU0._V1_.jpg
END:VEVENT
END:VCALENDAR