BEGIN:VCALENDAR
VERSION:2.0
PRODID:-//Bohm Theatre - ECPv5.16.0//NONSGML v1.0//EN
CALSCALE:GREGORIAN
METHOD:PUBLISH
X-WR-CALNAME:Bohm Theatre
X-ORIGINAL-URL:https://bohmtheatre.org
X-WR-CALDESC:Events for Bohm Theatre
REFRESH-INTERVAL;VALUE=DURATION:PT1H
X-Robots-Tag:noindex
X-PUBLISHED-TTL:PT1H
BEGIN:VTIMEZONE
TZID:America/Detroit
BEGIN:DAYLIGHT
TZOFFSETFROM:-0500
TZOFFSETTO:-0400
TZNAME:EDT
DTSTART:20240310T070000
END:DAYLIGHT
BEGIN:STANDARD
TZOFFSETFROM:-0400
TZOFFSETTO:-0500
TZNAME:EST
DTSTART:20241103T060000
END:STANDARD
END:VTIMEZONE
BEGIN:VEVENT
DTSTART;VALUE=DATE:20240703
DTEND;VALUE=DATE:20240708
DTSTAMP:20260419T123758
CREATED:20240611T210432Z
LAST-MODIFIED:20240701T145940Z
UID:5608-1719964800-1720396799@bohmtheatre.org
SUMMARY:A Quiet Place Day One
DESCRIPTION:Rated PG-13 | 1h 40m \nShowtimes: \n\nWed 6:15 PM\nFri 7:15 PM\nSat 7:15 PM\nSun 3:15 PM\n\n \nTickets are $5.00 before 5:00 pm. At 5:00 pm and after adults are $6.50\, children (12 and under) and seniors (62 and over) are $5.50. \n\nWhen New York City comes under attack from an alien invasion\, a woman and other survivors try to find a way to safety. They soon learn that they must remain absolutely silent as the mysterious creatures are drawn to the slightest sound.
URL:https://bohmtheatre.org/event/a-quiet-place-day-one/
LOCATION:Bohm Theatre\, 201 S. Superior St\, Albion\, MI\, 49224\, United States
CATEGORIES:Featured - Bohm II,Movie
ATTACH;FMTTYPE=image/jpeg:https://bohmtheatre.org/wp-content/uploads/2024/06/Quiet-plave-pt-1.jpeg
END:VEVENT
BEGIN:VEVENT
DTSTART;VALUE=DATE:20240706
DTEND;VALUE=DATE:20240707
DTSTAMP:20260419T123758
CREATED:20240625T231528Z
LAST-MODIFIED:20240625T231844Z
UID:5632-1720224000-1720310399@bohmtheatre.org
SUMMARY:SPIDER-MAN: ACROSS THE SPIDER-VERSE - FREE KIDS FILM SERIES
DESCRIPTION:11:00 AM\nRated PG\n2h 20m\n  \nTHE KIDS FIRST FREE FILM FESTIVAL WILL RETURN TO THE BOHM THEATRE FOR THE 9TH YEAR IN 2024!\nTHE PROGRAM IS FREE FOR ALL AGES.\nAll children must be accompanied by an adult throughout the duration of the film. \n  \n\nMiles Morales catapults across the multiverse\, where he encounters a team of Spider-People charged with protecting its very existence. When the heroes clash on how to handle a new threat\, Miles must redefine what it means to be a hero.
URL:https://bohmtheatre.org/event/spider-man-across-the-spider-verse-2/
LOCATION:Bohm Theatre\, 201 S. Superior St\, Albion\, MI\, 49224\, United States
CATEGORIES:Movie
ATTACH;FMTTYPE=image/jpeg:https://bohmtheatre.org/wp-content/uploads/2024/06/Spidey.jpg
END:VEVENT
END:VCALENDAR