BEGIN:VCALENDAR
VERSION:2.0
PRODID:-//Bohm Theatre - ECPv5.16.0//NONSGML v1.0//EN
CALSCALE:GREGORIAN
METHOD:PUBLISH
X-WR-CALNAME:Bohm Theatre
X-ORIGINAL-URL:https://bohmtheatre.org
X-WR-CALDESC:Events for Bohm Theatre
REFRESH-INTERVAL;VALUE=DURATION:PT1H
X-Robots-Tag:noindex
X-PUBLISHED-TTL:PT1H
BEGIN:VTIMEZONE
TZID:America/Detroit
BEGIN:DAYLIGHT
TZOFFSETFROM:-0500
TZOFFSETTO:-0400
TZNAME:EDT
DTSTART:20240310T070000
END:DAYLIGHT
BEGIN:STANDARD
TZOFFSETFROM:-0400
TZOFFSETTO:-0500
TZNAME:EST
DTSTART:20241103T060000
END:STANDARD
END:VTIMEZONE
BEGIN:VEVENT
DTSTART;TZID=America/Detroit:20240801T190000
DTEND;TZID=America/Detroit:20240801T220000
DTSTAMP:20260419T110235
CREATED:20240801T151430Z
LAST-MODIFIED:20240801T151430Z
UID:5685-1722538800-1722549600@bohmtheatre.org
SUMMARY:Chelsea House Orchestra
DESCRIPTION:Chelsea House Orchestra\nAugust 1 @7:00 PM\n\n\n\nMusically\, CHO (Chelsea House Orchestra) provides a varied and colorful performance repertoire with the majority of the music derived from traditional Celtic sources. However\, other folk music sources are used to provide students with an eclectic musical experience. The basic philosophy of the arrangements is to allow everyone in the group to enjoy Celtic music as much as possible. Consequently\, the majority of the playing is melody based with very little inner harmony or separate part writing. This truly provides students a contrasting experience from their normal school orchestra. All music is memorized and arrangements often evolve from rehearsals and suggestions from students. Individuals are showcased through the use of solos\, duos\, and special features. Students are also encouraged to learn other instruments such as mandolin\, guitar\, bodhran\, djembe\, cajon\, various folk percussion\, bass\, bouzouki and anything else they can think of that has a folk connection.\n\n\n\n\n\nCome enjoy the experience and Come Home to the Bohm! \nAdmission: $15 adults/$10 12 and under | Tickets Here
URL:https://bohmtheatre.org/event/chelsea-house-orchestra/
LOCATION:Bohm Theatre\, 201 S. Superior St\, Albion\, MI\, 49224\, United States
CATEGORIES:Music
ATTACH;FMTTYPE=image/jpeg:https://bohmtheatre.org/wp-content/uploads/2024/07/CHO-2.jpg
END:VEVENT
END:VCALENDAR