BEGIN:VCALENDAR
VERSION:2.0
PRODID:-//Bohm Theatre - ECPv5.16.0//NONSGML v1.0//EN
CALSCALE:GREGORIAN
METHOD:PUBLISH
X-WR-CALNAME:Bohm Theatre
X-ORIGINAL-URL:https://bohmtheatre.org
X-WR-CALDESC:Events for Bohm Theatre
REFRESH-INTERVAL;VALUE=DURATION:PT1H
X-Robots-Tag:noindex
X-PUBLISHED-TTL:PT1H
BEGIN:VTIMEZONE
TZID:America/Detroit
BEGIN:DAYLIGHT
TZOFFSETFROM:-0500
TZOFFSETTO:-0400
TZNAME:EDT
DTSTART:20200308T070000
END:DAYLIGHT
BEGIN:STANDARD
TZOFFSETFROM:-0400
TZOFFSETTO:-0500
TZNAME:EST
DTSTART:20201101T060000
END:STANDARD
END:VTIMEZONE
BEGIN:VEVENT
DTSTART;TZID=America/Detroit:20201121T100000
DTEND;TZID=America/Detroit:20201121T130000
DTSTAMP:20260419T103911
CREATED:20201101T001658Z
LAST-MODIFIED:20201101T001658Z
UID:3959-1605952800-1605963600@bohmtheatre.org
SUMMARY:Princess Kerizma's Frozen Nails
DESCRIPTION:November 21st \n10am-1pm \nThe Bohm will offer Frozen inspired nails by the one and only Princess Kerizma\, what better way to spend a Saturday morning? \nManicures for young children is one of Mocara “Princess Kerizma” Ortiz’s favorite things to do and what better way to share this gift than by spending a full morning ensuring little ones of the community can have sparkly nails. \nWe are asking that parents pre-register for this event on behalf of their royal children. Registration for this event is $25 per child and $5 per accompanying adult and will include treats\, goodie bags\, a manicure and a digital photo with Princess Kerizma along with other entertainment.
URL:https://bohmtheatre.org/event/princess-kerizmas-frozen-nails/
LOCATION:Bohm Theatre\, 201 S. Superior St\, Albion\, MI\, 49224\, United States
CATEGORIES:Crafts
END:VEVENT
END:VCALENDAR