BEGIN:VCALENDAR
VERSION:2.0
PRODID:-//Bohm Theatre - ECPv5.16.0//NONSGML v1.0//EN
CALSCALE:GREGORIAN
METHOD:PUBLISH
X-ORIGINAL-URL:https://bohmtheatre.org
X-WR-CALDESC:Events for Bohm Theatre
REFRESH-INTERVAL;VALUE=DURATION:PT1H
X-Robots-Tag:noindex
X-PUBLISHED-TTL:PT1H
BEGIN:VTIMEZONE
TZID:America/Detroit
BEGIN:DAYLIGHT
TZOFFSETFROM:-0500
TZOFFSETTO:-0400
TZNAME:EDT
DTSTART:20220313T070000
END:DAYLIGHT
BEGIN:STANDARD
TZOFFSETFROM:-0400
TZOFFSETTO:-0500
TZNAME:EST
DTSTART:20221106T060000
END:STANDARD
END:VTIMEZONE
BEGIN:VEVENT
DTSTART;VALUE=DATE:20220307
DTEND;VALUE=DATE:20220308
DTSTAMP:20260425T154545
CREATED:20220118T192337Z
LAST-MODIFIED:20220209T193839Z
UID:4313-1646611200-1646697599@bohmtheatre.org
SUMMARY:Blues at the Bohm - Lil' Ed and the Blues Imperials  - 7th Anniversary Show
DESCRIPTION:Lil’ Ed and the Blues Imperials \nSpecial Anniversary Show \nMarch 7th @7:00 PM \nIn Chicago\, a city overflowing with unrivaled blues talent\, world-renowned Lil’ Ed & The Blues Imperials have been standing tall for over 30 years. The band’s big sound\, fueled by Lil’ Ed’s gloriously rollicking slide work and deep blues string bending\, along with his rough-edged\, soulful vocals\, is as real and hard-hitting as Chicago blues gets. Join us for our 7th anniversary BLUES AT THE BOHM and help us celebrate! \nAdmission: $20 | Tickets Here \nJammers Welcome Back to the stage — Complete Vaccinations required to sign up for Jam
URL:https://bohmtheatre.org/event/blues-at-the-bohm-lil-ed-and-the-blues-imperials-7th-anniversary-show/
LOCATION:Bohm Theatre\, 201 S. Superior St\, Albion\, MI\, 49224\, United States
CATEGORIES:Featured - Bohm II,Music
ATTACH;FMTTYPE=image/jpeg:https://bohmtheatre.org/wp-content/uploads/2022/01/March-Anniversary-Cover.jpg
ORGANIZER;CN="Blues%20at%20the%20Bohm":MAILTO:events@bohmtheatre.org
END:VEVENT
BEGIN:VEVENT
DTSTART;VALUE=DATE:20220312
DTEND;VALUE=DATE:20220313
DTSTAMP:20260425T154545
CREATED:20220312T010721Z
LAST-MODIFIED:20220312T010721Z
UID:4364-1647043200-1647129599@bohmtheatre.org
SUMMARY:Word Up @ the Bohm -- with Rhiki Swinton
DESCRIPTION:Word Up at the Bohm \nRhiki Swinton \nMarch 12 @10:30 PM \nHosted by Ryan and Ladi Don of Ryan’s Room. \nWORD UP at the Bohm gives local Hip Hop\, R&B\, Soul artist and poets a platform to showcase their talent! \nWe take pride in allowing artist to be creative and unforgiving in their craft. \nAdmission: $10  \nThink Albion. Think Music.
URL:https://bohmtheatre.org/event/word-up-the-bohm-with-rhiki-swinton/
LOCATION:Bohm Theatre\, 201 S. Superior St\, Albion\, MI\, 49224\, United States
CATEGORIES:Featured - Bohm II,Music
ATTACH;FMTTYPE=image/jpeg:https://bohmtheatre.org/wp-content/uploads/2022/02/image_6483441-2.jpg
END:VEVENT
END:VCALENDAR