BEGIN:VCALENDAR
VERSION:2.0
PRODID:-//Bohm Theatre - ECPv5.16.0//NONSGML v1.0//EN
CALSCALE:GREGORIAN
METHOD:PUBLISH
X-WR-CALNAME:Bohm Theatre
X-ORIGINAL-URL:https://bohmtheatre.org
X-WR-CALDESC:Events for Bohm Theatre
REFRESH-INTERVAL;VALUE=DURATION:PT1H
X-Robots-Tag:noindex
X-PUBLISHED-TTL:PT1H
BEGIN:VTIMEZONE
TZID:America/Detroit
BEGIN:DAYLIGHT
TZOFFSETFROM:-0500
TZOFFSETTO:-0400
TZNAME:EDT
DTSTART:20230312T070000
END:DAYLIGHT
BEGIN:STANDARD
TZOFFSETFROM:-0400
TZOFFSETTO:-0500
TZNAME:EST
DTSTART:20231105T060000
END:STANDARD
END:VTIMEZONE
BEGIN:VEVENT
DTSTART;VALUE=DATE:20230303
DTEND;VALUE=DATE:20230306
DTSTAMP:20260424T144903
CREATED:20230214T193639Z
LAST-MODIFIED:20230301T184732Z
UID:4755-1677801600-1678060799@bohmtheatre.org
SUMMARY:Ant-Man & The Wasp: Quantumania
DESCRIPTION:Rated PG-13| 2hr 5min \nShowtimes: \n\nFri 6:30 PM\nSat 6:30 PM\nSun 2:30 PM\n\n \nTickets are $5.00 before 5:00 pm. At 5:00 pm and after adults are $6.50\, children (12 and under) and seniors (62 and over) are $5.50. \n\nScott Lang and Hope Van Dyne\, along with Hank Pym and Janet Van Dyne\, explore the Quantum Realm\, where they interact with strange creatures and embark on an adventure that goes beyond the limits of what they thought was possible.
URL:https://bohmtheatre.org/event/ant-man-the-wasp-quantumania/
LOCATION:Bohm Theatre\, 201 S. Superior St\, Albion\, MI\, 49224\, United States
CATEGORIES:Featured - Bohm II,Movie
ATTACH;FMTTYPE=image/jpeg:https://bohmtheatre.org/wp-content/uploads/2023/02/quantumania.jpg
END:VEVENT
BEGIN:VEVENT
DTSTART;VALUE=DATE:20230311
DTEND;VALUE=DATE:20230312
DTSTAMP:20260424T144903
CREATED:20230222T005614Z
LAST-MODIFIED:20230307T011240Z
UID:4765-1678492800-1678579199@bohmtheatre.org
SUMMARY:Enchanted Evening: The Music of Taylor Swift performed by KalHaven Strings
DESCRIPTION:Ready For It? \nSaturday\, March 11        7:00 PM \nJoin us for an Enchanted evening – The Music of Taylor Swift performed by The KalHaven Strings Quartet The ensemble was founded in 2014 as graduate students at Western Michigan University. Highly adaptable and versatile\, they are skilled in performing a variety of styles\, from Vivaldi to Roddy Ricch\, Metallica to Taylor Swift\, Post Malone to Bach\, and more. The KalHaven Strings serve as Candlelight Concerts by Fever’s Grand Rapids-based string quartet\, performing classical concerts\, cover concerts of the music of Taylor Swift and Queen\, movie music\, holiday-themed concerts\, and more. Members can also be found performing with the Kalamazoo\, Lansing\, Fort Wayne\, South Bend\, and West Michigan symphony orchestras and teaching local youth.
URL:https://bohmtheatre.org/event/enchanted-evening-the-music-of-taylor-swift-performed-by-kalhaven-strings/
LOCATION:MI
CATEGORIES:Featured - Bohm II,Music
ATTACH;FMTTYPE=image/jpeg:https://bohmtheatre.org/wp-content/uploads/2023/02/Bohm-Theater-T-Swift-Kalhaven-3-11-concert.jpg
END:VEVENT
BEGIN:VEVENT
DTSTART;VALUE=DATE:20230324
DTEND;VALUE=DATE:20230328
DTSTAMP:20260424T144903
CREATED:20230314T182728Z
LAST-MODIFIED:20230321T205402Z
UID:4781-1679616000-1679961599@bohmtheatre.org
SUMMARY:SHAZAM! FURY OF THE GODS
DESCRIPTION:Rated PG-13 | 2hr 10min \nShowtimes: \n\nFri 6:30 PM\nSat 6:30 PM\nSun 2:30 PM\n\n \nTickets are $5.00 before 5:00 pm. At 5:00 pm and after adults are $6.50\, children (12 and under) and seniors (62 and over) are $5.50. \n\nThe film continues the story of teenage Billy Batson who\, upon reciting the magic word “SHAZAM!” is transformed into his adult Super Hero alter ego\, Shazam.
URL:https://bohmtheatre.org/event/shazam-fury-of-the-gods/
LOCATION:Bohm Theatre\, 201 S. Superior St\, Albion\, MI\, 49224\, United States
CATEGORIES:Featured - Bohm II,Movie
ATTACH;FMTTYPE=image/jpeg:https://bohmtheatre.org/wp-content/uploads/2023/03/shzam2.jpg
END:VEVENT
BEGIN:VEVENT
DTSTART;VALUE=DATE:20230331
DTEND;VALUE=DATE:20230403
DTSTAMP:20260424T144903
CREATED:20230321T205909Z
LAST-MODIFIED:20230328T190146Z
UID:4791-1680220800-1680479999@bohmtheatre.org
SUMMARY:John Wick: Chapter 4
DESCRIPTION:Rated R | 2hr 49min \nShowtimes: \n\nFri 6:30 PM\nSat 6:30 PM\nSun 2:30 PM\n\n \nTickets are $5.00 before 5:00 pm. At 5:00 pm and after adults are $6.50\, children (12 and under) and seniors (62 and over) are $5.50. \n\nJohn Wick uncovers a path to defeating The High Table. But before he can earn his freedom\, Wick must face off against a new enemy with powerful alliances across the globe and forces that turn old friends into foes.
URL:https://bohmtheatre.org/event/john-wick-chapter-4/
LOCATION:Bohm Theatre\, 201 S. Superior St\, Albion\, MI\, 49224\, United States
CATEGORIES:Featured - Bohm II,Movie
ATTACH;FMTTYPE=image/jpeg:https://bohmtheatre.org/wp-content/uploads/2023/03/JW4.jpg
END:VEVENT
BEGIN:VEVENT
DTSTART;VALUE=DATE:20230331
DTEND;VALUE=DATE:20230410
DTSTAMP:20260424T144903
CREATED:20230328T190122Z
LAST-MODIFIED:20230404T163457Z
UID:4795-1680220800-1681084799@bohmtheatre.org
SUMMARY:Dungeons & Dragons: Honor Among Thieves
DESCRIPTION:Rated PG-13 | 2hr 14min \nShowtimes: \n\nWed 6:30 PM\nThu 6:30 PM\nFri 6:30 PM\nSat 6:30 PM\nSun 2:30 PM\n\n \nTickets are $5.00 before 5:00 pm. At 5:00 pm and after adults are $6.50\, children (12 and under) and seniors (62 and over) are $5.50. \n\nA charming thief and a band of unlikely adventurers embark on an epic quest to retrieve a lost relic\, but things go dangerously awry when they run afoul of the wrong people.
URL:https://bohmtheatre.org/event/dungeons-dragons-honor-among-thieves/
LOCATION:Bohm Theatre\, 201 S. Superior St\, Albion\, MI\, 49224\, United States
CATEGORIES:Featured - Bohm II,Movie
ATTACH;FMTTYPE=image/jpeg:https://bohmtheatre.org/wp-content/uploads/2023/03/DD.jpg
END:VEVENT
END:VCALENDAR