BEGIN:VCALENDAR
VERSION:2.0
PRODID:-//Bohm Theatre - ECPv5.16.0//NONSGML v1.0//EN
CALSCALE:GREGORIAN
METHOD:PUBLISH
X-WR-CALNAME:Bohm Theatre
X-ORIGINAL-URL:https://bohmtheatre.org
X-WR-CALDESC:Events for Bohm Theatre
REFRESH-INTERVAL;VALUE=DURATION:PT1H
X-Robots-Tag:noindex
X-PUBLISHED-TTL:PT1H
BEGIN:VTIMEZONE
TZID:America/Detroit
BEGIN:DAYLIGHT
TZOFFSETFROM:-0500
TZOFFSETTO:-0400
TZNAME:EDT
DTSTART:20230312T070000
END:DAYLIGHT
BEGIN:STANDARD
TZOFFSETFROM:-0400
TZOFFSETTO:-0500
TZNAME:EST
DTSTART:20231105T060000
END:STANDARD
END:VTIMEZONE
BEGIN:VEVENT
DTSTART;VALUE=DATE:20230609
DTEND;VALUE=DATE:20230612
DTSTAMP:20260424T084715
CREATED:20230502T195359Z
LAST-MODIFIED:20230606T185524Z
UID:4925-1686268800-1686527999@bohmtheatre.org
SUMMARY:The Little Mermaid
DESCRIPTION:Rated PG | 2h 15m \nShowtimes: \n\nFri 6:30 PM\nSat 6:30 PM\nSun 2:30 PM\n\n \nTickets are $5.00 before 5:00 pm. At 5:00 pm and after adults are $6.50\, children (12 and under) and seniors (62 and over) are $5.50. \n\nA young mermaid makes a deal with a sea witch to trade her beautiful voice for human legs so she can discover the world above water and impress a prince.
URL:https://bohmtheatre.org/event/the-little-mermaid-2/
LOCATION:Bohm Theatre\, 201 S. Superior St\, Albion\, MI\, 49224\, United States
CATEGORIES:Featured - Bohm II,Movie
ATTACH;FMTTYPE=image/jpeg:https://bohmtheatre.org/wp-content/uploads/2023/05/Little-Mermaid.jpg
END:VEVENT
BEGIN:VEVENT
DTSTART;VALUE=DATE:20230615
DTEND;VALUE=DATE:20230619
DTSTAMP:20260424T084715
CREATED:20230608T172857Z
LAST-MODIFIED:20230613T163802Z
UID:4980-1686787200-1687132799@bohmtheatre.org
SUMMARY:Elemental
DESCRIPTION:Rated PG | 1h 43m \nShowtimes: \n\nThu 6:30 PM\nFri 6:30 PM\nSat 6:30 PM\nSun 3:00 PM\n\n \nTickets are $5.00 before 5:00 pm. At 5:00 pm and after adults are $6.50\, children (12 and under) and seniors (62 and over) are $5.50. \n\nFollows Ember and Wade\, in a city where fire-\, water-\, land- and air-residents live together.
URL:https://bohmtheatre.org/event/elemental/
LOCATION:Bohm II\, 203 S. Superior St\, Albion \, 49224
CATEGORIES:Featured - Bohm II,Movie
ATTACH;FMTTYPE=image/jpeg:https://bohmtheatre.org/wp-content/uploads/2023/05/Elemental-2023.jpg
END:VEVENT
BEGIN:VEVENT
DTSTART;VALUE=DATE:20230629
DTEND;VALUE=DATE:20230703
DTSTAMP:20260424T084715
CREATED:20230613T225207Z
LAST-MODIFIED:20230627T210214Z
UID:5015-1687996800-1688342399@bohmtheatre.org
SUMMARY:Elemental
DESCRIPTION:Rated PG | 1h 43m \nShowtimes: \n\nThu 6:30\nFri 6:30 PM\nSat 6:30 PM\nSun 2:30 PM\n\n \nTickets are $5.00 before 5:00 pm. At 5:00 pm and after adults are $6.50\, children (12 and under) and seniors (62 and over) are $5.50. \n\nFollows Ember and Wade\, in a city where fire-\, water-\, land- and air-residents live together.
URL:https://bohmtheatre.org/event/elemental-2/
LOCATION:Bohm Theatre\, 201 S. Superior St\, Albion\, MI\, 49224\, United States
CATEGORIES:Featured - Bohm II,Movie
ATTACH;FMTTYPE=image/jpeg:https://bohmtheatre.org/wp-content/uploads/2023/05/Elemental-2023.jpg
END:VEVENT
END:VCALENDAR