BEGIN:VCALENDAR
VERSION:2.0
PRODID:-//Bohm Theatre - ECPv5.16.0//NONSGML v1.0//EN
CALSCALE:GREGORIAN
METHOD:PUBLISH
X-ORIGINAL-URL:https://bohmtheatre.org
X-WR-CALDESC:Events for Bohm Theatre
REFRESH-INTERVAL;VALUE=DURATION:PT1H
X-Robots-Tag:noindex
X-PUBLISHED-TTL:PT1H
BEGIN:VTIMEZONE
TZID:America/Detroit
BEGIN:DAYLIGHT
TZOFFSETFROM:-0500
TZOFFSETTO:-0400
TZNAME:EDT
DTSTART:20230312T070000
END:DAYLIGHT
BEGIN:STANDARD
TZOFFSETFROM:-0400
TZOFFSETTO:-0500
TZNAME:EST
DTSTART:20231105T060000
END:STANDARD
END:VTIMEZONE
BEGIN:VEVENT
DTSTART;VALUE=DATE:20231103
DTEND;VALUE=DATE:20231106
DTSTAMP:20260423T202749
CREATED:20230906T231319Z
LAST-MODIFIED:20231031T180433Z
UID:5147-1698969600-1699228799@bohmtheatre.org
SUMMARY:TAYLOR SWIFT | THE ERAS TOUR
DESCRIPTION:Rated PG-13 | 2h 46m \nExperience TAYLOR SWIFT | THE ERAS TOUR on the big screen \nShowtimes: \n\nThu N/A\nFri 7:00 PM\nSat 7:00 PM\nSun 7:00 PM\n\n \n\n$19.89 – Adults (Regular Price)\n$13.13 – Child/Senior/Albion College/Military\n\n\nThe cultural phenomenon continues on the big screen! Immerse yourself in this once-in-a-lifetime concert film experience with a breathtaking\, cinematic view of the history-making tour. Taylor Swift Eras attire and friendship bracelets are strongly encouraged!
URL:https://bohmtheatre.org/event/5147/
LOCATION:Bohm Theatre\, 201 S. Superior St\, Albion\, MI\, 49224\, United States
CATEGORIES:Featured - Bohm II,Movie
ATTACH;FMTTYPE=image/jpeg:https://bohmtheatre.org/wp-content/uploads/2023/09/ahVi0tvf.jpg-scaled.jpeg
END:VEVENT
BEGIN:VEVENT
DTSTART;VALUE=DATE:20231110
DTEND;VALUE=DATE:20231113
DTSTAMP:20260423T202749
CREATED:20231107T010040Z
LAST-MODIFIED:20231107T014122Z
UID:5239-1699574400-1699833599@bohmtheatre.org
SUMMARY:Killers of the Flower Moon
DESCRIPTION:Rated R | 3h 26m \nShowtimes: \n\nFri 6:30 PM\nSat 6:30 PM\nSun 6:30 PM\n\n \nTickets are $5.00 before 5:00 pm. At 5:00 pm and after adults are $6.50\, children (12 and under) and seniors (62 and over) are $5.50. \n\nWhen oil is discovered in 1920s Oklahoma under Osage Nation land\, the Osage people are murdered one by one – until the FBI steps in to unravel the mystery.
URL:https://bohmtheatre.org/event/killers-of-the-flower-moon/
LOCATION:Bohm II\, 203 S. Superior St\, Albion \, 49224
CATEGORIES:Featured - Bohm II,Movie
ATTACH;FMTTYPE=image/jpeg:https://bohmtheatre.org/wp-content/uploads/2023/11/KOFM-scaled.jpg
END:VEVENT
BEGIN:VEVENT
DTSTART;VALUE=DATE:20231116
DTEND;VALUE=DATE:20231120
DTSTAMP:20260423T202749
CREATED:20231114T171847Z
LAST-MODIFIED:20231114T171847Z
UID:5258-1700092800-1700438399@bohmtheatre.org
SUMMARY:The Marvels
DESCRIPTION:Rated PG-13 | 1h 45m \nShowtimes: \n\nThu 7:15 PM\nFri 7:15 PM\nSat 7:15 PM\nSun 3:15 PM\n\n \nTickets are $5.00 before 5:00 pm. At 5:00 pm and after adults are $6.50\, children (12 and under) and seniors (62 and over) are $5.50. \n\nCarol Danvers gets her powers entangled with those of Kamala Khan and Monica Rambeau\, forcing them to work together to save the universe.
URL:https://bohmtheatre.org/event/the-marvels-2/
LOCATION:Bohm Theatre\, 201 S. Superior St\, Albion\, MI\, 49224\, United States
CATEGORIES:Featured - Bohm II,Movie
ATTACH;FMTTYPE=image/jpeg:https://bohmtheatre.org/wp-content/uploads/2023/11/Mavels.jpg
END:VEVENT
END:VCALENDAR