BEGIN:VCALENDAR
VERSION:2.0
PRODID:-//Bohm Theatre - ECPv5.16.0//NONSGML v1.0//EN
CALSCALE:GREGORIAN
METHOD:PUBLISH
X-ORIGINAL-URL:https://bohmtheatre.org
X-WR-CALDESC:Events for Bohm Theatre
REFRESH-INTERVAL;VALUE=DURATION:PT1H
X-Robots-Tag:noindex
X-PUBLISHED-TTL:PT1H
BEGIN:VTIMEZONE
TZID:America/Detroit
BEGIN:DAYLIGHT
TZOFFSETFROM:-0500
TZOFFSETTO:-0400
TZNAME:EDT
DTSTART:20240310T070000
END:DAYLIGHT
BEGIN:STANDARD
TZOFFSETFROM:-0400
TZOFFSETTO:-0500
TZNAME:EST
DTSTART:20241103T060000
END:STANDARD
END:VTIMEZONE
BEGIN:VEVENT
DTSTART;VALUE=DATE:20240202
DTEND;VALUE=DATE:20240205
DTSTAMP:20260423T151550
CREATED:20240122T185719Z
LAST-MODIFIED:20240129T172629Z
UID:5357-1706832000-1707091199@bohmtheatre.org
SUMMARY:Anyone But You
DESCRIPTION:Rated R | 1h 43m \nShowtimes: \n\nFri 7:15 PM\nSat 7:15 PM\nSun 3:15 PM\n\n \nTickets are $5.00 before 5:00 pm. At 5:00 pm and after adults are $6.50\, children (12 and under) and seniors (62 and over) are $5.50. \n\nAfter an amazing first date\, Bea and Ben’s fiery attraction turns ice-cold–until they find themselves unexpectedly reunited at a destination wedding in Australia. So they do what any two mature adults would do: pretend to be a couple.
URL:https://bohmtheatre.org/event/anyone-but-you/
LOCATION:Bohm Theatre\, 201 S. Superior St\, Albion\, MI\, 49224\, United States
CATEGORIES:Featured - Bohm II,Movie
ATTACH;FMTTYPE=image/jpeg:https://bohmtheatre.org/wp-content/uploads/2024/01/Anyone-but-You.jpeg
END:VEVENT
BEGIN:VEVENT
DTSTART;VALUE=DATE:20240216
DTEND;VALUE=DATE:20240219
DTSTAMP:20260423T151550
CREATED:20240117T163009Z
LAST-MODIFIED:20240212T164202Z
UID:5339-1708041600-1708300799@bohmtheatre.org
SUMMARY:ARGYLLE
DESCRIPTION:Rated PG-13 | 2h 19m \nShowtimes: \n\nFri 7:15 PM\nSat 7:15 PM\nSun 3:15 PM\n\n \nTickets are $5.00 before 5:00 pm. At 5:00 pm and after adults are $6.50\, children (12 and under) and seniors (62 and over) are $5.50. \n\nReclusive author Elly Conway writes best-selling espionage novels about a secret agent named Argylle who’s on a mission to unravel a global spy syndicate. However\, when the plots of her books start to mirror the covert actions of a real-life spy organization\, the line between fiction and reality begin to blur.
URL:https://bohmtheatre.org/event/argylle/
LOCATION:Bohm Theatre\, 201 S. Superior St\, Albion\, MI\, 49224\, United States
CATEGORIES:Featured - Bohm II,Movie
ATTACH;FMTTYPE=image/jpeg:https://bohmtheatre.org/wp-content/uploads/2024/01/Argylle-1-scaled.jpg
END:VEVENT
BEGIN:VEVENT
DTSTART;VALUE=DATE:20240223
DTEND;VALUE=DATE:20240226
DTSTAMP:20260423T151550
CREATED:20240219T160918Z
LAST-MODIFIED:20240221T173512Z
UID:5415-1708646400-1708905599@bohmtheatre.org
SUMMARY:Poor Things
DESCRIPTION:Rated R | 2h 21m \nShowtimes: \n\nFri 7:15 PM\nSat 7:15 PM\nSun 4:45 PM\n\n \nTickets are $5.00 before 5:00 pm. At 5:00 pm and after adults are $6.50\, children (12 and under) and seniors (62 and over) are $5.50. \n\nThe incredible tale about the fantastical evolution of Bella Baxter\, a young woman brought back to life by the brilliant and unorthodox scientist Dr. Godwin Baxter.
URL:https://bohmtheatre.org/event/poor-things/
LOCATION:Bohm II\, 203 S. Superior St\, Albion \, 49224
CATEGORIES:Featured - Bohm II,Movie
ATTACH;FMTTYPE=image/jpeg:https://bohmtheatre.org/wp-content/uploads/2024/02/PoorThings.jpeg
END:VEVENT
END:VCALENDAR