BEGIN:VCALENDAR
VERSION:2.0
PRODID:-//Bohm Theatre - ECPv5.16.0//NONSGML v1.0//EN
CALSCALE:GREGORIAN
METHOD:PUBLISH
X-WR-CALNAME:Bohm Theatre
X-ORIGINAL-URL:https://bohmtheatre.org
X-WR-CALDESC:Events for Bohm Theatre
REFRESH-INTERVAL;VALUE=DURATION:PT1H
X-Robots-Tag:noindex
X-PUBLISHED-TTL:PT1H
BEGIN:VTIMEZONE
TZID:America/Detroit
BEGIN:DAYLIGHT
TZOFFSETFROM:-0500
TZOFFSETTO:-0400
TZNAME:EDT
DTSTART:20240310T070000
END:DAYLIGHT
BEGIN:STANDARD
TZOFFSETFROM:-0400
TZOFFSETTO:-0500
TZNAME:EST
DTSTART:20241103T060000
END:STANDARD
END:VTIMEZONE
BEGIN:VEVENT
DTSTART;VALUE=DATE:20240301
DTEND;VALUE=DATE:20240304
DTSTAMP:20260423T121539
CREATED:20240219T161349Z
LAST-MODIFIED:20240226T165151Z
UID:5418-1709251200-1709510399@bohmtheatre.org
SUMMARY:Drive Away Dolls
DESCRIPTION:Rated R | 1h 24m \nShowtimes: \n\nFri 7:15 PM\nSat 7:15 PM\nSun 3:15 PM\n\n \nTickets are $5.00 before 5:00 pm. At 5:00 pm and after adults are $6.50\, children (12 and under) and seniors (62 and over) are $5.50. \n\nJamie regrets her breakup with her girlfriend\, while Marian needs to relax. In search of a fresh start\, they embark on an unexpected road trip to Tallahassee. Things quickly go awry when they cross paths with a group of inept criminals.
URL:https://bohmtheatre.org/event/drive-away-dolls/
LOCATION:Bohm II\, 203 S. Superior St\, Albion \, 49224
CATEGORIES:Featured - Bohm II,Movie
ATTACH;FMTTYPE=image/jpeg:https://bohmtheatre.org/wp-content/uploads/2024/02/DriveAwayDolls.jpeg
END:VEVENT
BEGIN:VEVENT
DTSTART;VALUE=DATE:20240318
DTEND;VALUE=DATE:20240319
DTSTAMP:20260423T121539
CREATED:20240117T193447Z
LAST-MODIFIED:20240312T145226Z
UID:5346-1710720000-1710806399@bohmtheatre.org
SUMMARY:Mike Zito - Blues at the Bohm Anniversary Celebration
DESCRIPTION:MIKE ZITO\nMarch 18 @7:00 PM\nCelebrate our 9th Anniversary Show with us!\nMike Zito is one of the most lauded artists in the contemporary blues arena today and rightfully so\, but for him\, the thing that counts the most is maintaining his honesty\, authenticity and integrity. Those are the qualities that have steered Zito’s career since the beginning and continue to define every effort he’s offered since. \n“I have nothing to hide; it seems my honesty is what people relate to most\,” he once told Vintage Guitar magazine. “Anders (Osborne) told me early on\, ‘If you don’t believe what you’re singing\, you’ll never be a good singer.’ I try not to write fluff; I try to make every word count.” \nLearn more about Mike here \nAdmission: $25 | Tickets Here
URL:https://bohmtheatre.org/event/mike-zitko-blues-at-the-bohm-anniversary-celebration/
LOCATION:Bohm Theatre\, 201 S. Superior St\, Albion\, MI\, 49224\, United States
CATEGORIES:Featured - Bohm II,Music
ATTACH;FMTTYPE=image/png:https://bohmtheatre.org/wp-content/uploads/2024/01/MARCHBLUES24.png
END:VEVENT
BEGIN:VEVENT
DTSTART;VALUE=DATE:20240322
DTEND;VALUE=DATE:20240325
DTSTAMP:20260423T121539
CREATED:20240304T164441Z
LAST-MODIFIED:20240318T172936Z
UID:5445-1711065600-1711324799@bohmtheatre.org
SUMMARY:Kung Fu Panda 4
DESCRIPTION:Rated PG | 1h 34m \nShowtimes: \n\nFri 7:15 PM\nSat 7:15 PM\nSun 3:15 PM\n\n \nTickets are $5.00 before 5:00 pm. At 5:00 pm and after adults are $6.50\, children (12 and under) and seniors (62 and over) are $5.50. \n\nPo must train a new warrior when he’s chosen to become the spiritual leader of the Valley of Peace. However\, when a powerful shape-shifting sorceress sets her eyes on his Staff of Wisdom\, he suddenly realizes he’s going to need some help. Teaming up with a quick-witted corsac fox\, Po soon discovers that heroes can be found in the most unexpected places.
URL:https://bohmtheatre.org/event/kung-fu-panda-4/
LOCATION:Bohm Theatre\, 201 S. Superior St\, Albion\, MI\, 49224\, United States
CATEGORIES:Featured - Bohm II,Fundraiser,Movie
ATTACH;FMTTYPE=image/jpeg:https://bohmtheatre.org/wp-content/uploads/2024/03/Kung-Fu-Panda-4.jpg
END:VEVENT
END:VCALENDAR