BEGIN:VCALENDAR
VERSION:2.0
PRODID:-//Bohm Theatre - ECPv5.16.0//NONSGML v1.0//EN
CALSCALE:GREGORIAN
METHOD:PUBLISH
X-ORIGINAL-URL:https://bohmtheatre.org
X-WR-CALDESC:Events for Bohm Theatre
REFRESH-INTERVAL;VALUE=DURATION:PT1H
X-Robots-Tag:noindex
X-PUBLISHED-TTL:PT1H
BEGIN:VTIMEZONE
TZID:America/Detroit
BEGIN:DAYLIGHT
TZOFFSETFROM:-0500
TZOFFSETTO:-0400
TZNAME:EDT
DTSTART:20240310T070000
END:DAYLIGHT
BEGIN:STANDARD
TZOFFSETFROM:-0400
TZOFFSETTO:-0500
TZNAME:EST
DTSTART:20241103T060000
END:STANDARD
END:VTIMEZONE
BEGIN:VEVENT
DTSTART;VALUE=DATE:20240531
DTEND;VALUE=DATE:20240603
DTSTAMP:20260423T063914
CREATED:20240513T181722Z
LAST-MODIFIED:20240528T171112Z
UID:5554-1717113600-1717372799@bohmtheatre.org
SUMMARY:IF
DESCRIPTION:Rated PG | 1h 44m \nShowtimes: \n\nFri 7:15 PM\nSat 7:15 PM\nSun 3:15 PM\n\n \nTickets are $5.00 before 5:00 pm. At 5:00 pm and after adults are $6.50\, children (12 and under) and seniors (62 and over) are $5.50. \n\nA young girl who goes through a difficult experience begins to see everyone’s imaginary friends who have been left behind as their real-life friends have grown up.
URL:https://bohmtheatre.org/event/if/
LOCATION:Bohm II\, 203 S. Superior St\, Albion \, 49224
CATEGORIES:Featured - Bohm II,Movie
ATTACH;FMTTYPE=image/jpeg:https://bohmtheatre.org/wp-content/uploads/2024/05/IF.jpeg
END:VEVENT
BEGIN:VEVENT
DTSTART;VALUE=DATE:20240607
DTEND;VALUE=DATE:20240610
DTSTAMP:20260423T063914
CREATED:20240520T153643Z
LAST-MODIFIED:20240603T165709Z
UID:5567-1717718400-1717977599@bohmtheatre.org
SUMMARY:FURIOSA: A Mad Max Saga
DESCRIPTION:Rated R | 2h 28m \nShowtimes: \n\nFri 7:15 PM\nSat 7:15 PM\nSun 3:15 PM\n\n \nTickets are $5.00 before 5:00 pm. At 5:00 pm and after adults are $6.50\, children (12 and under) and seniors (62 and over) are $5.50. \n\nThe origin story of renegade warrior Furiosa before her encounter and team up with Mad Max.
URL:https://bohmtheatre.org/event/furiosa-a-mad-max-saga/
LOCATION:Bohm II\, 203 S. Superior St\, Albion \, 49224
CATEGORIES:Featured - Bohm II,Movie
ATTACH;FMTTYPE=image/jpeg:https://bohmtheatre.org/wp-content/uploads/2024/05/Furiosa.jpeg
END:VEVENT
BEGIN:VEVENT
DTSTART;VALUE=DATE:20240614
DTEND;VALUE=DATE:20240617
DTSTAMP:20260423T063914
CREATED:20240603T165605Z
LAST-MODIFIED:20240611T151425Z
UID:5590-1718323200-1718582399@bohmtheatre.org
SUMMARY:The Watchers
DESCRIPTION:Rated PG-13 | 1h 42m \nShowtimes: \n\nFri 7:15 PM\nSat 7:15 PM\nSun 3:15 PM\n\n \nTickets are $5.00 before 5:00 pm. At 5:00 pm and after adults are $6.50\, children (12 and under) and seniors (62 and over) are $5.50. \n\nA young artist gets stranded in an extensive\, immaculate forest in western Ireland\, where\, after finding shelter\, she becomes trapped alongside three strangers\, stalked by mysterious creatures each night.
URL:https://bohmtheatre.org/event/the-watchers/
LOCATION:Bohm II\, 203 S. Superior St\, Albion \, 49224
CATEGORIES:Featured - Bohm II,Movie
ATTACH;FMTTYPE=image/jpeg:https://bohmtheatre.org/wp-content/uploads/2024/06/Watchers.jpeg
END:VEVENT
BEGIN:VEVENT
DTSTART;VALUE=DATE:20240621
DTEND;VALUE=DATE:20240624
DTSTAMP:20260423T063914
CREATED:20240617T201850Z
LAST-MODIFIED:20240617T201850Z
UID:5617-1718928000-1719187199@bohmtheatre.org
SUMMARY:Bad Boys Ride or Die
DESCRIPTION:Rated R | 1h 55m \nShowtimes: \n\nFri 7:15 PM\nSat 7:15 PM\nSun 3:15 PM\n\n \nTickets are $5.00 before 5:00 pm. At 5:00 pm and after adults are $6.50\, children (12 and under) and seniors (62 and over) are $5.50. \n\nThis Summer\, the world’s favorite Bad Boys are back with their iconic mix of edge-of-your seat action and outrageous comedy but this time with a twist: Miami’s finest are now on the run.
URL:https://bohmtheatre.org/event/bad-boys-ride-or-die/
LOCATION:Bohm Theatre\, 201 S. Superior St\, Albion\, MI\, 49224\, United States
CATEGORIES:Featured - Bohm II,Movie
ATTACH;FMTTYPE=image/jpeg:https://bohmtheatre.org/wp-content/uploads/2024/06/BB4L.jpg
END:VEVENT
BEGIN:VEVENT
DTSTART;VALUE=DATE:20240628
DTEND;VALUE=DATE:20240701
DTSTAMP:20260423T063914
CREATED:20240611T151648Z
LAST-MODIFIED:20240624T210543Z
UID:5600-1719532800-1719791999@bohmtheatre.org
SUMMARY:Inside Out 2
DESCRIPTION:Rated PG | 1h 36m \nShowtimes: \n\nFri 7:15 PM\nSat 7:15 PM\nSun 3:15 PM\n\n \nTickets are $5.00 before 5:00 pm. At 5:00 pm and after adults are $6.50\, children (12 and under) and seniors (62 and over) are $5.50. \n\nJoy\, Sadness\, Anger\, Fear and Disgust have been running a successful operation by all accounts. However\, when Anxiety shows up\, they aren’t sure how to feel.
URL:https://bohmtheatre.org/event/inside-out-2/
LOCATION:Bohm Theatre\, 201 S. Superior St\, Albion\, MI\, 49224\, United States
CATEGORIES:Featured - Bohm II,Movie
ATTACH;FMTTYPE=image/jpeg:https://bohmtheatre.org/wp-content/uploads/2024/06/Inside-out-2.jpeg
END:VEVENT
END:VCALENDAR