BEGIN:VCALENDAR
VERSION:2.0
PRODID:-//Bohm Theatre - ECPv5.16.0//NONSGML v1.0//EN
CALSCALE:GREGORIAN
METHOD:PUBLISH
X-WR-CALNAME:Bohm Theatre
X-ORIGINAL-URL:https://bohmtheatre.org
X-WR-CALDESC:Events for Bohm Theatre
REFRESH-INTERVAL;VALUE=DURATION:PT1H
X-Robots-Tag:noindex
X-PUBLISHED-TTL:PT1H
BEGIN:VTIMEZONE
TZID:America/Detroit
BEGIN:DAYLIGHT
TZOFFSETFROM:-0500
TZOFFSETTO:-0400
TZNAME:EDT
DTSTART:20240310T070000
END:DAYLIGHT
BEGIN:STANDARD
TZOFFSETFROM:-0400
TZOFFSETTO:-0500
TZNAME:EST
DTSTART:20241103T060000
END:STANDARD
END:VTIMEZONE
BEGIN:VEVENT
DTSTART;VALUE=DATE:20240703
DTEND;VALUE=DATE:20240708
DTSTAMP:20260423T063814
CREATED:20240611T210432Z
LAST-MODIFIED:20240701T145940Z
UID:5608-1719964800-1720396799@bohmtheatre.org
SUMMARY:A Quiet Place Day One
DESCRIPTION:Rated PG-13 | 1h 40m \nShowtimes: \n\nWed 6:15 PM\nFri 7:15 PM\nSat 7:15 PM\nSun 3:15 PM\n\n \nTickets are $5.00 before 5:00 pm. At 5:00 pm and after adults are $6.50\, children (12 and under) and seniors (62 and over) are $5.50. \n\nWhen New York City comes under attack from an alien invasion\, a woman and other survivors try to find a way to safety. They soon learn that they must remain absolutely silent as the mysterious creatures are drawn to the slightest sound.
URL:https://bohmtheatre.org/event/a-quiet-place-day-one/
LOCATION:Bohm Theatre\, 201 S. Superior St\, Albion\, MI\, 49224\, United States
CATEGORIES:Featured - Bohm II,Movie
ATTACH;FMTTYPE=image/jpeg:https://bohmtheatre.org/wp-content/uploads/2024/06/Quiet-plave-pt-1.jpeg
END:VEVENT
BEGIN:VEVENT
DTSTART;VALUE=DATE:20240712
DTEND;VALUE=DATE:20240715
DTSTAMP:20260423T063814
CREATED:20240611T210844Z
LAST-MODIFIED:20240708T193225Z
UID:5611-1720742400-1721001599@bohmtheatre.org
SUMMARY:Despicable Me 4
DESCRIPTION:Rated PG | 1h 35m \nShowtimes: \n\nFri 7:15 PM\nSat 7:15 PM\nSun 3:15 PM\n\n \nTickets are $5.00 before 5:00 pm. At 5:00 pm and after adults are $6.50\, children (12 and under) and seniors (62 and over) are $5.50. \n\nGru\, Lucy\, Margo\, Edith\, and Agnes welcome a new member to the family\, Gru Jr.\, who is intent on tormenting his dad. Gru faces a new nemesis in Maxime Le Mal and his girlfriend Valentina\, and the family is forced to go on the run.
URL:https://bohmtheatre.org/event/despicable-me-4/
LOCATION:Bohm Theatre\, 201 S. Superior St\, Albion\, MI\, 49224\, United States
CATEGORIES:Featured,Featured - Bohm II,Movie
ATTACH;FMTTYPE=image/jpeg:https://bohmtheatre.org/wp-content/uploads/2024/06/DM4.jpeg
END:VEVENT
BEGIN:VEVENT
DTSTART;VALUE=DATE:20240719
DTEND;VALUE=DATE:20240722
DTSTAMP:20260423T063814
CREATED:20240708T194011Z
LAST-MODIFIED:20240715T190402Z
UID:5648-1721347200-1721606399@bohmtheatre.org
SUMMARY:Fly Me to the Moon
DESCRIPTION:Rated PG-13 | 2h 12m \nShowtimes: \n\nFri 7:15 PM\nSat 7:15 PM\nSun 3:15 PM\n\n \nTickets are $5.00 before 5:00 pm. At 5:00 pm and after adults are $6.50\, children (12 and under) and seniors (62 and over) are $5.50. \n\nMarketing maven Kelly Jones wreaks havoc on launch director Cole Davis’s already difficult task. When the White House deems the mission too important to fail\, Jones is directed to stage a fake moon landing as back-up.
URL:https://bohmtheatre.org/event/fly-me-to-the-moon/
LOCATION:MI
CATEGORIES:Featured - Bohm II,Movie
ATTACH;FMTTYPE=image/jpeg:https://bohmtheatre.org/wp-content/uploads/2024/07/Fly-me-to-the-Moon.jpg
END:VEVENT
END:VCALENDAR