BEGIN:VCALENDAR
VERSION:2.0
PRODID:-//Bohm Theatre - ECPv5.16.0//NONSGML v1.0//EN
CALSCALE:GREGORIAN
METHOD:PUBLISH
X-WR-CALNAME:Bohm Theatre
X-ORIGINAL-URL:https://bohmtheatre.org
X-WR-CALDESC:Events for Bohm Theatre
REFRESH-INTERVAL;VALUE=DURATION:PT1H
X-Robots-Tag:noindex
X-PUBLISHED-TTL:PT1H
BEGIN:VTIMEZONE
TZID:America/Detroit
BEGIN:DAYLIGHT
TZOFFSETFROM:-0500
TZOFFSETTO:-0400
TZNAME:EDT
DTSTART:20240310T070000
END:DAYLIGHT
BEGIN:STANDARD
TZOFFSETFROM:-0400
TZOFFSETTO:-0500
TZNAME:EST
DTSTART:20241103T060000
END:STANDARD
END:VTIMEZONE
BEGIN:VEVENT
DTSTART;VALUE=DATE:20241127
DTEND;VALUE=DATE:20241202
DTSTAMP:20260422T213715
CREATED:20241125T193632Z
LAST-MODIFIED:20241125T193632Z
UID:6331-1732665600-1733097599@bohmtheatre.org
SUMMARY:WICKED
DESCRIPTION:Rated PG | 2h 40m \nShowtimes: \n\nWed 3:00 PM (BOHM 1)\nWed 6:45 PM (BOHM 2)\nThu CLOSED – HAPPY THANKSGIVING\nFri 7:15 PM (BOHM 2)\nSat 7:15 PM (BOHM 2)\nSun 2:15 PM (BOHM 2)\nSun 7:00 PM (BOHM 1)\n\n \nTickets are $5.00 before 5:00 pm. At 5:00 pm and after adults are $6.50\, children (12 and under) and seniors (62 and over) are $5.50. \nAfter two decades as one of the most beloved and enduring musicals on the stage\, Wicked makes its long-awaited journey to the big screen as a spectacular\, generation-defining two-part cinematic event this holiday season.
URL:https://bohmtheatre.org/event/wicked-2/
LOCATION:Bohm II\, 203 S. Superior St\, Albion \, 49224
CATEGORIES:Featured - Bohm II,Movie
ATTACH;FMTTYPE=image/jpeg:https://bohmtheatre.org/wp-content/uploads/2024/11/WICKED.jpg
END:VEVENT
BEGIN:VEVENT
DTSTART;VALUE=DATE:20241206
DTEND;VALUE=DATE:20241209
DTSTAMP:20260422T213715
CREATED:20241202T192844Z
LAST-MODIFIED:20241202T192844Z
UID:6460-1733443200-1733702399@bohmtheatre.org
SUMMARY:Wicked
DESCRIPTION:Rated PG | 2h 40m \nShowtimes: \n\nFri 7:00 PM (BOHM 2)\nSat 7:00 PM (BOHM 2)\nSun 2:00 PM (BOHM 1)\n\n \nTickets are $5.00 before 5:00 pm. At 5:00 pm and after adults are $6.50\, children (12 and under) and seniors (62 and over) are $5.50. \nAfter two decades as one of the most beloved and enduring musicals on the stage\, Wicked makes its long-awaited journey to the big screen as a spectacular\, generation-defining two-part cinematic event this holiday season.
URL:https://bohmtheatre.org/event/wicked-3/
LOCATION:Bohm II\, 203 S. Superior St\, Albion \, 49224
CATEGORIES:Featured - Bohm II,Movie
ATTACH;FMTTYPE=image/jpeg:https://bohmtheatre.org/wp-content/uploads/2024/11/WICKED.jpg
END:VEVENT
BEGIN:VEVENT
DTSTART;VALUE=DATE:20241213
DTEND;VALUE=DATE:20241216
DTSTAMP:20260422T213715
CREATED:20241209T191644Z
LAST-MODIFIED:20241209T191644Z
UID:6578-1734048000-1734307199@bohmtheatre.org
SUMMARY:Moana 2
DESCRIPTION:Rated PG | 1h 40m \nShowtimes: \n\nFri 7:15 PM (BOHM 2)\nSat 7:15 PM (BOHM 2)\nSun 3:15 PM (BOHM 1)\n\n \nTickets are $5.00 before 5:00 pm. At 5:00 pm and after adults are $6.50\, children (12 and under) and seniors (62 and over) are $5.50. \nAfter receiving an unexpected call from her wayfinding ancestors\, Moana journeys to the far seas of Oceania and into dangerous\, long-lost waters for an adventure unlike anything she has ever faced.
URL:https://bohmtheatre.org/event/moana-2-3/
LOCATION:Bohm II\, 203 S. Superior St\, Albion \, 49224
CATEGORIES:Featured - Bohm II,Movie
ATTACH;FMTTYPE=image/jpeg:https://bohmtheatre.org/wp-content/uploads/2024/11/Moana2.jpeg
END:VEVENT
BEGIN:VEVENT
DTSTART;VALUE=DATE:20241220
DTEND;VALUE=DATE:20241223
DTSTAMP:20260422T213715
CREATED:20241216T183647Z
LAST-MODIFIED:20241216T183647Z
UID:6784-1734652800-1734911999@bohmtheatre.org
SUMMARY:Gladiator II
DESCRIPTION:Rated R | 2h 28m \nShowtimes: \n\nFri 7:15 PM\nSat 7:15 PM\nSun 3:15 PM\n\n \nTickets are $5.00 before 5:00 pm. At 5:00 pm and after adults are $6.50\, children (12 and under) and seniors (62 and over) are $5.50. \nAfter his home is conquered by the tyrannical emperors who now lead Rome\, Lucius is forced to enter the Colosseum and must look to his past to find strength to return the glory of Rome to its people.
URL:https://bohmtheatre.org/event/gladiator-ii/
LOCATION:Bohm II\, 203 S. Superior St\, Albion \, 49224
CATEGORIES:Featured - Bohm II,Movie
ATTACH;FMTTYPE=image/jpeg:https://bohmtheatre.org/wp-content/uploads/2024/12/Glad2.jpeg
END:VEVENT
BEGIN:VEVENT
DTSTART;VALUE=DATE:20241227
DTEND;VALUE=DATE:20241230
DTSTAMP:20260422T213715
CREATED:20241224T005359Z
LAST-MODIFIED:20241224T005405Z
UID:7017-1735257600-1735516799@bohmtheatre.org
SUMMARY:Wicked
DESCRIPTION:Rated PG | 2h 40m \nShowtimes: \n\nFri 7:00 PM (BOHM 1)\nSat 7:00 PM (BOHM 2)\nSun 3:00 PM (BOHM 2)\n\n \nTickets are $5.00 before 5:00 pm. At 5:00 pm and after adults are $6.50\, children (12 and under) and seniors (62 and over) are $5.50. \nAfter two decades as one of the most beloved and enduring musicals on the stage\, Wicked makes its long-awaited journey to the big screen as a spectacular\, generation-defining two-part cinematic event this holiday season.
URL:https://bohmtheatre.org/event/wicked-4/
LOCATION:MI
CATEGORIES:Featured - Bohm II,Movie
ATTACH;FMTTYPE=image/jpeg:https://bohmtheatre.org/wp-content/uploads/2024/11/WICKED.jpg
END:VEVENT
END:VCALENDAR