BEGIN:VCALENDAR
VERSION:2.0
PRODID:-//Bohm Theatre - ECPv5.16.0//NONSGML v1.0//EN
CALSCALE:GREGORIAN
METHOD:PUBLISH
X-ORIGINAL-URL:https://bohmtheatre.org
X-WR-CALDESC:Events for Bohm Theatre
REFRESH-INTERVAL;VALUE=DURATION:PT1H
X-Robots-Tag:noindex
X-PUBLISHED-TTL:PT1H
BEGIN:VTIMEZONE
TZID:America/Detroit
BEGIN:DAYLIGHT
TZOFFSETFROM:-0500
TZOFFSETTO:-0400
TZNAME:EDT
DTSTART:20250309T070000
END:DAYLIGHT
BEGIN:STANDARD
TZOFFSETFROM:-0400
TZOFFSETTO:-0500
TZNAME:EST
DTSTART:20251102T060000
END:STANDARD
END:VTIMEZONE
BEGIN:VEVENT
DTSTART;VALUE=DATE:20250131
DTEND;VALUE=DATE:20250203
DTSTAMP:20260422T184304
CREATED:20250127T174049Z
LAST-MODIFIED:20250127T174049Z
UID:8222-1738281600-1738540799@bohmtheatre.org
SUMMARY:Nosferatu
DESCRIPTION:Rated R | 2h 12m \nShowtimes: \n\nFri 7:15 PM (BOHM 2)\nSat 7:15 PM (BOHM 2)\nSun 3:15 PM (BOHM 2)\n\n \nTickets are $5.00 before 5:00 pm. At 5:00 pm and after adults are $6.50\, children (12 and under) and seniors (62 and over) are $5.50. \nA gothic tale of obsession between a haunted young woman and the terrifying vampire infatuated with her\, causing untold horror in its wake.
URL:https://bohmtheatre.org/event/nosferatu-2/
LOCATION:Bohm Theatre\, 201 S. Superior St\, Albion\, MI\, 49224\, United States
CATEGORIES:Featured - Bohm II,Movie
ATTACH;FMTTYPE=image/jpeg:https://bohmtheatre.org/wp-content/uploads/2025/01/Nosferatu.jpg
END:VEVENT
BEGIN:VEVENT
DTSTART;VALUE=DATE:20250207
DTEND;VALUE=DATE:20250210
DTSTAMP:20260422T184304
CREATED:20250203T185051Z
LAST-MODIFIED:20250203T190144Z
UID:8279-1738886400-1739145599@bohmtheatre.org
SUMMARY:Anora - 6 Time Academy Award Nominee
DESCRIPTION:Rated R | 2h 19m \nWinner of The Palme d’Or – Cannes Film Festival 2024 \nShowtimes: \n\nFri 8:15 PM (BOHM 2)\nSat 7:15 PM (BOHM 2)\nSun 3:15 PM (BOHM 2)\n\n \nTickets are $5.00 before 5:00 pm. At 5:00 pm and after adults are $6.50\, children (12 and under) and seniors (62 and over) are $5.50. \nA young escort from Brooklyn meets and impulsively marries the son of a Russian oligarch. Once the news reaches Russia\, her fairy tale is threatened as his parents set out for New York to get the marriage annulled.
URL:https://bohmtheatre.org/event/anora/
LOCATION:Bohm II\, 203 S. Superior St\, Albion \, 49224
CATEGORIES:Featured - Bohm II,Movie
ATTACH;FMTTYPE=image/jpeg:https://bohmtheatre.org/wp-content/uploads/2025/02/Anora.jpg
END:VEVENT
BEGIN:VEVENT
DTSTART;VALUE=DATE:20250214
DTEND;VALUE=DATE:20250217
DTSTAMP:20260422T184304
CREATED:20250208T183321Z
LAST-MODIFIED:20250210T192111Z
UID:8296-1739491200-1739750399@bohmtheatre.org
SUMMARY:Paddington in Peru
DESCRIPTION:Rated PG | 1h 46m \nShowtimes: \n\nFri 7:15 PM (BOHM 2)\nSat 7:15 PM (BOHM 2)\nSun 3:15 PM (BOHM 2)\n\n \nTickets are $5.00 before 5:00 pm. At 5:00 pm and after adults are $6.50\, children (12 and under) and seniors (62 and over) are $5.50. \nWhen Paddington discovers his beloved aunt has gone missing from the Home for Retired Bears\, he and the Brown family head to the jungles of Peru to find her. Determined to solve the mystery\, they soon stumble across a legendary treasure as they make their way through the rainforests of the Amazon.
URL:https://bohmtheatre.org/event/paddington-in-peru/
LOCATION:Bohm II\, 203 S. Superior St\, Albion \, 49224
CATEGORIES:Featured - Bohm II,Movie
ATTACH;FMTTYPE=image/jpeg:https://bohmtheatre.org/wp-content/uploads/2025/02/PaddingtonPeru.jpg
END:VEVENT
BEGIN:VEVENT
DTSTART;VALUE=DATE:20250221
DTEND;VALUE=DATE:20250224
DTSTAMP:20260422T184304
CREATED:20250208T183605Z
LAST-MODIFIED:20250224T162948Z
UID:8301-1740096000-1740355199@bohmtheatre.org
SUMMARY:Paddington in Peru
DESCRIPTION:Rated PG | 1h 46m \nShowtimes: \n\nFri 7:15 PM (BOHM 2)\nSat 7:15 PM (BOHM 2)\nSun 3:15 PM (BOHM 2)\n\n \nTickets are $5.00 before 5:00 pm. At 5:00 pm and after adults are $6.50\, children (12 and under) and seniors (62 and over) are $5.50. \nWhen Paddington discovers his beloved aunt has gone missing from the Home for Retired Bears\, he and the Brown family head to the jungles of Peru to find her. Determined to solve the mystery\, they soon stumble across a legendary treasure as they make their way through the rainforests of the Amazon.
URL:https://bohmtheatre.org/event/paddington-in-peru-2/
LOCATION:MI
CATEGORIES:Featured - Bohm II,Movie
ATTACH;FMTTYPE=image/jpeg:https://bohmtheatre.org/wp-content/uploads/2025/02/PaddingtonPeru.jpg
END:VEVENT
BEGIN:VEVENT
DTSTART;VALUE=DATE:20250228
DTEND;VALUE=DATE:20250303
DTSTAMP:20260422T184304
CREATED:20250224T214502Z
LAST-MODIFIED:20250224T214502Z
UID:8399-1740700800-1740959999@bohmtheatre.org
SUMMARY:Captain America: Brave New World
DESCRIPTION:Rated PG-13 | 1h 58m \nShowtimes: \n\nFri 7:15 PM (BOHM 2)\nSat 7:15 PM (BOHM 2)\nSun 3:15 PM (BOHM 2)\n\n \nTickets are $5.00 before 5:00 pm. At 5:00 pm and after adults are $6.50\, children (12 and under) and seniors (62 and over) are $5.50. \nSam finds himself in the middle of an international incident after meeting with President Thaddeus Ross. He must soon discover the reason behind a nefarious global plot before the true mastermind has the entire world seeing red.
URL:https://bohmtheatre.org/event/captain-america-brave-new-world-3/
LOCATION:Bohm II\, 203 S. Superior St\, Albion \, 49224
CATEGORIES:Featured - Bohm II,Movie
ATTACH;FMTTYPE=image/jpeg:https://bohmtheatre.org/wp-content/uploads/2025/02/CapBNW2.jpg
END:VEVENT
END:VCALENDAR