BEGIN:VCALENDAR
VERSION:2.0
PRODID:-//Bohm Theatre - ECPv5.16.0//NONSGML v1.0//EN
CALSCALE:GREGORIAN
METHOD:PUBLISH
X-WR-CALNAME:Bohm Theatre
X-ORIGINAL-URL:https://bohmtheatre.org
X-WR-CALDESC:Events for Bohm Theatre
REFRESH-INTERVAL;VALUE=DURATION:PT1H
X-Robots-Tag:noindex
X-PUBLISHED-TTL:PT1H
BEGIN:VTIMEZONE
TZID:America/Detroit
BEGIN:DAYLIGHT
TZOFFSETFROM:-0500
TZOFFSETTO:-0400
TZNAME:EDT
DTSTART:20250309T070000
END:DAYLIGHT
BEGIN:STANDARD
TZOFFSETFROM:-0400
TZOFFSETTO:-0500
TZNAME:EST
DTSTART:20251102T060000
END:STANDARD
END:VTIMEZONE
BEGIN:VEVENT
DTSTART;VALUE=DATE:20250228
DTEND;VALUE=DATE:20250303
DTSTAMP:20260422T171253
CREATED:20250224T214502Z
LAST-MODIFIED:20250224T214502Z
UID:8399-1740700800-1740959999@bohmtheatre.org
SUMMARY:Captain America: Brave New World
DESCRIPTION:Rated PG-13 | 1h 58m \nShowtimes: \n\nFri 7:15 PM (BOHM 2)\nSat 7:15 PM (BOHM 2)\nSun 3:15 PM (BOHM 2)\n\n \nTickets are $5.00 before 5:00 pm. At 5:00 pm and after adults are $6.50\, children (12 and under) and seniors (62 and over) are $5.50. \nSam finds himself in the middle of an international incident after meeting with President Thaddeus Ross. He must soon discover the reason behind a nefarious global plot before the true mastermind has the entire world seeing red.
URL:https://bohmtheatre.org/event/captain-america-brave-new-world-3/
LOCATION:Bohm II\, 203 S. Superior St\, Albion \, 49224
CATEGORIES:Featured - Bohm II,Movie
ATTACH;FMTTYPE=image/jpeg:https://bohmtheatre.org/wp-content/uploads/2025/02/CapBNW2.jpg
END:VEVENT
BEGIN:VEVENT
DTSTART;VALUE=DATE:20250307
DTEND;VALUE=DATE:20250310
DTSTAMP:20260422T171253
CREATED:20250303T210152Z
LAST-MODIFIED:20250303T210225Z
UID:8450-1741305600-1741564799@bohmtheatre.org
SUMMARY:The Unbreakable Boy
DESCRIPTION:Rated PG | 1h 49m \nShowtimes: \n\nFri 7:15 PM (BOHM 2)\nSat 7:15 PM (BOHM 2)\nSun 3:15 PM (BOHM 2)\n\n \nTickets are $5.00 before 5:00 pm. At 5:00 pm and after adults are $6.50\, children (12 and under) and seniors (62 and over) are $5.50. \nWhen Scott and Teresa learn that their son\, Austin\, is autistic and has brittle bone disease\, they initially worry about his future. However\, with Scott’s growing faith and Austin’s incredible spirit\, they become unbreakable as they find joy\, gratitude and courage in the most trying times.
URL:https://bohmtheatre.org/event/the-unbreakable-boy/
LOCATION:Bohm II\, 203 S. Superior St\, Albion \, 49224
CATEGORIES:Featured - Bohm II,Movie
ATTACH;FMTTYPE=image/jpeg:https://bohmtheatre.org/wp-content/uploads/2025/03/unbreakable-boy-scaled.jpg
END:VEVENT
BEGIN:VEVENT
DTSTART;VALUE=DATE:20250314
DTEND;VALUE=DATE:20250317
DTSTAMP:20260422T171253
CREATED:20250310T195105Z
LAST-MODIFIED:20250310T195105Z
UID:8478-1741910400-1742169599@bohmtheatre.org
SUMMARY:MICKEY 17
DESCRIPTION:Rated R | 2h 17m \nShowtimes: \n\nFri 7:15 PM (BOHM 2)\nSat 7:15 PM (BOHM 2)\nSun 3:15 PM (BOHM 2)\n\n \nTickets are $5.00 before 5:00 pm. At 5:00 pm and after adults are $6.50\, children (12 and under) and seniors (62 and over) are $5.50. \nA disposable employee is sent on a human expedition to colonize the ice world Niflheim. After one iteration dies\, a new body is regenerated with most of his memories intact.
URL:https://bohmtheatre.org/event/mickey-17-2/
LOCATION:Bohm II\, 203 S. Superior St\, Albion \, 49224
CATEGORIES:Featured - Bohm II,Movie
ATTACH;FMTTYPE=image/png:https://bohmtheatre.org/wp-content/uploads/2025/03/Screenshot-2025-03-03-160042.png
END:VEVENT
BEGIN:VEVENT
DTSTART;VALUE=DATE:20250321
DTEND;VALUE=DATE:20250324
DTSTAMP:20260422T171253
CREATED:20250317T162902Z
LAST-MODIFIED:20250317T162902Z
UID:8493-1742515200-1742774399@bohmtheatre.org
SUMMARY:Rule Breakers
DESCRIPTION:Rated PG | 2h 00m \nShowtimes: \n\nFri 7:15 PM (BOHM 1)\nSat 7:15 PM (BOHM 1)\nSun 3:15 PM (BOHM 1)\n\n \nTickets are $5.00 before 5:00 pm. At 5:00 pm and after adults are $6.50\, children (12 and under) and seniors (62 and over) are $5.50. \nIn a nation where educating girls is rebellion\, a visionary woman sparks hope and opposition. Their courage ignites a movement that could transform their nation forever.
URL:https://bohmtheatre.org/event/rule-breakers/
LOCATION:Bohm II\, 203 S. Superior St\, Albion \, 49224
CATEGORIES:Featured - Bohm II,Movie
ATTACH;FMTTYPE=image/jpeg:https://bohmtheatre.org/wp-content/uploads/2025/03/Rule-Breakers-2025.jpg
END:VEVENT
BEGIN:VEVENT
DTSTART;VALUE=DATE:20250328
DTEND;VALUE=DATE:20250331
DTSTAMP:20260422T171253
CREATED:20250324T182528Z
LAST-MODIFIED:20250328T232223Z
UID:8566-1743120000-1743379199@bohmtheatre.org
SUMMARY:Novocaine
DESCRIPTION:Rated R | 1h 50m \nShowtimes: \n\nFri 7:15 PM (BOHM 2)\nSat 7:15 PM (BOHM 2)\nSun 3:15 PM (BOHM 2)\n\n \nTickets are $5.00 before 5:00 pm. At 5:00 pm and after adults are $6.50\, children (12 and under) and seniors (62 and over) are $5.50. \nWhen the girl of his dreams is kidnapped\, a man incapable of feeling physical pain turns his rare condition into an unexpected advantage in the fight to rescue her.
URL:https://bohmtheatre.org/event/novacaine/
LOCATION:Bohm II\, 203 S. Superior St\, Albion \, 49224
CATEGORIES:Featured - Bohm II,Movie
ATTACH;FMTTYPE=image/jpeg:https://bohmtheatre.org/wp-content/uploads/2025/03/Novacaine.jpeg
END:VEVENT
END:VCALENDAR