BEGIN:VCALENDAR
VERSION:2.0
PRODID:-//Bohm Theatre - ECPv5.16.0//NONSGML v1.0//EN
CALSCALE:GREGORIAN
METHOD:PUBLISH
X-ORIGINAL-URL:https://bohmtheatre.org
X-WR-CALDESC:Events for Bohm Theatre
REFRESH-INTERVAL;VALUE=DURATION:PT1H
X-Robots-Tag:noindex
X-PUBLISHED-TTL:PT1H
BEGIN:VTIMEZONE
TZID:America/Detroit
BEGIN:DAYLIGHT
TZOFFSETFROM:-0500
TZOFFSETTO:-0400
TZNAME:EDT
DTSTART:20260308T070000
END:DAYLIGHT
BEGIN:STANDARD
TZOFFSETFROM:-0400
TZOFFSETTO:-0500
TZNAME:EST
DTSTART:20261101T060000
END:STANDARD
END:VTIMEZONE
BEGIN:VEVENT
DTSTART;VALUE=DATE:20260102
DTEND;VALUE=DATE:20260105
DTSTAMP:20260420T001100
CREATED:20251226T172806Z
LAST-MODIFIED:20251229T203859Z
UID:11607-1767312000-1767571199@bohmtheatre.org
SUMMARY:ANACONDA
DESCRIPTION:Rated PG-13 | 1h 40m \n\nFri 7:15 PM\nSat 7:15 PM\nSun 3:15 PM\n\n \nTickets are $5.00 before 5:00 pm. At 5:00 pm and after adults are $6.50\, children (12 and under) and seniors (62 and over) are $5.50. \nBest friends Griff and Doug have always dreamed of remaking their all-time favorite movie “Anaconda.” When a midlife crisis pushes them to finally go for it\, they assemble a crew and head deep into the jungles of the Amazon to start filming. However\, life soon imitates art when a gigantic anaconda with a thirst for blood starts hunting them down.
URL:https://bohmtheatre.org/event/anaconda/
LOCATION:Bohm Theatre\, 201 S. Superior St\, Albion\, MI\, 49224\, United States
CATEGORIES:Featured - Bohm II,Movie
ATTACH;FMTTYPE=image/jpeg:https://bohmtheatre.org/wp-content/uploads/2025/12/Anaconda.jpg
END:VEVENT
BEGIN:VEVENT
DTSTART;VALUE=DATE:20260109
DTEND;VALUE=DATE:20260112
DTSTAMP:20260420T001100
CREATED:20260105T181215Z
LAST-MODIFIED:20260105T181335Z
UID:11626-1767916800-1768175999@bohmtheatre.org
SUMMARY:MARTY SUPREME
DESCRIPTION:Rated R | 2h 29m \n\nFri 7:15 PM\nSat 7:15 PM\nSun 3:15 PM\n\n \nTickets are $5.00 before 5:00 pm. At 5:00 pm and after adults are $6.50\, children (12 and under) and seniors (62 and over) are $5.50. \nMarty Mauser\, a young man with a dream no one respects\, goes to hell and back in pursuit of greatness.
URL:https://bohmtheatre.org/event/marty-supreme/
LOCATION:Bohm II\, 203 S. Superior St\, Albion \, 49224
CATEGORIES:Featured - Bohm II,Movie
ATTACH;FMTTYPE=image/png:https://bohmtheatre.org/wp-content/uploads/2026/01/Screenshot-2026-01-05-125753.png
END:VEVENT
BEGIN:VEVENT
DTSTART;VALUE=DATE:20260123
DTEND;VALUE=DATE:20260126
DTSTAMP:20260420T001100
CREATED:20260120T192205Z
LAST-MODIFIED:20260120T192205Z
UID:11687-1769126400-1769385599@bohmtheatre.org
SUMMARY:28 YEARS LATER: BONE TEMPLE
DESCRIPTION:Rated R | 1h 49m \n\nFri 7:15 PM\nSat 7:15 PM\nSun 3:15 PM\n\n \nTickets are $5.00 before 5:00 pm. At 5:00 pm and after adults are $6.50\, children (12 and under) and seniors (62 and over) are $5.50. \nAs Spike is inducted into Jimmy Crystal’s gang on the mainland\, Dr. Kelson makes a discovery that could alter the world.
URL:https://bohmtheatre.org/event/28-years-later-bone-temple/
LOCATION:Bohm II\, 203 S. Superior St\, Albion \, 49224
CATEGORIES:Featured - Bohm II,Movie
ATTACH;FMTTYPE=image/png:https://bohmtheatre.org/wp-content/uploads/2026/01/Screenshot-2025-12-15-131707.png
END:VEVENT
END:VCALENDAR