BEGIN:VCALENDAR
VERSION:2.0
PRODID:-//Bohm Theatre - ECPv5.16.0//NONSGML v1.0//EN
CALSCALE:GREGORIAN
METHOD:PUBLISH
X-ORIGINAL-URL:https://bohmtheatre.org
X-WR-CALDESC:Events for Bohm Theatre
REFRESH-INTERVAL;VALUE=DURATION:PT1H
X-Robots-Tag:noindex
X-PUBLISHED-TTL:PT1H
BEGIN:VTIMEZONE
TZID:America/Detroit
BEGIN:DAYLIGHT
TZOFFSETFROM:-0500
TZOFFSETTO:-0400
TZNAME:EDT
DTSTART:20230312T070000
END:DAYLIGHT
BEGIN:STANDARD
TZOFFSETFROM:-0400
TZOFFSETTO:-0500
TZNAME:EST
DTSTART:20231105T060000
END:STANDARD
END:VTIMEZONE
BEGIN:VEVENT
DTSTART;VALUE=DATE:20230708
DTEND;VALUE=DATE:20230709
DTSTAMP:20260424T054130
CREATED:20230608T173615Z
LAST-MODIFIED:20230703T170410Z
UID:4984-1688774400-1688860799@bohmtheatre.org
SUMMARY:The Lego Movie - Free Kids Film Series
DESCRIPTION:The Lego Movie\nJULY 8          11:00 AM\nPG                  1h 4om\nAn ordinary LEGO construction worker\, thought to be the prophesied as “special”\, is recruited to join a quest to stop an evil tyrant from gluing the LEGO universe into eternal stasis. \n  \nFree Kids Film Series is made possible by our generous sponsors:\nJohn and Jan Shedd \nDecker Manufacturing \nArt & Vivian Davis \nNancy & Dave Rousch \nKent Davis
URL:https://bohmtheatre.org/event/the-lego-movie-free-kids-film-series/
LOCATION:MI
CATEGORIES:Featured - Bohm II,Movie
ATTACH;FMTTYPE=image/jpeg:https://bohmtheatre.org/wp-content/uploads/2023/06/lego-movie.jpg
END:VEVENT
END:VCALENDAR