BEGIN:VCALENDAR
VERSION:2.0
PRODID:-//Bohm Theatre - ECPv5.16.0//NONSGML v1.0//EN
CALSCALE:GREGORIAN
METHOD:PUBLISH
X-ORIGINAL-URL:https://bohmtheatre.org
X-WR-CALDESC:Events for Bohm Theatre
REFRESH-INTERVAL;VALUE=DURATION:PT1H
X-Robots-Tag:noindex
X-PUBLISHED-TTL:PT1H
BEGIN:VTIMEZONE
TZID:America/Detroit
BEGIN:DAYLIGHT
TZOFFSETFROM:-0500
TZOFFSETTO:-0400
TZNAME:EDT
DTSTART:20230312T070000
END:DAYLIGHT
BEGIN:STANDARD
TZOFFSETFROM:-0400
TZOFFSETTO:-0500
TZNAME:EST
DTSTART:20231105T060000
END:STANDARD
END:VTIMEZONE
BEGIN:VEVENT
DTSTART;VALUE=DATE:20230727
DTEND;VALUE=DATE:20230731
DTSTAMP:20260424T030435
CREATED:20230725T170127Z
LAST-MODIFIED:20230725T170127Z
UID:5066-1690416000-1690761599@bohmtheatre.org
SUMMARY:Haunted Mansion
DESCRIPTION:Rated PG-13 | 2h 02m \nShowtimes: \n\nThu 7:00 PM\nFri 6:30 PM\nSat 6:30 PM\nSun 2:30 PM\n\n \nTickets are $5.00 before 5:00 pm. At 5:00 pm and after adults are $6.50\, children (12 and under) and seniors (62 and over) are $5.50. \n\nBarbie suffers a crisis that leads her to question her world and her existence.
URL:https://bohmtheatre.org/event/haunted-mansion/
LOCATION:Bohm II\, 203 S. Superior St\, Albion \, 49224
CATEGORIES:Featured - Bohm II,Movie
ATTACH;FMTTYPE=image/jpeg:https://bohmtheatre.org/wp-content/uploads/2023/06/Haunted-Mansion.jpg
END:VEVENT
END:VCALENDAR