BEGIN:VCALENDAR
VERSION:2.0
PRODID:-//Bohm Theatre - ECPv5.16.0//NONSGML v1.0//EN
CALSCALE:GREGORIAN
METHOD:PUBLISH
X-ORIGINAL-URL:https://bohmtheatre.org
X-WR-CALDESC:Events for Bohm Theatre
REFRESH-INTERVAL;VALUE=DURATION:PT1H
X-Robots-Tag:noindex
X-PUBLISHED-TTL:PT1H
BEGIN:VTIMEZONE
TZID:America/Detroit
BEGIN:DAYLIGHT
TZOFFSETFROM:-0500
TZOFFSETTO:-0400
TZNAME:EDT
DTSTART:20230312T070000
END:DAYLIGHT
BEGIN:STANDARD
TZOFFSETFROM:-0400
TZOFFSETTO:-0500
TZNAME:EST
DTSTART:20231105T060000
END:STANDARD
END:VTIMEZONE
BEGIN:VEVENT
DTSTART;VALUE=DATE:20231013
DTEND;VALUE=DATE:20231016
DTSTAMP:20260423T225820
CREATED:20230919T194352Z
LAST-MODIFIED:20231010T173443Z
UID:5180-1697155200-1697414399@bohmtheatre.org
SUMMARY:The Exorcist: Believer
DESCRIPTION:Rated R | 2h 1m \nShowtimes: \n\nFri 7:15 PM\nSat 7:15 PM\nSun 7:15 PM\n\n \nTickets are $5.00 before 5:00 pm. At 5:00 pm and after adults are $6.50\, children (12 and under) and seniors (62 and over) are $5.50. \n\nSequel to the 1973 film about a 12-year-old girl who is possessed by a mysterious demonic entity\, forcing her mother to seek the help of two priests to save her.
URL:https://bohmtheatre.org/event/the-exorcist-believer/
LOCATION:Bohm Theatre\, 201 S. Superior St\, Albion\, MI\, 49224\, United States
CATEGORIES:Featured - Bohm II,Movie
ATTACH;FMTTYPE=image/png:https://bohmtheatre.org/wp-content/uploads/2023/09/Screen-Shot-2023-09-13-at-2.52.21-PM.png
END:VEVENT
END:VCALENDAR