BEGIN:VCALENDAR
VERSION:2.0
PRODID:-//Bohm Theatre - ECPv5.16.0//NONSGML v1.0//EN
CALSCALE:GREGORIAN
METHOD:PUBLISH
X-ORIGINAL-URL:https://bohmtheatre.org
X-WR-CALDESC:Events for Bohm Theatre
REFRESH-INTERVAL;VALUE=DURATION:PT1H
X-Robots-Tag:noindex
X-PUBLISHED-TTL:PT1H
BEGIN:VTIMEZONE
TZID:America/Detroit
BEGIN:DAYLIGHT
TZOFFSETFROM:-0500
TZOFFSETTO:-0400
TZNAME:EDT
DTSTART:20250309T070000
END:DAYLIGHT
BEGIN:STANDARD
TZOFFSETFROM:-0400
TZOFFSETTO:-0500
TZNAME:EST
DTSTART:20251102T060000
END:STANDARD
END:VTIMEZONE
BEGIN:VEVENT
DTSTART;VALUE=DATE:20251025
DTEND;VALUE=DATE:20251026
DTSTAMP:20260422T074021
CREATED:20250826T210717Z
LAST-MODIFIED:20251020T180737Z
UID:10736-1761350400-1761436799@bohmtheatre.org
SUMMARY:Monster House
DESCRIPTION:ONE DOLLAR FILM SERIES\nMONSTER HOUSE\nOctober 25       11:00 AM        $1.00\nPG                 1h 31m\nThree teens discover that their neighbor’s house is really a living\, breathing\, scary monster.
URL:https://bohmtheatre.org/event/monster-house/
LOCATION:Bohm Theatre\, 201 S. Superior St\, Albion\, MI\, 49224\, United States
CATEGORIES:Featured - Bohm II,Movie
ATTACH;FMTTYPE=image/jpeg:https://bohmtheatre.org/wp-content/uploads/2025/08/monsterHouse.jpg
END:VEVENT
END:VCALENDAR