BEGIN:VCALENDAR
VERSION:2.0
PRODID:-//Bohm Theatre - ECPv5.16.0//NONSGML v1.0//EN
CALSCALE:GREGORIAN
METHOD:PUBLISH
X-WR-CALNAME:Bohm Theatre
X-ORIGINAL-URL:https://bohmtheatre.org
X-WR-CALDESC:Events for Bohm Theatre
REFRESH-INTERVAL;VALUE=DURATION:PT1H
X-Robots-Tag:noindex
X-PUBLISHED-TTL:PT1H
BEGIN:VTIMEZONE
TZID:America/Detroit
BEGIN:DAYLIGHT
TZOFFSETFROM:-0500
TZOFFSETTO:-0400
TZNAME:EDT
DTSTART:20230312T070000
END:DAYLIGHT
BEGIN:STANDARD
TZOFFSETFROM:-0400
TZOFFSETTO:-0500
TZNAME:EST
DTSTART:20231105T060000
END:STANDARD
END:VTIMEZONE
BEGIN:VEVENT
DTSTART;VALUE=DATE:20230629
DTEND;VALUE=DATE:20230703
DTSTAMP:20260423T163655
CREATED:20230613T225504Z
LAST-MODIFIED:20230627T210129Z
UID:5017-1687996800-1688342399@bohmtheatre.org
SUMMARY:Indiana Jones and the Dial of Destiny
DESCRIPTION:Rated PG-13 | 2h 34m \nShowtimes: \n\nThu 7:00 PM\nFri 7:00 PM\nSat 7:00 PM\nSun 3:00 PM\n\n \nTickets are $5.00 before 5:00 pm. At 5:00 pm and after adults are $6.50\, children (12 and under) and seniors (62 and over) are $5.50. \n\nArchaeologist Indiana Jones races against time to retrieve a legendary artifact that can change the course of history.
URL:https://bohmtheatre.org/event/indiana-jones-and-the-dial-of-destiny/
LOCATION:Bohm Theatre\, 201 S. Superior St\, Albion\, MI\, 49224\, United States
CATEGORIES:Featured,Movie
ATTACH;FMTTYPE=image/jpeg:https://bohmtheatre.org/wp-content/uploads/2023/05/Iniana-Jones-Destiny.jpg
END:VEVENT
BEGIN:VEVENT
DTSTART;VALUE=DATE:20230707
DTEND;VALUE=DATE:20230710
DTSTAMP:20260423T163655
CREATED:20230701T210500Z
LAST-MODIFIED:20230703T170244Z
UID:5031-1688688000-1688947199@bohmtheatre.org
SUMMARY:Indiana Jones and the Dial of Destiny
DESCRIPTION:Rated PG-13 | 2h 34m \nShowtimes: \n\nFri 7:00 PM\nSat 7:00 PM\nSun 3:00 PM\n\n \nTickets are $5.00 before 5:00 pm. At 5:00 pm and after adults are $6.50\, children (12 and under) and seniors (62 and over) are $5.50. \n\nArchaeologist Indiana Jones races against time to retrieve a legendary artifact that can change the course of history.
URL:https://bohmtheatre.org/event/indiana-jones-and-the-dial-of-destiny-2/
LOCATION:Bohm Theatre\, 201 S. Superior St\, Albion\, MI\, 49224\, United States
CATEGORIES:Featured,Movie
ATTACH;FMTTYPE=image/jpeg:https://bohmtheatre.org/wp-content/uploads/2023/05/Iniana-Jones-Destiny.jpg
END:VEVENT
BEGIN:VEVENT
DTSTART;VALUE=DATE:20230712
DTEND;VALUE=DATE:20230717
DTSTAMP:20260423T163655
CREATED:20230711T200320Z
LAST-MODIFIED:20230711T200851Z
UID:5038-1689120000-1689551999@bohmtheatre.org
SUMMARY:Mission: Impossible Dead Reckoning Part 1
DESCRIPTION:Rated PG-13 | 2h 43m \nShowtimes: \n\nWed 7:00 PM\nThu 7:00 PM\nFri 7:00 PM\nSat 7:00 PM\nSun 3:00 PM\n\n \nTickets are $5.00 before 5:00 pm. At 5:00 pm and after adults are $6.50\, children (12 and under) and seniors (62 and over) are $5.50. \n\nEthan Hunt and his IMF team must track down a dangerous weapon before it falls into the wrong hands.
URL:https://bohmtheatre.org/event/mission-impossible-dead-reckoning-part-1/
LOCATION:Bohm Theatre\, 201 S. Superior St\, Albion\, MI\, 49224\, United States
CATEGORIES:Featured,Movie
END:VEVENT
BEGIN:VEVENT
DTSTART;VALUE=DATE:20230721
DTEND;VALUE=DATE:20230724
DTSTAMP:20260423T163655
CREATED:20230717T185239Z
LAST-MODIFIED:20230717T185239Z
UID:5056-1689897600-1690156799@bohmtheatre.org
SUMMARY:Barbie
DESCRIPTION:Rated PG-13 | 1h 54m \nShowtimes: \n\nFri 7:00 PM\nSat 7:00 PM\nSun 3:00 PM\n\n \nTickets are $5.00 before 5:00 pm. At 5:00 pm and after adults are $6.50\, children (12 and under) and seniors (62 and over) are $5.50. \n\nBarbie suffers a crisis that leads her to question her world and her existence.
URL:https://bohmtheatre.org/event/barbie/
LOCATION:Bohm Theatre\, 201 S. Superior St\, Albion\, MI\, 49224\, United States
CATEGORIES:Featured,Movie
ATTACH;FMTTYPE=image/webp:https://bohmtheatre.org/wp-content/uploads/2023/07/Babrie.webp
END:VEVENT
BEGIN:VEVENT
DTSTART;VALUE=DATE:20230727
DTEND;VALUE=DATE:20230731
DTSTAMP:20260423T163655
CREATED:20230725T165846Z
LAST-MODIFIED:20230725T165846Z
UID:5064-1690416000-1690761599@bohmtheatre.org
SUMMARY:Barbie
DESCRIPTION:Rated PG-13 | 1h 54m \nShowtimes: \n\nThu 6:30 PM\nFri 7:00 PM\nSat 7:00 PM\nSun 3:00 PM\n\n \nTickets are $5.00 before 5:00 pm. At 5:00 pm and after adults are $6.50\, children (12 and under) and seniors (62 and over) are $5.50. \n\nBarbie suffers a crisis that leads her to question her world and her existence.
URL:https://bohmtheatre.org/event/barbie-2/
LOCATION:Bohm Theatre\, 201 S. Superior St\, Albion\, MI\, 49224\, United States
CATEGORIES:Featured,Movie
ATTACH;FMTTYPE=image/webp:https://bohmtheatre.org/wp-content/uploads/2023/07/Babrie.webp
END:VEVENT
END:VCALENDAR