BEGIN:VCALENDAR
VERSION:2.0
PRODID:-//Bohm Theatre - ECPv5.16.0//NONSGML v1.0//EN
CALSCALE:GREGORIAN
METHOD:PUBLISH
X-ORIGINAL-URL:https://bohmtheatre.org
X-WR-CALDESC:Events for Bohm Theatre
REFRESH-INTERVAL;VALUE=DURATION:PT1H
X-Robots-Tag:noindex
X-PUBLISHED-TTL:PT1H
BEGIN:VTIMEZONE
TZID:America/Detroit
BEGIN:DAYLIGHT
TZOFFSETFROM:-0500
TZOFFSETTO:-0400
TZNAME:EDT
DTSTART:20240310T070000
END:DAYLIGHT
BEGIN:STANDARD
TZOFFSETFROM:-0400
TZOFFSETTO:-0500
TZNAME:EST
DTSTART:20241103T060000
END:STANDARD
END:VTIMEZONE
BEGIN:VEVENT
DTSTART;VALUE=DATE:20240802
DTEND;VALUE=DATE:20240805
DTSTAMP:20260422T200812
CREATED:20240611T212133Z
LAST-MODIFIED:20240729T175734Z
UID:5614-1722556800-1722815999@bohmtheatre.org
SUMMARY:Deadpool & Wolverine
DESCRIPTION:Rated R | 2h 07m \nShowtimes: \n\nFri 7:00 PM\nSat 7:00 PM\nSun 3:00 PM\n\n \nTickets are $5.00 before 5:00 pm. At 5:00 pm and after adults are $6.50\, children (12 and under) and seniors (62 and over) are $5.50. \n\nWolverine is recovering from his injuries when he crosses paths with the loudmouth Deadpool. They team up to defeat a common enemy.
URL:https://bohmtheatre.org/event/deadpool-wolverine/
LOCATION:Bohm Theatre\, 201 S. Superior St\, Albion\, MI\, 49224\, United States
CATEGORIES:Featured,Movie
ATTACH;FMTTYPE=image/jpeg:https://bohmtheatre.org/wp-content/uploads/2024/06/DPW.jpg
END:VEVENT
BEGIN:VEVENT
DTSTART;VALUE=DATE:20240809
DTEND;VALUE=DATE:20240812
DTSTAMP:20260422T200812
CREATED:20240805T233749Z
LAST-MODIFIED:20240805T233810Z
UID:5690-1723161600-1723420799@bohmtheatre.org
SUMMARY:Borderlands
DESCRIPTION:Rated PG-13 | 1h 42m \nShowtimes: \n\nFri 7:00 PM\nSat 7:00 PM\nSun 3:00 PM\n\n \nTickets are $5.00 before 5:00 pm. At 5:00 pm and after adults are $6.50\, children (12 and under) and seniors (62 and over) are $5.50. \n\nBased on the best-selling videogame\, this all-star action-adventure follows a ragtag team of misfits on a mission to save a missing girl who holds the key to unimaginable power.
URL:https://bohmtheatre.org/event/borderlands/
LOCATION:Bohm Theatre\, 201 S. Superior St\, Albion\, MI\, 49224\, United States
CATEGORIES:Featured,Movie
ATTACH;FMTTYPE=image/jpeg:https://bohmtheatre.org/wp-content/uploads/2024/08/Borderlands.jpeg
END:VEVENT
BEGIN:VEVENT
DTSTART;VALUE=DATE:20240816
DTEND;VALUE=DATE:20240819
DTSTAMP:20260422T200812
CREATED:20240812T203329Z
LAST-MODIFIED:20240812T203329Z
UID:5726-1723766400-1724025599@bohmtheatre.org
SUMMARY:ALIEN ROMULUS
DESCRIPTION:Rated R | 1h 59m \nShowtimes: \n\nFri 7:00 PM\nSat 7:00 PM\nSun 3:00 PM\n\n \nTickets are $5.00 before 5:00 pm. At 5:00 pm and after adults are $6.50\, children (12 and under) and seniors (62 and over) are $5.50. \n\nWhile scavenging the deep ends of a derelict space station\, a group of young space colonizers come face to face with the most terrifying life form in the universe.
URL:https://bohmtheatre.org/event/alien-romulus/
LOCATION:Bohm Theatre\, 201 S. Superior St\, Albion\, MI\, 49224\, United States
CATEGORIES:Featured,Movie
ATTACH;FMTTYPE=image/jpeg:https://bohmtheatre.org/wp-content/uploads/2024/08/alien-romulus.jpeg
END:VEVENT
BEGIN:VEVENT
DTSTART;VALUE=DATE:20240830
DTEND;VALUE=DATE:20240902
DTSTAMP:20260422T200812
CREATED:20240826T192222Z
LAST-MODIFIED:20240826T192222Z
UID:5739-1724976000-1725235199@bohmtheatre.org
SUMMARY:afrAId
DESCRIPTION:Rated PG-13 | 2h 10m \nShowtimes: \n\nFri 7:00 PM\nSat 7:00 PM\nSun 3:00 PM\n\n \nTickets are $5.00 before 5:00 pm. At 5:00 pm and after adults are $6.50\, children (12 and under) and seniors (62 and over) are $5.50. \n\nThe Curtis’ family is selected to test a new home device: a digital assistant called AIA. AIA learns the family’s behaviors and begins to anticipate their needs. And she can make sure nothing – and no one – gets in her family’s way.
URL:https://bohmtheatre.org/event/afraid/
LOCATION:MI
CATEGORIES:Featured,Movie
ATTACH;FMTTYPE=image/jpeg:https://bohmtheatre.org/wp-content/uploads/2024/08/afrAId.jpg
END:VEVENT
END:VCALENDAR