BEGIN:VCALENDAR
VERSION:2.0
PRODID:-//Bohm Theatre - ECPv5.16.0//NONSGML v1.0//EN
CALSCALE:GREGORIAN
METHOD:PUBLISH
X-WR-CALNAME:Bohm Theatre
X-ORIGINAL-URL:https://bohmtheatre.org
X-WR-CALDESC:Events for Bohm Theatre
REFRESH-INTERVAL;VALUE=DURATION:PT1H
X-Robots-Tag:noindex
X-PUBLISHED-TTL:PT1H
BEGIN:VTIMEZONE
TZID:America/Detroit
BEGIN:DAYLIGHT
TZOFFSETFROM:-0500
TZOFFSETTO:-0400
TZNAME:EDT
DTSTART:20250309T070000
END:DAYLIGHT
BEGIN:STANDARD
TZOFFSETFROM:-0400
TZOFFSETTO:-0500
TZNAME:EST
DTSTART:20251102T060000
END:STANDARD
END:VTIMEZONE
BEGIN:VEVENT
DTSTART;VALUE=DATE:20250131
DTEND;VALUE=DATE:20250203
DTSTAMP:20260422T110105
CREATED:20250127T174450Z
LAST-MODIFIED:20250127T174450Z
UID:8226-1738281600-1738540799@bohmtheatre.org
SUMMARY:Dog Man
DESCRIPTION:Rated PG | 1h 29m \nShowtimes: \n\nFri 7:00 PM (BOHM 1)\nSat 7:00 PM (BOHM 1)\nSun 3:00 PM (BOHM 1)\n\n \nTickets are $5.00 before 5:00 pm. At 5:00 pm and after adults are $6.50\, children (12 and under) and seniors (62 and over) are $5.50. \nDog Man\, half dog and half man\, he is sworn to protect and serve as he doggedly pursues the feline supervillain Petey the Cat.
URL:https://bohmtheatre.org/event/dog-man/
LOCATION:Bohm Theatre\, 201 S. Superior St\, Albion\, MI\, 49224\, United States
CATEGORIES:Featured,Movie
ATTACH;FMTTYPE=image/jpeg:https://bohmtheatre.org/wp-content/uploads/2025/01/Dog-Man.jpg
END:VEVENT
BEGIN:VEVENT
DTSTART;VALUE=DATE:20250207
DTEND;VALUE=DATE:20250210
DTSTAMP:20260422T110105
CREATED:20250203T184841Z
LAST-MODIFIED:20250203T184841Z
UID:8277-1738886400-1739145599@bohmtheatre.org
SUMMARY:Dog Man
DESCRIPTION:Rated PG | 1h 29m \nShowtimes: \n\nFri 8:00 PM (BOHM 1)\nSat 7:00 PM (BOHM 1)\nSun 3:00 PM (BOHM 1)\n\n \nTickets are $5.00 before 5:00 pm. At 5:00 pm and after adults are $6.50\, children (12 and under) and seniors (62 and over) are $5.50. \nDog Man\, half dog and half man\, he is sworn to protect and serve as he doggedly pursues the feline supervillain Petey the Cat.
URL:https://bohmtheatre.org/event/dog-man-2/
LOCATION:Bohm Theatre\, 201 S. Superior St\, Albion\, MI\, 49224\, United States
CATEGORIES:Featured,Movie
ATTACH;FMTTYPE=image/jpeg:https://bohmtheatre.org/wp-content/uploads/2025/01/Dog-Man.jpg
END:VEVENT
BEGIN:VEVENT
DTSTART;VALUE=DATE:20250214
DTEND;VALUE=DATE:20250217
DTSTAMP:20260422T110105
CREATED:20250208T183138Z
LAST-MODIFIED:20250210T192028Z
UID:8293-1739491200-1739750399@bohmtheatre.org
SUMMARY:Captain America: Brave New World
DESCRIPTION:Rated PG-13 | 1h 58m \nShowtimes: \n\nFri 7:00 PM (BOHM 1)\nSat 7:00 PM (BOHM 1)\nSun 3:00 PM (BOHM 1)\n\n \nTickets are $5.00 before 5:00 pm. At 5:00 pm and after adults are $6.50\, children (12 and under) and seniors (62 and over) are $5.50. \nSam finds himself in the middle of an international incident after meeting with President Thaddeus Ross. He must soon discover the reason behind a nefarious global plot before the true mastermind has the entire world seeing red.
URL:https://bohmtheatre.org/event/captain-america-brave-new-world/
LOCATION:Bohm Theatre\, 201 S. Superior St\, Albion\, MI\, 49224\, United States
CATEGORIES:Featured,Movie
ATTACH;FMTTYPE=image/jpeg:https://bohmtheatre.org/wp-content/uploads/2025/02/CapBNW2.jpg
END:VEVENT
BEGIN:VEVENT
DTSTART;VALUE=DATE:20250221
DTEND;VALUE=DATE:20250224
DTSTAMP:20260422T110105
CREATED:20250208T183521Z
LAST-MODIFIED:20250217T191426Z
UID:8299-1740096000-1740355199@bohmtheatre.org
SUMMARY:Captain America: Brave New World
DESCRIPTION:Rated PG-13 | 1h 58m \nShowtimes: \n\nFri 7:00 PM (BOHM 1)\nSat 7:00 PM (BOHM 1)\nSun 3:00 PM (BOHM 1)\n\n \nTickets are $5.00 before 5:00 pm. At 5:00 pm and after adults are $6.50\, children (12 and under) and seniors (62 and over) are $5.50. \nSam finds himself in the middle of an international incident after meeting with President Thaddeus Ross. He must soon discover the reason behind a nefarious global plot before the true mastermind has the entire world seeing red.
URL:https://bohmtheatre.org/event/captain-america-brave-new-world-2/
LOCATION:Bohm Theatre\, 201 S. Superior St\, Albion\, MI\, 49224\, United States
CATEGORIES:Featured,Movie
ATTACH;FMTTYPE=image/jpeg:https://bohmtheatre.org/wp-content/uploads/2025/02/CapBNW2.jpg
END:VEVENT
BEGIN:VEVENT
DTSTART;VALUE=DATE:20250228
DTEND;VALUE=DATE:20250303
DTSTAMP:20260422T110105
CREATED:20250224T214755Z
LAST-MODIFIED:20250227T205957Z
UID:8402-1740700800-1740959999@bohmtheatre.org
SUMMARY:Becoming Led Zeppelin
DESCRIPTION:Rated PG-13 | 2h 17m \nShowtimes: \n\nFri 7:00 PM (BOHM 1)\nSat 7:00 PM (BOHM 1)\nSun 3:00 PM (BOHM 1)\n\n \nTickets are $5.00 before 5:00 pm. At 5:00 pm and after adults are $6.50\, children (12 and under) and seniors (62 and over) are $5.50. \nThe film traces the journeys of the four members of the Stairway To Heaven rockers through the music scene of the 1960s and their meeting in the summer of 1968\, culminating in 1970.
URL:https://bohmtheatre.org/event/8402/
LOCATION:Bohm Theatre\, 201 S. Superior St\, Albion\, MI\, 49224\, United States
CATEGORIES:Featured,Movie
ATTACH;FMTTYPE=image/jpeg:https://bohmtheatre.org/wp-content/uploads/2025/02/zeppy.jpeg
END:VEVENT
END:VCALENDAR