BEGIN:VCALENDAR
VERSION:2.0
PRODID:-//Bohm Theatre - ECPv5.16.0//NONSGML v1.0//EN
CALSCALE:GREGORIAN
METHOD:PUBLISH
X-WR-CALNAME:Bohm Theatre
X-ORIGINAL-URL:https://bohmtheatre.org
X-WR-CALDESC:Events for Bohm Theatre
REFRESH-INTERVAL;VALUE=DURATION:PT1H
X-Robots-Tag:noindex
X-PUBLISHED-TTL:PT1H
BEGIN:VTIMEZONE
TZID:America/Detroit
BEGIN:DAYLIGHT
TZOFFSETFROM:-0500
TZOFFSETTO:-0400
TZNAME:EDT
DTSTART:20230312T070000
END:DAYLIGHT
BEGIN:STANDARD
TZOFFSETFROM:-0400
TZOFFSETTO:-0500
TZNAME:EST
DTSTART:20231105T060000
END:STANDARD
END:VTIMEZONE
BEGIN:VEVENT
DTSTART;VALUE=DATE:20230303
DTEND;VALUE=DATE:20230306
DTSTAMP:20260424T001953
CREATED:20230221T190359Z
LAST-MODIFIED:20230301T184703Z
UID:4761-1677801600-1678060799@bohmtheatre.org
SUMMARY:Cocaine Bear
DESCRIPTION:Rated R | 1hr 35min \nShowtimes: \n\nFri 7:00 PM\nSat 7:00 PM\nSun 3:00 PM\n\n \nTickets are $5.00 before 5:00 pm. At 5:00 pm and after adults are $6.50\, children (12 and under) and seniors (62 and over) are $5.50. \n\nAn oddball group of cops\, criminals\, tourists\, and teens converges in a Georgia forest where a 500-pound black bear goes on a murderous rampage after unintentionally ingesting cocaine.
URL:https://bohmtheatre.org/event/cocaine-bear/
LOCATION:Bohm Theatre\, 201 S. Superior St\, Albion\, MI\, 49224\, United States
CATEGORIES:Featured,Movie
ATTACH;FMTTYPE=image/jpeg:https://bohmtheatre.org/wp-content/uploads/2023/02/MV5BNzlhY2NiNWItYTAyNS00YjhmLTgxNzgtZWNjMjQ4YmMyYmM4XkEyXkFqcGdeQXVyODk4OTc3MTY@._V1_.jpg
END:VEVENT
END:VCALENDAR