BEGIN:VCALENDAR
VERSION:2.0
PRODID:-//Bohm Theatre - ECPv5.16.0//NONSGML v1.0//EN
CALSCALE:GREGORIAN
METHOD:PUBLISH
X-ORIGINAL-URL:https://bohmtheatre.org
X-WR-CALDESC:Events for Bohm Theatre
REFRESH-INTERVAL;VALUE=DURATION:PT1H
X-Robots-Tag:noindex
X-PUBLISHED-TTL:PT1H
BEGIN:VTIMEZONE
TZID:America/Detroit
BEGIN:DAYLIGHT
TZOFFSETFROM:-0500
TZOFFSETTO:-0400
TZNAME:EDT
DTSTART:20230312T070000
END:DAYLIGHT
BEGIN:STANDARD
TZOFFSETFROM:-0400
TZOFFSETTO:-0500
TZNAME:EST
DTSTART:20231105T060000
END:STANDARD
END:VTIMEZONE
BEGIN:VEVENT
DTSTART;VALUE=DATE:20230623
DTEND;VALUE=DATE:20230626
DTSTAMP:20260423T190456
CREATED:20230613T225043Z
LAST-MODIFIED:20230620T161257Z
UID:5013-1687478400-1687737599@bohmtheatre.org
SUMMARY:The Flash
DESCRIPTION:Rated PG-13 | 2h 24m \nShowtimes: \n\nFri 7:00 PM\nSat 7:00 PM\nSun 2:30 PM\n\n \nTickets are $5.00 before 5:00 pm. At 5:00 pm and after adults are $6.50\, children (12 and under) and seniors (62 and over) are $5.50. \n\nBarry Allen uses his super speed to change the past\, but his attempt to save his family creates a world without super heroes\, forcing him to race for his life in order to save the future.
URL:https://bohmtheatre.org/event/the-flash-2/
LOCATION:Bohm Theatre\, 201 S. Superior St\, Albion\, MI\, 49224\, United States
CATEGORIES:Featured,Movie
ATTACH;FMTTYPE=image/jpeg:https://bohmtheatre.org/wp-content/uploads/2023/05/The-Flash-2023.jpg
END:VEVENT
END:VCALENDAR