BEGIN:VCALENDAR
VERSION:2.0
PRODID:-//Bohm Theatre - ECPv5.16.0//NONSGML v1.0//EN
CALSCALE:GREGORIAN
METHOD:PUBLISH
X-ORIGINAL-URL:https://bohmtheatre.org
X-WR-CALDESC:Events for Bohm Theatre
REFRESH-INTERVAL;VALUE=DURATION:PT1H
X-Robots-Tag:noindex
X-PUBLISHED-TTL:PT1H
BEGIN:VTIMEZONE
TZID:America/Detroit
BEGIN:DAYLIGHT
TZOFFSETFROM:-0500
TZOFFSETTO:-0400
TZNAME:EDT
DTSTART:20240310T070000
END:DAYLIGHT
BEGIN:STANDARD
TZOFFSETFROM:-0400
TZOFFSETTO:-0500
TZNAME:EST
DTSTART:20241103T060000
END:STANDARD
END:VTIMEZONE
BEGIN:VEVENT
DTSTART;TZID=America/Detroit:20240516T080000
DTEND;TZID=America/Detroit:20240519T170000
DTSTAMP:20260423T020850
CREATED:20240516T172249Z
LAST-MODIFIED:20240516T172315Z
UID:5560-1715846400-1716138000@bohmtheatre.org
SUMMARY:DEAR CAMP - ACT II COMMUNITY THEATER
DESCRIPTION:ACT II COMMUNITY THEATER\npresents\n\nMay 16     7:00 PM \nMay 17     7:00 PM \nMay 18     7:00PM \nMay 19     2:00 PM \nTICKETS AVAILABLE HERE \n  \nACT II Community Theatre proudly presents a Comedy:\n“Dear Camp”\nBy Lisa MacDonald \nHildy\, a recently widowed woman\, arrives at her late husband’s beloved hunting camp to prepare the cabin and property for sale. She finds his camp journal and is later joined by three friends\, who are supposed to be there to help with the clean-up for sale. \nBetween hilarious and poignant moments\, secrets\, old wounds that are opened\, and new suspicions\, you have a recipe for hilarity\, calamity\, and cupcakes?\nPlace four women in a hunting camp with a full liquor cabinet\, shotgun\, and a blizzard. Shake well. What could possibly go wrong? \nThis is not your typical deer camp story. \nThe show stars an ensemble cast with four dynamic actresses: Lynn Schofield-Dahl\, Carson Scioletti\, Jen Finney\, and April Clawson. Mark Messer and Greg Reitsma fill out the remainder of the cast\, making this Tom McClure-directed play a hell of a show.
URL:https://bohmtheatre.org/event/dear-camp-act-ii-community-theater/
LOCATION:Bohm Theatre\, 201 S. Superior St\, Albion\, MI\, 49224\, United States
CATEGORIES:Featured,Theatre
ATTACH;FMTTYPE=image/jpeg:https://bohmtheatre.org/wp-content/uploads/2024/05/Dear-Camp.jpg
END:VEVENT
END:VCALENDAR