BEGIN:VCALENDAR
VERSION:2.0
PRODID:-//Bohm Theatre - ECPv5.16.0//NONSGML v1.0//EN
CALSCALE:GREGORIAN
METHOD:PUBLISH
X-ORIGINAL-URL:https://bohmtheatre.org
X-WR-CALDESC:Events for Bohm Theatre
REFRESH-INTERVAL;VALUE=DURATION:PT1H
X-Robots-Tag:noindex
X-PUBLISHED-TTL:PT1H
BEGIN:VTIMEZONE
TZID:America/Detroit
BEGIN:DAYLIGHT
TZOFFSETFROM:-0500
TZOFFSETTO:-0400
TZNAME:EDT
DTSTART:20250309T070000
END:DAYLIGHT
BEGIN:STANDARD
TZOFFSETFROM:-0400
TZOFFSETTO:-0500
TZNAME:EST
DTSTART:20251102T060000
END:STANDARD
END:VTIMEZONE
BEGIN:VEVENT
DTSTART;VALUE=DATE:20250307
DTEND;VALUE=DATE:20250310
DTSTAMP:20260422T110518
CREATED:20250303T210058Z
LAST-MODIFIED:20250303T210117Z
UID:8449-1741305600-1741564799@bohmtheatre.org
SUMMARY:MICKEY 17
DESCRIPTION:Rated R | 2h 17m \nShowtimes: \n\nFri 7:00 PM (BOHM 1)\nSat 7:00 PM (BOHM 1)\nSun 3:00 PM (BOHM 1)\n\n \nTickets are $5.00 before 5:00 pm. At 5:00 pm and after adults are $6.50\, children (12 and under) and seniors (62 and over) are $5.50. \nA disposable employee is sent on a human expedition to colonize the ice world Niflheim. After one iteration dies\, a new body is regenerated with most of his memories intact.
URL:https://bohmtheatre.org/event/mickey-17/
LOCATION:MI
CATEGORIES:Featured,Movie
ATTACH;FMTTYPE=image/png:https://bohmtheatre.org/wp-content/uploads/2025/03/Screenshot-2025-03-03-160042.png
END:VEVENT
END:VCALENDAR