BEGIN:VCALENDAR
VERSION:2.0
PRODID:-//Bohm Theatre - ECPv5.16.0//NONSGML v1.0//EN
CALSCALE:GREGORIAN
METHOD:PUBLISH
X-WR-CALNAME:Bohm Theatre
X-ORIGINAL-URL:https://bohmtheatre.org
X-WR-CALDESC:Events for Bohm Theatre
REFRESH-INTERVAL;VALUE=DURATION:PT1H
X-Robots-Tag:noindex
X-PUBLISHED-TTL:PT1H
BEGIN:VTIMEZONE
TZID:America/Detroit
BEGIN:DAYLIGHT
TZOFFSETFROM:-0500
TZOFFSETTO:-0400
TZNAME:EDT
DTSTART:20250309T070000
END:DAYLIGHT
BEGIN:STANDARD
TZOFFSETFROM:-0400
TZOFFSETTO:-0500
TZNAME:EST
DTSTART:20251102T060000
END:STANDARD
END:VTIMEZONE
BEGIN:VEVENT
DTSTART;VALUE=DATE:20251212
DTEND;VALUE=DATE:20251215
DTSTAMP:20260419T191024
CREATED:20251208T181025Z
LAST-MODIFIED:20251208T181130Z
UID:11552-1765497600-1765756799@bohmtheatre.org
SUMMARY:Ella McCay
DESCRIPTION:Rated PG-13 | 1h 55m \n\nFri 7:00 PM\nSat 7:00 PM\nSun 3:00 PM\n\n \nTickets are $5.00 before 5:00 pm. At 5:00 pm and after adults are $6.50\, children (12 and under) and seniors (62 and over) are $5.50. \n20th Century Studios’ “Ella McCay” is a new comedy written and directed by Oscar® and Emmy Award® winner James L. Brooks (“As Good as It Gets\,” “Terms of Endearment\,” “Broadcast News\,” “The Simpsons”) about the complicated politics that arise when a young woman’s stressful career clashes with her chaotic family life.
URL:https://bohmtheatre.org/event/ella-mccay/
LOCATION:Bohm Theatre\, 201 S. Superior St\, Albion\, MI\, 49224\, United States
CATEGORIES:Featured,Movie
ATTACH;FMTTYPE=image/jpeg:https://bohmtheatre.org/wp-content/uploads/2025/12/ellamccay-scaled.jpg
END:VEVENT
END:VCALENDAR