BEGIN:VCALENDAR
VERSION:2.0
PRODID:-//Bohm Theatre - ECPv5.16.0//NONSGML v1.0//EN
CALSCALE:GREGORIAN
METHOD:PUBLISH
X-WR-CALNAME:Bohm Theatre
X-ORIGINAL-URL:https://bohmtheatre.org
X-WR-CALDESC:Events for Bohm Theatre
REFRESH-INTERVAL;VALUE=DURATION:PT1H
X-Robots-Tag:noindex
X-PUBLISHED-TTL:PT1H
BEGIN:VTIMEZONE
TZID:America/Detroit
BEGIN:DAYLIGHT
TZOFFSETFROM:-0500
TZOFFSETTO:-0400
TZNAME:EDT
DTSTART:20200308T070000
END:DAYLIGHT
BEGIN:STANDARD
TZOFFSETFROM:-0400
TZOFFSETTO:-0500
TZNAME:EST
DTSTART:20201101T060000
END:STANDARD
BEGIN:DAYLIGHT
TZOFFSETFROM:-0500
TZOFFSETTO:-0400
TZNAME:EDT
DTSTART:20210314T070000
END:DAYLIGHT
BEGIN:STANDARD
TZOFFSETFROM:-0400
TZOFFSETTO:-0500
TZNAME:EST
DTSTART:20211107T060000
END:STANDARD
END:VTIMEZONE
BEGIN:VEVENT
DTSTART;VALUE=DATE:20211210
DTEND;VALUE=DATE:20211213
DTSTAMP:20260422T061402
CREATED:20211207T191345Z
LAST-MODIFIED:20211207T191345Z
UID:4256-1639094400-1639353599@bohmtheatre.org
SUMMARY:Ghostbusters: Afterlife
DESCRIPTION:Rated PG-13| 2hr 04min \nShowtimes: \n\nFri 7:00 PM\nSat 7:00 PM\nSun 3:00 PM\n\n \nTickets are $5.00 before 5:00 pm. At 5:00 pm and after adults are $6.50\, children (12 and under) and seniors (62 and over) are $5.50. \n\nWhen a single mom and her two kids arrive in a small town\, they begin to discover their connection to the original Ghostbusters and the secret legacy their grandfather left behind.
URL:https://bohmtheatre.org/event/ghostbusters-afterlife/
LOCATION:Bohm Theatre\, 201 S. Superior St\, Albion\, MI\, 49224\, United States
CATEGORIES:Featured,Movie
ATTACH;FMTTYPE=image/jpeg:https://bohmtheatre.org/wp-content/uploads/2021/12/GBA.jpg
END:VEVENT
BEGIN:VEVENT
DTSTART;VALUE=DATE:20211124
DTEND;VALUE=DATE:20211206
DTSTAMP:20260422T061402
CREATED:20211122T235411Z
LAST-MODIFIED:20211129T164240Z
UID:4209-1637712000-1638748799@bohmtheatre.org
SUMMARY:Encanto
DESCRIPTION:Rated PG| 1hr 39min \nShowtimes: \n\nFri 7:00 PM\nSat 7:00 PM\nSun 3:00 PM\n\n \nTickets are $5.00 before 5:00 pm. At 5:00 pm and after adults are $6.50\, children (12 and under) and seniors (62 and over) are $5.50. \n\nA young Colombian girl has to face the frustration of being the only member of her family without magical powers.
URL:https://bohmtheatre.org/event/encanto/
LOCATION:Bohm Theatre\, 201 S. Superior St\, Albion\, MI\, 49224\, United States
CATEGORIES:Featured,Movie
ATTACH;FMTTYPE=image/jpeg:https://bohmtheatre.org/wp-content/uploads/2021/11/ENCANT0.jpg
END:VEVENT
BEGIN:VEVENT
DTSTART;VALUE=DATE:20211119
DTEND;VALUE=DATE:20211122
DTSTAMP:20260422T061402
CREATED:20211101T180907Z
LAST-MODIFIED:20211116T204741Z
UID:4192-1637280000-1637539199@bohmtheatre.org
SUMMARY:Eternals
DESCRIPTION:Rated PG-13| 2hr 37min \nShowtimes: \n\nFri 7:00 PM\nSat 7:00 PM\nSun 3:00 PM\n\n \nTickets are $5.00 before 5:00 pm. At 5:00 pm and after adults are $6.50\, children (12 and under) and seniors (62 and over) are $5.50. \n\nThe latest installment from Marvel Studios. The saga of the Eternals\, a race of immortal beings who lived on Earth and shaped its history and civilizations.
URL:https://bohmtheatre.org/event/the-eternals/
LOCATION:Bohm Theatre\, 201 S. Superior St\, Albion\, MI\, 49224\, United States
CATEGORIES:Featured,Movie
ATTACH;FMTTYPE=image/jpeg:https://bohmtheatre.org/wp-content/uploads/2021/11/Eternals.jpg
END:VEVENT
BEGIN:VEVENT
DTSTART;VALUE=DATE:20211029
DTEND;VALUE=DATE:20211101
DTSTAMP:20260422T061402
CREATED:20211026T175104Z
LAST-MODIFIED:20211026T175104Z
UID:4185-1635465600-1635724799@bohmtheatre.org
SUMMARY:The Addams Family 2
DESCRIPTION:Rated PG| 1hr 33min \nShowtimes: \n\nFri 7:00 PM\nSat 7:00 PM\nSun 3:00 PM\n\n \nTickets are $5.00 before 5:00 pm. At 5:00 pm and after adults are $6.50\, children (12 and under) and seniors (62 and over) are $5.50. \n\nThe Addams get tangled up in more wacky adventures and find themselves involved in hilarious run-ins with all sorts of unsuspecting characters. Sequel to the 2019 animated film\, ‘The Addams Family.
URL:https://bohmtheatre.org/event/the-addams-family-2/
LOCATION:Bohm Theatre\, 201 S. Superior St\, Albion\, MI\, 49224\, United States
CATEGORIES:Featured,Movie
ATTACH;FMTTYPE=image/jpeg:https://bohmtheatre.org/wp-content/uploads/2021/10/AF2.jpg
END:VEVENT
BEGIN:VEVENT
DTSTART;VALUE=DATE:20211015
DTEND;VALUE=DATE:20211023
DTSTAMP:20260422T061402
CREATED:20211012T184010Z
LAST-MODIFIED:20211012T184010Z
UID:4177-1634256000-1634947199@bohmtheatre.org
SUMMARY:Halloween Kills
DESCRIPTION:Rated R| 1hr 46min \nShowtimes: \n\nFri 7:00 PM\nSat 7:00 PM\nSun 3:00 PM\n\n \nTickets are $5.00 before 5:00 pm. At 5:00 pm and after adults are $6.50\, children (12 and under) and seniors (62 and over) are $5.50. \n\nThe saga of Michael Myers and Laurie Strode continues in the next thrilling chapter of the Halloween series.
URL:https://bohmtheatre.org/event/halloween-kills/
LOCATION:Bohm Theatre\, 201 S. Superior St\, Albion\, MI\, 49224\, United States
CATEGORIES:Featured,Movie
ATTACH;FMTTYPE=image/jpeg:https://bohmtheatre.org/wp-content/uploads/2021/10/HK.jpg
END:VEVENT
BEGIN:VEVENT
DTSTART;VALUE=DATE:20211001
DTEND;VALUE=DATE:20211011
DTSTAMP:20260422T061402
CREATED:20210929T165149Z
LAST-MODIFIED:20211004T165202Z
UID:4162-1633046400-1633910399@bohmtheatre.org
SUMMARY:Venom: Let There Be Carnage
DESCRIPTION:Rated PG-13| 1hr 30min \nShowtimes: \n\nFri 7:00 PM\nSat 7:00 PM\nSun 5:00 PM\n\n \nTickets are $5.00 before 5:00 pm. At 5:00 pm and after adults are $6.50\, children (12 and under) and seniors (62 and over) are $5.50. \n\nTom Hardy returns to the big screen as the lethal protector Venom\, one of MARVEL’s greatest and most complex characters. Directed by Andy Serkis\, the film also stars Michelle Williams\, Naomie Harris and Woody Harrelson\, in the role of the villain Cletus Kasady/Carnage.
URL:https://bohmtheatre.org/event/venom-let-there-be-carnage/
LOCATION:Bohm Theatre\, 201 S. Superior St\, Albion\, MI\, 49224\, United States
CATEGORIES:Featured,Movie
ATTACH;FMTTYPE=image/jpeg:https://bohmtheatre.org/wp-content/uploads/2021/09/Venom.jpg
END:VEVENT
BEGIN:VEVENT
DTSTART;VALUE=DATE:20210924
DTEND;VALUE=DATE:20210927
DTSTAMP:20260422T061402
CREATED:20210921T181119Z
LAST-MODIFIED:20210921T181119Z
UID:4155-1632441600-1632700799@bohmtheatre.org
SUMMARY:Candyman
DESCRIPTION:Rated R| 1hr 31min \nShowtimes: \n\nFri 7:00 PM\nSat 7:00 PM\nSun 3:00 PM\n\n \nTickets are $5.00 before 5:00 pm. At 5:00 pm and after adults are $6.50\, children (12 and under) and seniors (62 and over) are $5.50. \n\nA sequel to the horror film Candyman (1992) that returns to the now-gentrified Chicago neighborhood where the legend began.
URL:https://bohmtheatre.org/event/candyman/
LOCATION:MI
CATEGORIES:Featured,Movie
ATTACH;FMTTYPE=image/jpeg:https://bohmtheatre.org/wp-content/uploads/2021/09/CM.jpg
END:VEVENT
BEGIN:VEVENT
DTSTART;VALUE=DATE:20210917
DTEND;VALUE=DATE:20210920
DTSTAMP:20260422T061402
CREATED:20210831T232142Z
LAST-MODIFIED:20210914T214744Z
UID:4139-1631836800-1632095999@bohmtheatre.org
SUMMARY:Shang-Chi and the Legend of the Ten Rings
DESCRIPTION:Rated PG-13| 2hr 12min \nShowtimes: \n\nFri 7:00 PM\nSat 7:00 PM\nSun 3:00 PM\n\n \nTickets are $5.00 before 5:00 pm. At 5:00 pm and after adults are $6.50\, children (12 and under) and seniors (62 and over) are $5.50. \n\nIn the latest installment of Marvel’s Cinematic Multiverse; Shang-Chi\, the master of unarmed weaponry-based Kung Fu\, is forced to confront his past after being drawn into the Ten Rings organization.
URL:https://bohmtheatre.org/event/shang-chi-and-the-legend-of-the-ten-rings/
LOCATION:Bohm Theatre\, 201 S. Superior St\, Albion\, MI\, 49224\, United States
CATEGORIES:Featured,Movie
ATTACH;FMTTYPE=image/jpeg:https://bohmtheatre.org/wp-content/uploads/2021/08/shang-chi.jpg
END:VEVENT
BEGIN:VEVENT
DTSTART;TZID=America/Detroit:20210827T080000
DTEND;TZID=America/Detroit:20210828T170000
DTSTAMP:20260422T061402
CREATED:20210825T001450Z
LAST-MODIFIED:20210825T001450Z
UID:4123-1630051200-1630170000@bohmtheatre.org
SUMMARY:The Suicide Squad
DESCRIPTION:Rated R| 2hr 12min \nShowtimes: \n\nFri 7:00 PM\nSat 7:00 PM\n\n \nTickets are $5.00 before 5:00 pm. At 5:00 pm and after adults are $6.50\, children (12 and under) and seniors (62 and over) are $5.50. \n\nSupervillains Harley Quinn\, Bloodsport\, Peacemaker and a collection of nutty cons at Belle Reve prison join the super-secret\, super-shady Task Force X as they are dropped off at the remote\, enemy-infused island of Corto Maltese.
URL:https://bohmtheatre.org/event/the-suicide-squad/
LOCATION:Bohm Theatre\, 201 S. Superior St\, Albion\, MI\, 49224\, United States
CATEGORIES:Featured,Movie
ATTACH;FMTTYPE=image/jpeg:https://bohmtheatre.org/wp-content/uploads/2021/08/TSS.jpg
END:VEVENT
BEGIN:VEVENT
DTSTART;VALUE=DATE:20210813
DTEND;VALUE=DATE:20210823
DTSTAMP:20260422T061402
CREATED:20210810T190549Z
LAST-MODIFIED:20210810T190549Z
UID:4113-1628812800-1629676799@bohmtheatre.org
SUMMARY:Free Guy
DESCRIPTION:Rated PG-13| 1hr 55min \nShowtimes: \n\nFri 7:00 PM\nSat 7:00 PM\nSun 3:00 PM\n\n \nTickets are $5.00 before 5:00 pm. At 5:00 pm and after adults are $6.50\, children (12 and under) and seniors (62 and over) are $5.50. \n\nA bank teller discovers that he’s actually an NPC inside a brutal\, open world video game.
URL:https://bohmtheatre.org/event/free-guy/
LOCATION:Bohm Theatre\, 201 S. Superior St\, Albion\, MI\, 49224\, United States
CATEGORIES:Featured,Movie
ATTACH;FMTTYPE=image/jpeg:https://bohmtheatre.org/wp-content/uploads/2021/08/FG.jpg
END:VEVENT
BEGIN:VEVENT
DTSTART;VALUE=DATE:20210730
DTEND;VALUE=DATE:20210809
DTSTAMP:20260422T061402
CREATED:20210726T181125Z
LAST-MODIFIED:20210726T181920Z
UID:4095-1627603200-1628467199@bohmtheatre.org
SUMMARY:Jungle Cruise
DESCRIPTION:Rated PG-13| 2hr 7min \nShowtimes: \n\nFri 7:00 PM\nSat 7:00 PM\nSun 3:00 PM\n\n \nTickets are $5.00 before 5:00 pm. At 5:00 pm and after adults are $6.50\, children (12 and under) and seniors (62 and over) are $5.50. \n\nBased on Disneyland’s theme park ride where a small riverboat takes a group of travelers through a jungle filled with dangerous animals and reptiles but with a supernatural element.
URL:https://bohmtheatre.org/event/jungle-cruise/
LOCATION:Bohm Theatre\, 201 S. Superior St\, Albion\, MI\, 49224\, United States
CATEGORIES:Featured,Movie
ATTACH;FMTTYPE=image/jpeg:https://bohmtheatre.org/wp-content/uploads/2021/07/JC.jpg
END:VEVENT
BEGIN:VEVENT
DTSTART;VALUE=DATE:20210723
DTEND;VALUE=DATE:20210726
DTSTAMP:20260422T061402
CREATED:20210628T184436Z
LAST-MODIFIED:20210721T153434Z
UID:4070-1626998400-1627257599@bohmtheatre.org
SUMMARY:Black Widow
DESCRIPTION:Rated PG-13| 2hr 13min \nShowtimes: \n\nFri 7:00 PM\nSat 7:00 PM\nSun 3:00 PM\n\n \nTickets are $5.00 before 5:00 pm. At 5:00 pm and after adults are $6.50\, children (12 and under) and seniors (62 and over) are $5.50. \n\nA film about Natasha Romanoff in her quests between the films Civil War and Infinity War.
URL:https://bohmtheatre.org/event/black-widow/
LOCATION:Bohm Theatre\, 201 S. Superior St\, Albion\, MI\, 49224\, United States
CATEGORIES:Featured,Movie
END:VEVENT
BEGIN:VEVENT
DTSTART;TZID=America/Detroit:20210607T190000
DTEND;TZID=America/Detroit:20210607T220000
DTSTAMP:20260422T061402
CREATED:20210523T023142Z
LAST-MODIFIED:20210523T025215Z
UID:4051-1623092400-1623103200@bohmtheatre.org
SUMMARY:James Reeser and the Backseat Drivers
DESCRIPTION:James Reeser and the Backseat Drivers \nJune 7 @7:00 PM \n  \nPlease join us for an evening of  fun while James Reeser and the backseat drivers bring us a night of great music! \n\nJames Reeser and the Backseat Drivers focuses on a variety of styles in first generation electric blues\, keeping it new while maintaining a traditional feel. \n  \n  \nAdmission: $10 | Tickets Here \nJammers Welcome Back to the stage — Complete Vaccinations required to sign up for Jam
URL:https://bohmtheatre.org/event/james-reeser-and-the-backseat-drivers/
LOCATION:Bohm Theatre\, 201 S. Superior St\, Albion\, MI\, 49224\, United States
CATEGORIES:Featured,Music
ATTACH;FMTTYPE=image/jpeg:https://bohmtheatre.org/wp-content/uploads/2021/05/reeser.jpg
END:VEVENT
BEGIN:VEVENT
DTSTART;TZID=America/Detroit:20210508T190000
DTEND;TZID=America/Detroit:20210508T210000
DTSTAMP:20260422T061402
CREATED:20210507T190921Z
LAST-MODIFIED:20210507T190921Z
UID:4041-1620500400-1620507600@bohmtheatre.org
SUMMARY:Word UP at The Bohm -- Mother's Day Show
DESCRIPTION:Word Up at the Bohm — Mother’s Day \nFeaturing SGE \nMay 8 @7:00 PM \nHosted by Ryan and Ladi Don of Ryan’s Room. \nWORD UP at the Bohm gives local Hip Hop\, R&B\, Soul artist and poets a platform to showcase their talent! We take pride in allowing artist to be creative and unforgiving in their craft. \nLimited seating is available and can be purchased online until the day before the show. Remaining tickets will be sold on a first come first serve basis at the door. \nAdmission: $10 | Tickets Here \nThink Albion. Think Music.
URL:https://bohmtheatre.org/event/word-up-at-the-bohm-mothers-day-show/
LOCATION:Bohm Theatre\, 201 S. Superior St\, Albion\, MI\, 49224\, United States
CATEGORIES:Featured,Music
ATTACH;FMTTYPE=image/jpeg:https://bohmtheatre.org/wp-content/uploads/2021/05/SGEWORDUP.jpg
END:VEVENT
BEGIN:VEVENT
DTSTART;TZID=America/Detroit:20210503T190000
DTEND;TZID=America/Detroit:20210503T213000
DTSTAMP:20260422T061402
CREATED:20210426T012752Z
LAST-MODIFIED:20210426T012752Z
UID:4036-1620068400-1620077400@bohmtheatre.org
SUMMARY:Blues at the Bohm with Blue Tuesday
DESCRIPTION:Blue Tuesday \nMay 3 @7:00 PM \n  \nPlease join us for an evening of music and fun while Blue Tuesday  bring us a night of smooth blues! \n  \n  \nAdmission: $10 | Tickets Here \nJammers Welcome Back to the stage — Complete Vaccinations required to sign up for Jam
URL:https://bohmtheatre.org/event/blues-at-the-bohm-with-blue-tuesday/
LOCATION:Bohm Theatre\, 201 S. Superior St\, Albion\, MI\, 49224\, United States
CATEGORIES:Featured,Music
ATTACH;FMTTYPE=image/jpeg:https://bohmtheatre.org/wp-content/uploads/2021/04/bluetues.jpg
END:VEVENT
BEGIN:VEVENT
DTSTART;TZID=America/Detroit:20210417T190000
DTEND;TZID=America/Detroit:20210417T203000
DTSTAMP:20260422T061402
CREATED:20210413T180743Z
LAST-MODIFIED:20210416T154246Z
UID:4025-1618686000-1618691400@bohmtheatre.org
SUMMARY:Bohm Country with Laditude
DESCRIPTION:Bohm Country  \nLaditude \nApril 17 @7:00 PM \n  \nGood Time Music – Classic Rock\, Country\, Blues & Oldies – Never heard a song we didn’t like… just not enough time to play them all! \n  \nAdmission: $10 | Tickets Here
URL:https://bohmtheatre.org/event/bohm-country-with-laditude/
LOCATION:Bohm Theatre\, 201 S. Superior St\, Albion\, MI\, 49224\, United States
CATEGORIES:Featured,Music
ATTACH;FMTTYPE=image/jpeg:https://bohmtheatre.org/wp-content/uploads/2021/04/laditude.jpg
END:VEVENT
BEGIN:VEVENT
DTSTART;TZID=America/Detroit:20210405T190000
DTEND;TZID=America/Detroit:20210405T210000
DTSTAMP:20260422T061402
CREATED:20210331T171537Z
LAST-MODIFIED:20210331T174928Z
UID:4014-1617649200-1617656400@bohmtheatre.org
SUMMARY:Blues at the Bohm with Harper and Midwest Kind
DESCRIPTION:Harper and Midwest Kind are back at The Bohm \nApril 5 @7:00 PM \n  \nPlease join us for an evening of music and fun while Harper and Midwest Kind  bring down the house \nthrough his creative use of the harmonica and the didgeridoo! \n  \nAdmission: $10 | Tickets Here \nJammers Welcome Back to the stage — Complete Vaccinations required to sign up for Jam
URL:https://bohmtheatre.org/event/blues-at-the-bohm-with-harper-and-midwest-kind/
LOCATION:Bohm Theatre\, 201 S. Superior St\, Albion\, MI\, 49224\, United States
CATEGORIES:Featured,Music
ATTACH;FMTTYPE=image/jpeg:https://bohmtheatre.org/wp-content/uploads/2019/03/Harper.jpg
END:VEVENT
BEGIN:VEVENT
DTSTART;TZID=America/Detroit:20210320T190000
DTEND;TZID=America/Detroit:20210320T210000
DTSTAMP:20260422T061402
CREATED:20210316T191443Z
LAST-MODIFIED:20210316T191641Z
UID:4004-1616266800-1616274000@bohmtheatre.org
SUMMARY:Bohm Country with Russ Kendrick Martin
DESCRIPTION:Russ Kendrick Martin\nRuss Kendrick Martin is a Michigan-based songwriter and performer with a ripped-from-the-headlines approach to his craft.\nHe has toured extensively with The Low-Budget Roadshow–a one-man performance that features a stripped down take on his original songs\, along with a fresh approach to storytelling.\nRuss is a seasoned entertainer\, singer and multi-instrumentalist who brings his songs to life on guitar\, piano\, harmonica and ukulele –He has performed on stages in the biggest music centers in the U.S.\, including Nashville\, TN\, Chicago\, IL and Athens\, Ga. His success as a songwriter is due\, in part\, to his years of working as a broadcast journalist at a small town radio station; Life as a reporter provided plenty of material for Martin’s character-driven story songs.\nA former welder\, carpenter\, farmhand and truck driver\, He also weaves the blue collar experience into his tunes. \nMarch 20   @ 7:00 PM \nAdmission: $10 | Tickets Here \nThink Albion. Think Music.
URL:https://bohmtheatre.org/event/bohm-country-with-russ-kendrick-martin/
LOCATION:Bohm Theatre\, 201 S. Superior St\, Albion\, MI\, 49224\, United States
CATEGORIES:Featured,Music
ATTACH;FMTTYPE=image/jpeg:https://bohmtheatre.org/wp-content/uploads/2021/03/rus.jpg
END:VEVENT
BEGIN:VEVENT
DTSTART;VALUE=DATE:20210313
DTEND;VALUE=DATE:20210314
DTSTAMP:20260422T061402
CREATED:20210310T201334Z
LAST-MODIFIED:20210310T201334Z
UID:3999-1615593600-1615679999@bohmtheatre.org
SUMMARY:Word UP at the Bohm -- Women's Appreciation Month
DESCRIPTION:Word Up at the Bohm — Women’s Appreciation Month \nMarch 13 @7:00 PM \nHosted by Ryan and Ladi Don of Ryan’s Room. \nWORD UP at the Bohm gives local Hip Hop\, R&B\, Soul artist and poets a platform to showcase their talent! We take pride in allowing artist to be creative and unforgiving in their craft. \nLimited seating is available and can be purchased online until the day before the show. Remaining tickets will be sold on a first come first serve basis at the door. \nAdmission: $10 | Tickets Here \nThink Albion. Think Music.
URL:https://bohmtheatre.org/event/word-up-at-the-bohm-womens-appreciation-month/
LOCATION:Bohm Theatre\, 201 S. Superior St\, Albion\, MI\, 49224\, United States
CATEGORIES:Featured,Music
ATTACH;FMTTYPE=image/jpeg:https://bohmtheatre.org/wp-content/uploads/2021/03/mar21d.jpg
END:VEVENT
BEGIN:VEVENT
DTSTART;TZID=America/Detroit:20210301T190000
DTEND;TZID=America/Detroit:20210301T220000
DTSTAMP:20260422T061402
CREATED:20210217T204140Z
LAST-MODIFIED:20210222T213244Z
UID:3988-1614625200-1614636000@bohmtheatre.org
SUMMARY:Blues at the Bohm Anniversary Show with Denise Davis and the Motor City Sensations
DESCRIPTION:Denise Davis And The Motor City Sensations host Blues at the Bohm \nMarch 1 @7:00 PM \n  \nBlues at the Bohm comes home.\nJoin us March first for our 6th anniversary Blues at the Bohm! Denise Davis And The Motor City Sensations own the stage as we welcome back our patrons for a socially safe and socially distanced in person concert. Limited seating is available and can be purchased online until the day before the show. Remaining tickets will be sold on a first come first serve basis at the door. \nAdmission: $20 | Tickets Here \nThink Albion. Think Music.
URL:https://bohmtheatre.org/event/blues-at-the-bohm-anniversary-show-with-denise-davis-and-the-motor-city-sensations/
LOCATION:Bohm Theatre\, 201 S. Superior St\, Albion\, MI\, 49224\, United States
CATEGORIES:Featured,Music
ATTACH;FMTTYPE=image/jpeg:https://bohmtheatre.org/wp-content/uploads/2021/02/denisedavis.jpg
END:VEVENT
BEGIN:VEVENT
DTSTART;TZID=America/Detroit:20210220T190000
DTEND;TZID=America/Detroit:20210220T220000
DTSTAMP:20260422T061402
CREATED:20210217T203626Z
LAST-MODIFIED:20210217T204159Z
UID:3989-1613847600-1613858400@bohmtheatre.org
SUMMARY:Bohm Country with The Jimmy Clay Band
DESCRIPTION:The Jimmy Clay Band to host Blues at the Bohm \nFebruary 20 @7:00 PM \n  \nBohm Country  comes home.\nAfter a long time away\, we’re happy to host the jam on our main stage once again. \nAdmission: $10 | Tickets Here \nThink Albion. Think Music.
URL:https://bohmtheatre.org/event/bohm-country-with-the-jimmy-clay-band/
LOCATION:Bohm Theatre\, 201 S. Superior St\, Albion\, MI\, 49224\, United States
CATEGORIES:Featured,Music
ATTACH;FMTTYPE=image/jpeg:https://bohmtheatre.org/wp-content/uploads/2021/02/jimmyclay.jpg
END:VEVENT
BEGIN:VEVENT
DTSTART;TZID=America/Detroit:20201211T080000
DTEND;TZID=America/Detroit:20210131T170000
DTSTAMP:20260422T061402
CREATED:20201211T152644Z
LAST-MODIFIED:20210104T222400Z
UID:3980-1607673600-1612112400@bohmtheatre.org
SUMMARY:Historic Bohm Private Rentals
DESCRIPTION:The Historic Bohm is now available for private rental’s for a Family/Social group of 10 or less for 2-hour time slots.  \nTime Slots are available from Thursday-Sunday at 1:00 PM\, 4:00 PM\, & 7:00 PM but must be made 24 hours in advance to allow for staffing. \nFamilies or groups can bring in their own movie to watch on the big screen\, bring gaming systems** to play on the big screen\, or access the Bohm’s extensive movie library or steam subscriptions to Disney+\, Amazon Prime Video\, Hulu and Netflix. \nThe rental fee of $150 for the 2-hour timeslot includes your time in the building\, access to Bohm Media\, and complimentary popcorn! \nClick on purchase tickets and select 1 ticket (regardless of how many in your group of 10 or less) for an individual time slot and check out. \n  \n**some gaming systems (i.e. Nintendo Wii) will not work. Please call for any questions 517 343 2112 OR reach us on Facebook @Friends of the Bohm Theatre
URL:https://bohmtheatre.org/event/historic-bohm-private-rentals/
LOCATION:Bohm Theatre\, 201 S. Superior St\, Albion\, MI\, 49224\, United States
CATEGORIES:Featured,Movie
ATTACH;FMTTYPE=image/png:https://bohmtheatre.org/wp-content/uploads/2020/07/97-976672_film-cinema-video-movie-projector-clipart.png
END:VEVENT
BEGIN:VEVENT
DTSTART;TZID=America/Detroit:20201031T220000
DTEND;TZID=America/Detroit:20201031T220000
DTSTAMP:20260422T061402
CREATED:20201014T015556Z
LAST-MODIFIED:20201027T172001Z
UID:3918-1604181600-1604181600@bohmtheatre.org
SUMMARY:The Rocky Horror Picture Show
DESCRIPTION:Rated R| 1hr 40min \nShowtimes: \n\n\n\nSaturday\, October 31   10:00 PM\n\n\n\n \nTickets are $5.00 \nA newly-engaged couple have a breakdown in an isolated area and must seek shelter at the bizarre residence of Dr. Frank-n-Furter. \n 
URL:https://bohmtheatre.org/event/the-rocky-horror-picture-show/
LOCATION:Bohm Theatre\, 201 S. Superior St\, Albion\, MI\, 49224\, United States
CATEGORIES:Featured,Movie
ATTACH;FMTTYPE=image/jpeg:https://bohmtheatre.org/wp-content/uploads/2020/10/Rocky.jpg
END:VEVENT
BEGIN:VEVENT
DTSTART;VALUE=DATE:20201023
DTEND;VALUE=DATE:20201025
DTSTAMP:20260422T061402
CREATED:20201022T193512Z
LAST-MODIFIED:20201022T193512Z
UID:3937-1603411200-1603583999@bohmtheatre.org
SUMMARY:Get Out
DESCRIPTION:Rated R| 1hr 44min \nShowtimes: \n\nFriday 7:00 PM\nSaturday 7:00 PM\n\n \nTickets are $5.00 \nA young African-American visits his white girlfriend’s parents for the weekend\, where his simmering uneasiness about their reception of him eventually reaches a boiling point.
URL:https://bohmtheatre.org/event/get-out/
LOCATION:Bohm Theatre\, 201 S. Superior St\, Albion\, MI\, 49224\, United States
CATEGORIES:Featured,Movie
END:VEVENT
BEGIN:VEVENT
DTSTART;VALUE=DATE:20201016
DTEND;VALUE=DATE:20201019
DTSTAMP:20260422T061402
CREATED:20201014T015348Z
LAST-MODIFIED:20201014T015643Z
UID:3915-1602806400-1603065599@bohmtheatre.org
SUMMARY:Hocus Pocus
DESCRIPTION:Rated PG| 1hr 36min \nShowtimes: \n\nFriday 7:00 PM\nSunday 2:00 PM\n\n \nTickets are $5.00 \nA curious youngster moves to Salem\, where he struggles to fit in before awakening a trio of diabolical witches that were executed in the 17th century. \n 
URL:https://bohmtheatre.org/event/hocus-pocus/
LOCATION:Bohm Theatre\, 201 S. Superior St\, Albion\, MI\, 49224\, United States
CATEGORIES:Featured,Movie
ATTACH;FMTTYPE=image/jpeg:https://bohmtheatre.org/wp-content/uploads/2020/10/Hocus-Pocus.jpg
END:VEVENT
BEGIN:VEVENT
DTSTART;TZID=America/Detroit:20201012T190000
DTEND;TZID=America/Detroit:20201012T220000
DTSTAMP:20260422T061402
CREATED:20201007T015805Z
LAST-MODIFIED:20201007T020052Z
UID:3910-1602529200-1602540000@bohmtheatre.org
SUMMARY:Blues at the Bohm Comes Home Featuring The Fat Animals
DESCRIPTION:The Fat Animals to host Blues at the Bohm \nOctober 12 @7:00 PM \n  \nBlues at the Bohm comes home.\nAfter a long time away\, we’re happy to host the jam on our main stage once again. \nAdmission: $10  \nThink Albion. Think Music.
URL:https://bohmtheatre.org/event/blues-at-the-bohm-comes-home-featuring-the-fat-animals/
LOCATION:Bohm Theatre\, 201 S. Superior St\, Albion\, MI\, 49224\, United States
CATEGORIES:Featured,Music
ATTACH;FMTTYPE=image/jpeg:https://bohmtheatre.org/wp-content/uploads/2020/10/fat-animals.jpg
END:VEVENT
BEGIN:VEVENT
DTSTART;VALUE=DATE:20200807
DTEND;VALUE=DATE:20200809
DTSTAMP:20260422T061402
CREATED:20200730T211118Z
LAST-MODIFIED:20200821T171311Z
UID:3576-1596758400-1596931199@bohmtheatre.org
SUMMARY:Ghost Busters - Outdoor Movie
DESCRIPTION:Are you ready for something special?\nIt’s MOVIE NIGHT!\nGrab your blanket or lawn chair and join us Friday nights in Holland Park\, and Saturday nights in Victory park at dusk for some great FREE movies in the parks. \nGHOST BUSTERS will play August 21 and August 22 \nThank you to our sponsors who are making this all possible:\nAlbion Community Foundation\nBrickStreet Marketing\nAlbion-Homer United Way\nAlbion Rotary Club
URL:https://bohmtheatre.org/event/space-jam-an-outdoor-movie/
LOCATION:Bohm Theatre\, 201 S. Superior St\, Albion\, MI\, 49224\, United States
CATEGORIES:Featured,Movie
ATTACH;FMTTYPE=image/jpeg:https://bohmtheatre.org/wp-content/uploads/2020/07/gb.jpg
END:VEVENT
BEGIN:VEVENT
DTSTART;VALUE=DATE:20200317
DTEND;VALUE=DATE:20200701
DTSTAMP:20260422T061402
CREATED:20200317T171344Z
LAST-MODIFIED:20200722T191507Z
UID:3472-1584403200-1593561599@bohmtheatre.org
SUMMARY:CLOSED UNTIL 6-30-2020
DESCRIPTION:As of 11:00 A.M. April 24\, 2020\, the Bohm Theatre is closed until Tuesday\, June 30\, 2020 by order of the State of Michigan (Executive Order 2020-43). All movies\, events\, and rentals during this timeframe have been canceled. \n  \nClick here for more information
URL:https://bohmtheatre.org/event/covidclosure/
LOCATION:MI
CATEGORIES:Featured
ATTACH;FMTTYPE=image/jpeg:https://bohmtheatre.org/wp-content/uploads/2020/03/51WoQlG1rUL._SL500_AC_SS350_.jpg
END:VEVENT
BEGIN:VEVENT
DTSTART;VALUE=DATE:20200313
DTEND;VALUE=DATE:20200316
DTSTAMP:20260422T061402
CREATED:20200310T160212Z
LAST-MODIFIED:20200313T181410Z
UID:3448-1584057600-1584316799@bohmtheatre.org
SUMMARY:The Call of the Wild
DESCRIPTION:Rated PG| 1hr 40min \nShowtimes: \n\nFri 7:00 PM\nSat 7:00 PM\nSun 7:00 PM\n\n \nTickets are $5.00 before 5:00 pm. At 5:00 pm and after adults are $6.50\, children (12 and under) and seniors (62 and over) are $5.50. \n\n\nA sled dog struggles for survival in the wilds of the Yukon.
URL:https://bohmtheatre.org/event/the-call-of-the-wild/
LOCATION:Bohm Theatre\, 201 S. Superior St\, Albion\, MI\, 49224\, United States
CATEGORIES:Featured,Movie
END:VEVENT
BEGIN:VEVENT
DTSTART;VALUE=DATE:20200109
DTEND;VALUE=DATE:20200113
DTSTAMP:20260422T061402
CREATED:20191217T165410Z
LAST-MODIFIED:20200107T165921Z
UID:3365-1578528000-1578873599@bohmtheatre.org
SUMMARY:Star Wars: The Rise of Skywalker
DESCRIPTION:Rated PG-13| 2hr 21min \nShowtimes: \n\nThu 7:00 PM\nFri 7:00 PM\nSat 3:00 & 7:00 PM\nSun 3:00 & 7:00 PM\n\n \nTickets are $5.00 before 5:00 pm. At 5:00 pm and after adults are $6.50\, children (12 and under) and seniors (62 and over) are $5.50. \n\nThe surviving Resistance faces the First Order once more in the final chapter of the Skywalker saga.
URL:https://bohmtheatre.org/event/star-wars-the-rise-of-skywalker/
LOCATION:Bohm Theatre\, 201 S. Superior St\, Albion\, MI\, 49224\, United States
CATEGORIES:Featured,Movie
END:VEVENT
END:VCALENDAR