BEGIN:VCALENDAR
VERSION:2.0
PRODID:-//Bohm Theatre - ECPv5.16.0//NONSGML v1.0//EN
CALSCALE:GREGORIAN
METHOD:PUBLISH
X-WR-CALNAME:Bohm Theatre
X-ORIGINAL-URL:https://bohmtheatre.org
X-WR-CALDESC:Events for Bohm Theatre
REFRESH-INTERVAL;VALUE=DURATION:PT1H
X-Robots-Tag:noindex
X-PUBLISHED-TTL:PT1H
BEGIN:VTIMEZONE
TZID:America/Detroit
BEGIN:DAYLIGHT
TZOFFSETFROM:-0500
TZOFFSETTO:-0400
TZNAME:EDT
DTSTART:20180311T070000
END:DAYLIGHT
BEGIN:STANDARD
TZOFFSETFROM:-0400
TZOFFSETTO:-0500
TZNAME:EST
DTSTART:20181104T060000
END:STANDARD
BEGIN:DAYLIGHT
TZOFFSETFROM:-0500
TZOFFSETTO:-0400
TZNAME:EDT
DTSTART:20190310T070000
END:DAYLIGHT
BEGIN:STANDARD
TZOFFSETFROM:-0400
TZOFFSETTO:-0500
TZNAME:EST
DTSTART:20191103T060000
END:STANDARD
END:VTIMEZONE
BEGIN:VEVENT
DTSTART;VALUE=DATE:20190418
DTEND;VALUE=DATE:20190422
DTSTAMP:20260422T110256
CREATED:20190416T180224Z
LAST-MODIFIED:20190416T180224Z
UID:3073-1555545600-1555891199@bohmtheatre.org
SUMMARY:Pet Sematary
DESCRIPTION:Rated R | 1hr 41min \nShowtimes: \n\nThu 7:00 PM\nFri 7:00 PM\nSat 4:00 & 7:00 PM\nSun 4:00 & 7:00 PM\n\n \nTickets are $5.00 before 5:00 pm. At 5:00 pm and after adults are $6.50\, children (12 and under) and seniors (62 and over) are $5.50. \n\nDr. Louis Creed and his wife\, Rachel\, relocate from Boston to rural Maine with their two young children. The couple soon discover a mysterious burial ground hidden deep in the woods near their new home.
URL:https://bohmtheatre.org/event/pet-sematary/
LOCATION:Bohm Theatre\, 201 S. Superior St\, Albion\, MI\, 49224\, United States
CATEGORIES:Featured,Movie
END:VEVENT
BEGIN:VEVENT
DTSTART;VALUE=DATE:20190110
DTEND;VALUE=DATE:20190111
DTSTAMP:20260422T110256
CREATED:20181218T163800Z
LAST-MODIFIED:20190108T234645Z
UID:2911-1547078400-1547164799@bohmtheatre.org
SUMMARY:Aquaman
DESCRIPTION:Rated PG-13 | 2hr 23min \nShowtimes: \n\nThur 7:00 PM\n\n \nTickets are $5.00 before 5:00 pm. At 5:00 pm and after adults are $6.50\, children (12 and under) and seniors (62 and over) are $5.50. \n\nArthur Curry learns that he is the heir to the underwater kingdom of Atlantis\, and must step forward to lead his people and be a hero to the world.
URL:https://bohmtheatre.org/event/aquaman/
LOCATION:Bohm Theatre\, 201 S. Superior St\, Albion\, MI\, 49224\, United States
CATEGORIES:Featured,Movie
END:VEVENT
BEGIN:VEVENT
DTSTART;VALUE=DATE:20181101
DTEND;VALUE=DATE:20181105
DTSTAMP:20260422T110256
CREATED:20181016T225419Z
LAST-MODIFIED:20181031T165939Z
UID:2725-1541030400-1541375999@bohmtheatre.org
SUMMARY:Halloween
DESCRIPTION:Rated R | 1hr 46min \nShowtimes: \n\nThur 9:00 PM\nFri 7:00 PM\nSat 4:00 & 7:00 PM\nSun 4:00 & 7:00 PM\n\n \nTickets are $5.00 before 5:00 pm. At 5:00 pm and after adults are $6.50\, children (12 and under) and seniors (62 and over) are $5.50. \n\nLaurie Strode comes to her final confrontation with Michael Myers\, the masked figure who has haunted her since she narrowly escaped his killing spree on Halloween night four decades ago.
URL:https://bohmtheatre.org/event/halloween/
LOCATION:Bohm Theatre\, 201 S. Superior St\, Albion\, MI\, 49224\, United States
CATEGORIES:Featured,Movie
END:VEVENT
END:VCALENDAR