BEGIN:VCALENDAR
VERSION:2.0
PRODID:-//Bohm Theatre - ECPv5.16.0//NONSGML v1.0//EN
CALSCALE:GREGORIAN
METHOD:PUBLISH
X-ORIGINAL-URL:https://bohmtheatre.org
X-WR-CALDESC:Events for Bohm Theatre
REFRESH-INTERVAL;VALUE=DURATION:PT1H
X-Robots-Tag:noindex
X-PUBLISHED-TTL:PT1H
BEGIN:VTIMEZONE
TZID:America/Detroit
BEGIN:DAYLIGHT
TZOFFSETFROM:-0500
TZOFFSETTO:-0400
TZNAME:EDT
DTSTART:20260308T070000
END:DAYLIGHT
BEGIN:STANDARD
TZOFFSETFROM:-0400
TZOFFSETTO:-0500
TZNAME:EST
DTSTART:20261101T060000
END:STANDARD
END:VTIMEZONE
BEGIN:VEVENT
DTSTART;VALUE=DATE:20260327
DTEND;VALUE=DATE:20260330
DTSTAMP:20260420T034820
CREATED:20260316T192113Z
LAST-MODIFIED:20260323T191431Z
UID:12047-1774569600-1774828799@bohmtheatre.org
SUMMARY:PROJECT HAIL MARY
DESCRIPTION:Rated PG-13 | 2h 36m \n\nFri 7:00 PM\nSat 7:00 PM\nSun 3:00 PM\n\n \nTickets are $5.00 before 5:00 pm. At 5:00 pm and after adults are $6.50\, children (12 and under) and seniors (62 and over) are $5.50. \nScience teacher Ryland Grace wakes up alone on a spaceship light-years from Earth. As his memory returns\, he uncovers a mission to stop a mysterious substance killing the sun\, and save Earth. An unexpected friendship may be the key.
URL:https://bohmtheatre.org/event/project-hail-mary/
LOCATION:Bohm Theatre\, 201 S. Superior St\, Albion\, MI\, 49224\, United States
CATEGORIES:Featured,Movie
ATTACH;FMTTYPE=image/png:https://bohmtheatre.org/wp-content/uploads/2026/03/Screenshot-2026-03-16-114518.png
END:VEVENT
BEGIN:VEVENT
DTSTART;VALUE=DATE:20260417
DTEND;VALUE=DATE:20260420
DTSTAMP:20260420T034820
CREATED:20260414T181231Z
LAST-MODIFIED:20260414T181231Z
UID:12183-1776384000-1776643199@bohmtheatre.org
SUMMARY:LEE CRONIN'S THE MUMMY
DESCRIPTION:Rated R | 2h 13m \n\nFri 8:00 PM\nSat 7:00 PM\nSun 3:00 PM\n\n \nTickets are $5.00 before 5:00 pm. At 5:00 pm and after adults are $6.50\, children (12 and under) and seniors (62 and over) are $5.50. \nThe young daughter of a journalist disappears into the desert without a trace. Eight years later\, the broken family is shocked when she is returned to them\, as what should be a joyful reunion turns into a living nightmare.
URL:https://bohmtheatre.org/event/lee-cronins-the-mummy/
LOCATION:Bohm Theatre\, 201 S. Superior St\, Albion\, MI\, 49224\, United States
CATEGORIES:Featured,Movie
ATTACH;FMTTYPE=image/png:https://bohmtheatre.org/wp-content/uploads/2026/04/Screenshot-2026-04-13-143617.png
END:VEVENT
END:VCALENDAR