BEGIN:VCALENDAR
VERSION:2.0
PRODID:-//Bohm Theatre - ECPv5.16.0//NONSGML v1.0//EN
CALSCALE:GREGORIAN
METHOD:PUBLISH
X-ORIGINAL-URL:https://bohmtheatre.org
X-WR-CALDESC:Events for Bohm Theatre
REFRESH-INTERVAL;VALUE=DURATION:PT1H
X-Robots-Tag:noindex
X-PUBLISHED-TTL:PT1H
BEGIN:VTIMEZONE
TZID:America/Detroit
BEGIN:DAYLIGHT
TZOFFSETFROM:-0500
TZOFFSETTO:-0400
TZNAME:EDT
DTSTART:20190310T070000
END:DAYLIGHT
BEGIN:STANDARD
TZOFFSETFROM:-0400
TZOFFSETTO:-0500
TZNAME:EST
DTSTART:20191103T060000
END:STANDARD
END:VTIMEZONE
BEGIN:VEVENT
DTSTART;VALUE=DATE:20190808
DTEND;VALUE=DATE:20190809
DTSTAMP:20260419T153326
CREATED:20190716T153409Z
LAST-MODIFIED:20190806T171316Z
UID:3160-1565222400-1565308799@bohmtheatre.org
SUMMARY:The Lion King
DESCRIPTION:Rated PG| 1hr 58min \nShowtimes: \n\nThu 7:00 PM\n\n \nTickets are $5.00 before 5:00 pm. At 5:00 pm and after adults are $6.50\, children (12 and under) and seniors (62 and over) are $5.50. \n\nAfter the murder of his father\, a young lion prince flees his kingdom only to learn the true meaning of responsibility and bravery.
URL:https://bohmtheatre.org/event/the-lion-king/
LOCATION:Bohm Theatre\, 201 S. Superior St\, Albion\, MI\, 49224\, United States
CATEGORIES:Movie
END:VEVENT
BEGIN:VEVENT
DTSTART;VALUE=DATE:20190808
DTEND;VALUE=DATE:20190812
DTSTAMP:20260419T153326
CREATED:20190730T162518Z
LAST-MODIFIED:20190806T171524Z
UID:3170-1565222400-1565567999@bohmtheatre.org
SUMMARY:Fast & Furious Presents: Hobbs & Shaw
DESCRIPTION:Rated PG-13| 2hr 15min \nShowtimes: \n\nThu 6:30 PM\nFri 6:30 PM\nSat 4:00 & 7:00 PM\nSun 4:00 & 7:00 PM\n\n \nTickets are $5.00 before 5:00 pm. At 5:00 pm and after adults are $6.50\, children (12 and under) and seniors (62 and over) are $5.50. \n\nLawman Luke Hobbs and outcast Deckard Shaw form an unlikely alliance when a cyber-genetically enhanced villain threatens the future of humanity.
URL:https://bohmtheatre.org/event/fast-furious-presents-hobbs-shaw/
LOCATION:Bohm II\, 203 S. Superior St\, Albion \, 49224
CATEGORIES:Featured - Bohm II,Movie
END:VEVENT
BEGIN:VEVENT
DTSTART;VALUE=DATE:20190814
DTEND;VALUE=DATE:20190815
DTSTAMP:20260419T153326
CREATED:20190806T171802Z
LAST-MODIFIED:20190813T153720Z
UID:3177-1565740800-1565827199@bohmtheatre.org
SUMMARY:Once Upon a Time ... in Hollywood
DESCRIPTION:Rated R| 2hr 41min \nShowtimes: \n\nWed 6:30 PM\n\n \nTickets are $5.00 before 5:00 pm. At 5:00 pm and after adults are $6.50\, children (12 and under) and seniors (62 and over) are $5.50. \n\nA faded television actor and his stunt double strive to achieve fame and success in the film industry during the final years of Hollywood’s Golden Age in 1969 Los Angeles.
URL:https://bohmtheatre.org/event/once-upon-a-time-in-hollywood/
LOCATION:Bohm Theatre\, 201 S. Superior St\, Albion\, MI\, 49224\, United States
CATEGORIES:Movie
END:VEVENT
BEGIN:VEVENT
DTSTART;VALUE=DATE:20190822
DTEND;VALUE=DATE:20190826
DTSTAMP:20260419T153326
CREATED:20190813T154016Z
LAST-MODIFIED:20190820T170403Z
UID:3184-1566432000-1566777599@bohmtheatre.org
SUMMARY:The Angry Birds Movie 2
DESCRIPTION:Rated PG| 1hr 36min \nShowtimes: \n\nThu 6:30 PM\nFri 6:30 PM\nSat 3:30 & 6:30 PM\nSun 3:30 & 6:30 PM\n\n \nTickets are $5.00 before 5:00 pm. At 5:00 pm and after adults are $6.50\, children (12 and under) and seniors (62 and over) are $5.50. \n\nThe flightless birds and scheming green pigs take their feud to the next level.
URL:https://bohmtheatre.org/event/the-angry-birds-movie-2/
LOCATION:MI
CATEGORIES:Featured - Bohm II,Movie
END:VEVENT
BEGIN:VEVENT
DTSTART;VALUE=DATE:20190829
DTEND;VALUE=DATE:20190902
DTSTAMP:20260419T153326
CREATED:20190813T154300Z
LAST-MODIFIED:20190827T163717Z
UID:3187-1567036800-1567382399@bohmtheatre.org
SUMMARY:Good Boys
DESCRIPTION:Rated R| 1hr 29min \nShowtimes: \n\nThu 6:30 PM\nFri 6:30 PM\nSat 3:30 & 6:30 PM\nSun 3:30 & 6:30 PM\n\n \nTickets are $5.00 before 5:00 pm. At 5:00 pm and after adults are $6.50\, children (12 and under) and seniors (62 and over) are $5.50. \n\nThree sixth grade boys ditch school and embark on an epic journey while carrying accidentally stolen drugs\, being hunted by teenage girls\, and trying to make their way home in time for a long-awaited party.
URL:https://bohmtheatre.org/event/good-boys/
LOCATION:Bohm II\, 203 S. Superior St\, Albion \, 49224
CATEGORIES:Featured - Bohm II,Movie
END:VEVENT
BEGIN:VEVENT
DTSTART;VALUE=DATE:20190831
DTEND;VALUE=DATE:20190901
DTSTAMP:20260419T153326
CREATED:20190827T164030Z
LAST-MODIFIED:20190827T164054Z
UID:3200-1567209600-1567295999@bohmtheatre.org
SUMMARY:Gone with the Wind (1939)
DESCRIPTION:Don’t miss your chance to celebrate the 80th Anniversary of this timeless classic! \nRight here at The Historic Bohm Theatre! \nAugust 31 \n11:00 AM \n$1.00 ONLY
URL:https://bohmtheatre.org/event/gone-with-the-wind-1939/
LOCATION:Bohm Theatre\, 201 S. Superior St\, Albion\, MI\, 49224\, United States
CATEGORIES:Movie
END:VEVENT
END:VCALENDAR