BEGIN:VCALENDAR
VERSION:2.0
PRODID:-//Bohm Theatre - ECPv5.16.0//NONSGML v1.0//EN
CALSCALE:GREGORIAN
METHOD:PUBLISH
X-WR-CALNAME:Bohm Theatre
X-ORIGINAL-URL:https://bohmtheatre.org
X-WR-CALDESC:Events for Bohm Theatre
REFRESH-INTERVAL;VALUE=DURATION:PT1H
X-Robots-Tag:noindex
X-PUBLISHED-TTL:PT1H
BEGIN:VTIMEZONE
TZID:America/Detroit
BEGIN:DAYLIGHT
TZOFFSETFROM:-0500
TZOFFSETTO:-0400
TZNAME:EDT
DTSTART:20190310T070000
END:DAYLIGHT
BEGIN:STANDARD
TZOFFSETFROM:-0400
TZOFFSETTO:-0500
TZNAME:EST
DTSTART:20191103T060000
END:STANDARD
END:VTIMEZONE
BEGIN:VEVENT
DTSTART;VALUE=DATE:20191205
DTEND;VALUE=DATE:20191206
DTSTAMP:20260419T222451
CREATED:20191112T161025Z
LAST-MODIFIED:20191203T174950Z
UID:3284-1575504000-1575590399@bohmtheatre.org
SUMMARY:Ford V Ferrari
DESCRIPTION:Rated PG-13| 2hr 32min \nShowtimes: \n\nThu 6:30\n\n \nTickets are $5.00 before 5:00 pm. At 5:00 pm and after adults are $6.50\, children (12 and under) and seniors (62 and over) are $5.50. \n\nAmerican car designer Carroll Shelby and driver Ken Miles battle corporate interference\, the laws of physics and their own personal demons to build a revolutionary race car for Ford and challenge Ferrari at the 24 Hours of Le Mans in 1966.
URL:https://bohmtheatre.org/event/ford-v-ferrari/
LOCATION:Bohm II\, 203 S. Superior St\, Albion \, 49224
CATEGORIES:Movie
END:VEVENT
BEGIN:VEVENT
DTSTART;VALUE=DATE:20191205
DTEND;VALUE=DATE:20191210
DTSTAMP:20260419T222451
CREATED:20191119T150506Z
LAST-MODIFIED:20191203T175102Z
UID:3309-1575504000-1575935999@bohmtheatre.org
SUMMARY:Frozen II
DESCRIPTION:Rated PG| 1hr 43min \nShowtimes: \n\nThu 7:00 PM (BOHM 1)\nFri 7:00 PM\nSat 3:30 & 6:30 PM\nSun 3:30 & 6:30 PM\n\n \nTickets are $5.00 before 5:00 pm. At 5:00 pm and after adults are $6.50\, children (12 and under) and seniors (62 and over) are $5.50. \n\nAnna\, Elsa\, Kristoff\, Olaf and Sven leave Arendelle to travel to an ancient\, autumn-bound forest of an enchanted land. They set out to find the origin of Elsa’s powers in order to save their kingdom.
URL:https://bohmtheatre.org/event/frozen-ii/
LOCATION:Bohm II\, 203 S. Superior St\, Albion \, 49224
CATEGORIES:Featured - Bohm II,Movie
END:VEVENT
BEGIN:VEVENT
DTSTART;TZID=America/Detroit:20191207T110000
DTEND;TZID=America/Detroit:20191207T110000
DTSTAMP:20260419T222451
CREATED:20191119T151537Z
LAST-MODIFIED:20191119T151537Z
UID:3316-1575716400-1575716400@bohmtheatre.org
SUMMARY:Elf
DESCRIPTION:Saturday\, December 7 \n11 AM |$5.00 \nAfter discovering he is a human\, a man raised as an elf at the North Pole decides to travel to New York City to locate his real father. \n 
URL:https://bohmtheatre.org/event/elf-4/
LOCATION:Bohm Theatre\, 201 S. Superior St\, Albion\, MI\, 49224\, United States
CATEGORIES:Movie
ATTACH;FMTTYPE=image/jpeg:https://bohmtheatre.org/wp-content/uploads/2017/12/elf-poster.jpg
END:VEVENT
BEGIN:VEVENT
DTSTART;VALUE=DATE:20191212
DTEND;VALUE=DATE:20191216
DTSTAMP:20260419T222451
CREATED:20191203T175205Z
LAST-MODIFIED:20191211T012455Z
UID:3343-1576108800-1576454399@bohmtheatre.org
SUMMARY:A Beautiful Day in the Neighborhood
DESCRIPTION:Rated PG| 1hr 49min \nShowtimes: \n\nThu 6:30 PM\nFri 6:30 PM\nSat 3:30 & 6:30 PM\nSun 3:30 & 6:30 PM\n\n \nTickets are $5.00 before 5:00 pm. At 5:00 pm and after adults are $6.50\, children (12 and under) and seniors (62 and over) are $5.50. \n\nBased on the true story of a real-life friendship between Fred Rogers and journalist Tom Junod.
URL:https://bohmtheatre.org/event/a-beautiful-day-in-the-neighborhood/
LOCATION:Bohm II\, 203 S. Superior St\, Albion \, 49224
CATEGORIES:Featured - Bohm II,Movie
END:VEVENT
BEGIN:VEVENT
DTSTART;TZID=America/Detroit:20191214T110000
DTEND;TZID=America/Detroit:20191214T110000
DTSTAMP:20260419T222451
CREATED:20191119T151520Z
LAST-MODIFIED:20191119T151520Z
UID:3318-1576321200-1576321200@bohmtheatre.org
SUMMARY:How the Grinch Stole Christmas
DESCRIPTION:Saturday\, December 14 \n11 AM |$5.00 \n  \nOn the outskirts of Whoville\, there lives a green\, revenge-seeking Grinch (Jim Carrey)\, who plans on ruining Christmas for all of the citizens of the town.
URL:https://bohmtheatre.org/event/how-the-grinch-stole-christmas/
LOCATION:MI
CATEGORIES:Movie
END:VEVENT
BEGIN:VEVENT
DTSTART;TZID=America/Detroit:20191221T110000
DTEND;TZID=America/Detroit:20191221T110000
DTSTAMP:20260419T222451
CREATED:20191119T151551Z
LAST-MODIFIED:20191119T151551Z
UID:3321-1576926000-1576926000@bohmtheatre.org
SUMMARY:The Polar Express
DESCRIPTION:Saturday\, December 21 \n11 AM |$5.00 \nOn Christmas Eve\, a young boy embarks on a magical adventure to the North Pole on the Polar Express\, while learning about friendship\, bravery\, and the spirit of Christmas.
URL:https://bohmtheatre.org/event/the-polar-express/
LOCATION:Bohm Theatre\, 201 S. Superior St\, Albion\, MI\, 49224\, United States
CATEGORIES:Movie
END:VEVENT
BEGIN:VEVENT
DTSTART;TZID=America/Detroit:20191228T110000
DTEND;TZID=America/Detroit:20191228T110000
DTSTAMP:20260419T222451
CREATED:20191119T151606Z
LAST-MODIFIED:20191119T151606Z
UID:3323-1577530800-1577530800@bohmtheatre.org
SUMMARY:It's A Wonderful Life
DESCRIPTION:Saturday\, December 28 \n11 AM |$5.00 \nAn angel is sent from Heaven to help a desperately frustrated businessman by showing him what life would have been like if he had never existed.
URL:https://bohmtheatre.org/event/its-a-wonderful-life-5/
LOCATION:Bohm Theatre\, 201 S. Superior St\, Albion\, MI\, 49224\, United States
CATEGORIES:Movie
ATTACH;FMTTYPE=image/jpeg:https://bohmtheatre.org/wp-content/uploads/2015/11/wonderful-life-poster-e1447868064485.jpg
END:VEVENT
END:VCALENDAR