BEGIN:VCALENDAR
VERSION:2.0
PRODID:-//Bohm Theatre - ECPv5.16.0//NONSGML v1.0//EN
CALSCALE:GREGORIAN
METHOD:PUBLISH
X-ORIGINAL-URL:https://bohmtheatre.org
X-WR-CALDESC:Events for Bohm Theatre
REFRESH-INTERVAL;VALUE=DURATION:PT1H
X-Robots-Tag:noindex
X-PUBLISHED-TTL:PT1H
BEGIN:VTIMEZONE
TZID:America/Detroit
BEGIN:DAYLIGHT
TZOFFSETFROM:-0500
TZOFFSETTO:-0400
TZNAME:EDT
DTSTART:20200308T070000
END:DAYLIGHT
BEGIN:STANDARD
TZOFFSETFROM:-0400
TZOFFSETTO:-0500
TZNAME:EST
DTSTART:20201101T060000
END:STANDARD
END:VTIMEZONE
BEGIN:VEVENT
DTSTART;VALUE=DATE:20200227
DTEND;VALUE=DATE:20200302
DTSTAMP:20260422T044258
CREATED:20200204T172855Z
LAST-MODIFIED:20200225T163643Z
UID:3415-1582761600-1583107199@bohmtheatre.org
SUMMARY:Sonic the Hedgehog
DESCRIPTION:Rated PG| 1hr 39min \nShowtimes: \n\nThu 6:30 PM\nFri 6:30 PM\nSat 3:30 PM & 6:30 PM\nSun 3:30 PM & 6:30 PM\n\n \nTickets are $5.00 before 5:00 pm. At 5:00 pm and after adults are $6.50\, children (12 and under) and seniors (62 and over) are $5.50. \n\n\nAfter discovering a small\, blue\, fast hedgehog\, a small-town police officer must help it defeat an evil genius who wants to do experiments on it.
URL:https://bohmtheatre.org/event/sonic-the-hedgehog/
LOCATION:Bohm Theatre\, 201 S. Superior St\, Albion\, MI\, 49224\, United States
CATEGORIES:Featured - Bohm II,Movie
END:VEVENT
BEGIN:VEVENT
DTSTART;VALUE=DATE:20200312
DTEND;VALUE=DATE:20200313
DTSTAMP:20260422T044258
CREATED:20200225T163531Z
LAST-MODIFIED:20200310T160343Z
UID:3437-1583971200-1584057599@bohmtheatre.org
SUMMARY:The Invisible Man
DESCRIPTION:Rated R| 2hr 04min \nShowtimes: \n\nThu 6:30 PM\n\n \nTickets are $5.00 before 5:00 pm. At 5:00 pm and after adults are $6.50\, children (12 and under) and seniors (62 and over) are $5.50. \nWhen Cecilia’s abusive ex takes his own life and leaves her his fortune\, she suspects his death was a hoax. As a series of coincidences turn lethal\, Cecilia works to prove that she is being hunted by someone nobody can see. \n 
URL:https://bohmtheatre.org/event/the-invisible-man/
LOCATION:Bohm II\, 203 S. Superior St\, Albion \, 49224
CATEGORIES:Movie
ATTACH;FMTTYPE=image/jpeg:https://bohmtheatre.org/wp-content/uploads/2020/02/The-Invisible-Man.jpg
END:VEVENT
BEGIN:VEVENT
DTSTART;VALUE=DATE:20200312
DTEND;VALUE=DATE:20200316
DTSTAMP:20260422T044258
CREATED:20200303T171117Z
LAST-MODIFIED:20200313T222706Z
UID:3442-1583971200-1584316799@bohmtheatre.org
SUMMARY:Onward
DESCRIPTION:Rated PG| 1hr 42min \nShowtimes: \n\nSat 4:00 PM (BOHM 1)\nSun 4:00 PM (BOHM 1)\n\n \nTickets are $5.00 before 5:00 pm. At 5:00 pm and after adults are $6.50\, children (12 and under) and seniors (62 and over) are $5.50. \n\n\nSet in a suburban fantasy world\, two teenage elf brothers embark on a quest to discover if there is still magic out there.
URL:https://bohmtheatre.org/event/onward/
LOCATION:Bohm II\, 203 S. Superior St\, Albion \, 49224
CATEGORIES:Featured - Bohm II,Movie
END:VEVENT
BEGIN:VEVENT
DTSTART;VALUE=DATE:20200313
DTEND;VALUE=DATE:20200316
DTSTAMP:20260422T044258
CREATED:20200310T160212Z
LAST-MODIFIED:20200313T181410Z
UID:3448-1584057600-1584316799@bohmtheatre.org
SUMMARY:The Call of the Wild
DESCRIPTION:Rated PG| 1hr 40min \nShowtimes: \n\nFri 7:00 PM\nSat 7:00 PM\nSun 7:00 PM\n\n \nTickets are $5.00 before 5:00 pm. At 5:00 pm and after adults are $6.50\, children (12 and under) and seniors (62 and over) are $5.50. \n\n\nA sled dog struggles for survival in the wilds of the Yukon.
URL:https://bohmtheatre.org/event/the-call-of-the-wild/
LOCATION:Bohm Theatre\, 201 S. Superior St\, Albion\, MI\, 49224\, United States
CATEGORIES:Featured,Movie
END:VEVENT
END:VCALENDAR