BEGIN:VCALENDAR
VERSION:2.0
PRODID:-//Bohm Theatre - ECPv5.16.0//NONSGML v1.0//EN
CALSCALE:GREGORIAN
METHOD:PUBLISH
X-ORIGINAL-URL:https://bohmtheatre.org
X-WR-CALDESC:Events for Bohm Theatre
REFRESH-INTERVAL;VALUE=DURATION:PT1H
X-Robots-Tag:noindex
X-PUBLISHED-TTL:PT1H
BEGIN:VTIMEZONE
TZID:America/Detroit
BEGIN:DAYLIGHT
TZOFFSETFROM:-0500
TZOFFSETTO:-0400
TZNAME:EDT
DTSTART:20200308T070000
END:DAYLIGHT
BEGIN:STANDARD
TZOFFSETFROM:-0400
TZOFFSETTO:-0500
TZNAME:EST
DTSTART:20201101T060000
END:STANDARD
END:VTIMEZONE
BEGIN:VEVENT
DTSTART;VALUE=DATE:20201112
DTEND;VALUE=DATE:20201113
DTSTAMP:20260422T123323
CREATED:20201022T194600Z
LAST-MODIFIED:20201023T005029Z
UID:3944-1605139200-1605225599@bohmtheatre.org
SUMMARY:A Toast to the Bohm presents Raiders of the Lost Ark
DESCRIPTION:A Toast to the Bohm presents Raiders of the Lost Ark. \nJoin us on November 12\, 2020 for our annual A Toast to the Bohm Fundraiser. \nA Toast to the Bohm is a chance to support Albion’s beautiful Historic theatre while also enjoying a night of food\, fun\, and film! \n \n  \nYou will be able to choose to support the Bohm in one of three ways: \n\nYou can purchase a $100 Ticket that includes Catered Dinner\, Dessert\, and admission to the for a special screening of Raiders of the Lost Ark.\n\n  \n\nYou can purchase a $100 Voucher for Dinner and Dessert to Go.\n\n  \n\nYou can make a donation to the Bohm Theatre\n\n  \n  \nDoors at 5:30 PM        Dinner in Historic Bohm 6:00 PM             Movie begins 7:00 PM \n  \nSeating will be assigned. Social Distancing and Masks Required. \n  \nTICKETS HERE | PDF FOR MAIL IN PURCHASE HERE
URL:https://bohmtheatre.org/event/a-toast-to-the-bohm-presents-raiders-of-the-lost-ark/
LOCATION:Bohm Theatre\, 201 S. Superior St\, Albion\, MI\, 49224\, United States
CATEGORIES:Fundraiser,Movie
ATTACH;FMTTYPE=image/jpeg:https://bohmtheatre.org/wp-content/uploads/2020/10/Toast-Banner-.jpg
END:VEVENT
END:VCALENDAR