BEGIN:VCALENDAR
VERSION:2.0
PRODID:-//Bohm Theatre - ECPv5.16.0//NONSGML v1.0//EN
CALSCALE:GREGORIAN
METHOD:PUBLISH
X-WR-CALNAME:Bohm Theatre
X-ORIGINAL-URL:https://bohmtheatre.org
X-WR-CALDESC:Events for Bohm Theatre
REFRESH-INTERVAL;VALUE=DURATION:PT1H
X-Robots-Tag:noindex
X-PUBLISHED-TTL:PT1H
BEGIN:VTIMEZONE
TZID:America/Detroit
BEGIN:DAYLIGHT
TZOFFSETFROM:-0500
TZOFFSETTO:-0400
TZNAME:EDT
DTSTART:20220313T070000
END:DAYLIGHT
BEGIN:STANDARD
TZOFFSETFROM:-0400
TZOFFSETTO:-0500
TZNAME:EST
DTSTART:20221106T060000
END:STANDARD
END:VTIMEZONE
BEGIN:VEVENT
DTSTART;VALUE=DATE:20220902
DTEND;VALUE=DATE:20220905
DTSTAMP:20260424T002034
CREATED:20220831T191250Z
LAST-MODIFIED:20220831T191250Z
UID:4543-1662076800-1662335999@bohmtheatre.org
SUMMARY:Dragon Ball Super Super Hero
DESCRIPTION:Rated PG-13| 1hr 40min \n\nShowtimes: \n\nFri 6:30 PM (English Dub) \nSat 6:30 PM (English Dub) \nSun 2:30 PM (Japanese Audio w/ Subtitles) \n         3:00 PM (English Dub) \n\nTickets are $5.00 before 5:00 pm. At 5:00 pm and after adults are $6.50\, children (12 and under) and seniors (62 and over) are $5.50. \n\nDragon Ball Super: Super Hero (2022) \n\nThe Red Ribbon Army from Goku’s past has returned with two new androids to challenge him and his friends. \n\nThe Red Ribbon Army has returned with two new and powerful androids. Picolo and Gohan must save the day.
URL:https://bohmtheatre.org/event/dragon-ball-super-super-hero/
LOCATION:MI
CATEGORIES:Featured,Movie
ATTACH;FMTTYPE=image/jpeg:https://bohmtheatre.org/wp-content/uploads/2022/08/Dragon-Ball-Super-Super-Hero-Poster.jpeg
END:VEVENT
BEGIN:VEVENT
DTSTART;VALUE=DATE:20220916
DTEND;VALUE=DATE:20220919
DTSTAMP:20260424T002034
CREATED:20220524T184235Z
LAST-MODIFIED:20220913T162643Z
UID:4426-1663286400-1663545599@bohmtheatre.org
SUMMARY:Top Gun: Maverick
DESCRIPTION:Rated PG-13| 2hr 11min \nShowtimes: \n\nFri 7:00 PM\nSat 7:00 PM\nSun 3:00 PM\n\n \nTickets are $5.00 before 5:00 pm. At 5:00 pm and after adults are $6.50\, children (12 and under) and seniors (62 and over) are $5.50. \n\nAfter more than thirty years of service as one of the Navy’s top aviators\, Pete Mitchell is where he belongs\, pushing the envelope as a courageous test pilot and dodging the advancement in rank that would ground him.
URL:https://bohmtheatre.org/event/top-gun-maverick/
LOCATION:Bohm II\, 203 S. Superior St\, Albion \, 49224
CATEGORIES:Featured,Movie
ATTACH;FMTTYPE=image/jpeg:https://bohmtheatre.org/wp-content/uploads/2022/05/TGM.jpg
END:VEVENT
BEGIN:VEVENT
DTSTART;TZID=America/Detroit:20220920T080000
DTEND;TZID=America/Detroit:20220920T170000
DTSTAMP:20260424T002034
CREATED:20220920T194645Z
LAST-MODIFIED:20220920T194645Z
UID:4555-1663660800-1663693200@bohmtheatre.org
SUMMARY:Bandit
DESCRIPTION:Showtimes: \n\nSun 2:30 PM\n\n \nTickets are $5.00 before 5:00 pm. At 5:00 pm and after adults are $6.50\, children (12 and under) and seniors (62 and over) are $5.50. \n\nAfter escaping a Michigan prison\, a charming career criminal assumes a new identity in Canada and goes on to rob a record 59 banks and jewellery stores while being hunted by a police task force. Based on the story of The Flying Bandit.
URL:https://bohmtheatre.org/event/bandit/
LOCATION:MI
CATEGORIES:Movie
ATTACH;FMTTYPE=image/jpeg:https://bohmtheatre.org/wp-content/uploads/2022/09/Bandit-2022.jpg
END:VEVENT
BEGIN:VEVENT
DTSTART;VALUE=DATE:20220923
DTEND;VALUE=DATE:20221003
DTSTAMP:20260424T002034
CREATED:20220920T194423Z
LAST-MODIFIED:20220920T194502Z
UID:4551-1663891200-1664755199@bohmtheatre.org
SUMMARY:Don't Worry Darling
DESCRIPTION:Rated R| 2hr 2min \nShowtimes: \n\nFri 7:00 PM\nSat 7:00 PM\nSun 3:00 PM\n\n \nTickets are $5.00 before 5:00 pm. At 5:00 pm and after adults are $6.50\, children (12 and under) and seniors (62 and over) are $5.50. \n\nA 1950s housewife living with her husband in a utopian experimental community begins to worry that his glamorous company could be hiding disturbing secrets.
URL:https://bohmtheatre.org/event/4551/
LOCATION:Bohm Theatre\, 201 S. Superior St\, Albion\, MI\, 49224\, United States
CATEGORIES:Featured,Movie
ATTACH;FMTTYPE=image/jpeg:https://bohmtheatre.org/wp-content/uploads/2022/09/MV5BM2E0OGE1ZDgtYTA0OC00MDNhLThiMTAtYjgwODBlOGRkMzcwXkEyXkFqcGdeQXVyMTUzOTcyODA5._V1_FMjpg_UX1000_.jpg
END:VEVENT
BEGIN:VEVENT
DTSTART;VALUE=DATE:20220928
DTEND;VALUE=DATE:20220929
DTSTAMP:20260424T002034
CREATED:20220920T195048Z
LAST-MODIFIED:20220927T193957Z
UID:4557-1664323200-1664409599@bohmtheatre.org
SUMMARY:Coming Up for Air
DESCRIPTION:Summit Pointe\npresents \nCOMING UP FOR AIR\nSeptember 28       5:30 PM
URL:https://bohmtheatre.org/event/coming-up-for-air/
LOCATION:MI
CATEGORIES:Featured - Bohm II,Movie
ATTACH;FMTTYPE=image/png:https://bohmtheatre.org/wp-content/uploads/2022/09/306132528_2037985553077014_5787561680185293478_n.png
END:VEVENT
END:VCALENDAR