BEGIN:VCALENDAR
VERSION:2.0
PRODID:-//Bohm Theatre - ECPv5.16.0//NONSGML v1.0//EN
CALSCALE:GREGORIAN
METHOD:PUBLISH
X-ORIGINAL-URL:https://bohmtheatre.org
X-WR-CALDESC:Events for Bohm Theatre
REFRESH-INTERVAL;VALUE=DURATION:PT1H
X-Robots-Tag:noindex
X-PUBLISHED-TTL:PT1H
BEGIN:VTIMEZONE
TZID:America/Detroit
BEGIN:DAYLIGHT
TZOFFSETFROM:-0500
TZOFFSETTO:-0400
TZNAME:EDT
DTSTART:20230312T070000
END:DAYLIGHT
BEGIN:STANDARD
TZOFFSETFROM:-0400
TZOFFSETTO:-0500
TZNAME:EST
DTSTART:20231105T060000
END:STANDARD
END:VTIMEZONE
BEGIN:VEVENT
DTSTART;VALUE=DATE:20230802
DTEND;VALUE=DATE:20230807
DTSTAMP:20260424T235740
CREATED:20230801T162718Z
LAST-MODIFIED:20230801T165538Z
UID:5072-1690934400-1691366399@bohmtheatre.org
SUMMARY:Haunted Mansion
DESCRIPTION:Rated PG-13 | 2h 02m \nShowtimes: \n\nWed 6:30 PM\nThu 6:30 PM\nFri 6:30 PM\nSat 6:30 PM\nSun 2:30 PM\n\n \nTickets are $5.00 before 5:00 pm. At 5:00 pm and after adults are $6.50\, children (12 and under) and seniors (62 and over) are $5.50. \n\nA single mom named Gabbie hires a tour guide\, a psychic\, a priest and a historian to help exorcise her newly bought mansion after discovering it is inhabited by ghosts.
URL:https://bohmtheatre.org/event/haunted-mansion-2/
LOCATION:Bohm II\, 203 S. Superior St\, Albion \, 49224
CATEGORIES:Featured - Bohm II,Movie
ATTACH;FMTTYPE=image/jpeg:https://bohmtheatre.org/wp-content/uploads/2023/06/Haunted-Mansion.jpg
END:VEVENT
BEGIN:VEVENT
DTSTART;VALUE=DATE:20230802
DTEND;VALUE=DATE:20230807
DTSTAMP:20260424T235740
CREATED:20230801T163051Z
LAST-MODIFIED:20230801T163051Z
UID:5074-1690934400-1691366399@bohmtheatre.org
SUMMARY:Teenage Mutant Ninja Turtles
DESCRIPTION:Rated PG | 1h 39m \nShowtimes: \n\nWed 7:00 PM\nThu 7:00 PM\nFri 7:00 PM\nSat 7:00 PM\nSun 3:00 PM\n\n \nTickets are $5.00 before 5:00 pm. At 5:00 pm and after adults are $6.50\, children (12 and under) and seniors (62 and over) are $5.50. \n\nThe film follows the Turtle brothers as they work to earn the love of New York City while facing down an army of mutants.
URL:https://bohmtheatre.org/event/teenage-mutant-ninja-turtles/
LOCATION:Bohm Theatre\, 201 S. Superior St\, Albion\, MI\, 49224\, United States
CATEGORIES:Featured,Movie
ATTACH;FMTTYPE=image/jpeg:https://bohmtheatre.org/wp-content/uploads/2023/08/TMNTMM.jpg
END:VEVENT
BEGIN:VEVENT
DTSTART;VALUE=DATE:20230805
DTEND;VALUE=DATE:20230806
DTSTAMP:20260424T235740
CREATED:20230608T175330Z
LAST-MODIFIED:20230608T175330Z
UID:4999-1691193600-1691279999@bohmtheatre.org
SUMMARY:Sonic the Hedgehog 2 - Free Kids Film Series
DESCRIPTION:Sonic the Hedgehog 2\nAUGST 5          11:00 AM\nPG                  2h 2m\nWhen the manic Dr Robotnik returns to Earth with a new ally\, Knuckles the Echidna\, Sonic and his new friend Tails is all that stands in their way. \n  \nFree Kids Film Series is made possible by our generous sponsors:\nJohn and Jan Shedd \nDecker Manufacturing \nArt & Vivian Davis \nNancy & Dave Rousch \nKent Davis
URL:https://bohmtheatre.org/event/sonic-the-hedgehog-2-free-kids-film-series/
LOCATION:Bohm Theatre\, 201 S. Superior St\, Albion\, MI\, 49224\, United States
CATEGORIES:Movie
ATTACH;FMTTYPE=image/jpeg:https://bohmtheatre.org/wp-content/uploads/2023/06/sonic2-scaled.jpg
END:VEVENT
BEGIN:VEVENT
DTSTART;VALUE=DATE:20230811
DTEND;VALUE=DATE:20230814
DTSTAMP:20260424T235740
CREATED:20230808T185501Z
LAST-MODIFIED:20230808T185501Z
UID:5094-1691712000-1691971199@bohmtheatre.org
SUMMARY:Teenage Mutant Ninja Turtles: Mutant Mayhem
DESCRIPTION:Rated PG | 1h 39m \nShowtimes: \n\nFri 7:00 PM\nSat 6:30 PM\nSun 3:00 PM\n\n \nTickets are $5.00 before 5:00 pm. At 5:00 pm and after adults are $6.50\, children (12 and under) and seniors (62 and over) are $5.50. \n\nThe film follows the Turtle brothers as they work to earn the love of New York City while facing down an army of mutants.
URL:https://bohmtheatre.org/event/teenage-mutant-ninja-turtles-mutant-mayhem/
LOCATION:Bohm Theatre\, 201 S. Superior St\, Albion\, MI\, 49224\, United States
CATEGORIES:Featured,Movie
ATTACH;FMTTYPE=image/jpeg:https://bohmtheatre.org/wp-content/uploads/2023/08/TMNTMM.jpg
END:VEVENT
BEGIN:VEVENT
DTSTART;VALUE=DATE:20230812
DTEND;VALUE=DATE:20230813
DTSTAMP:20260424T235740
CREATED:20230608T175626Z
LAST-MODIFIED:20230808T185317Z
UID:5003-1691798400-1691884799@bohmtheatre.org
SUMMARY:Lyle Lyle Crocodile - Kids Free Film Series
DESCRIPTION:Lyle Lyle Crocodile\nAUGST 12          11:00 AM\nPG                  1h 46m\nFeature film based on the children’s book about a crocodile that lives in New York City. \n  \nFree Kids Film Series is made possible by our generous sponsors:\nJohn and Jan Shedd \nDecker Manufacturing \nArt & Vivian Davis \nNancy & Dave Rousch \nKent Davis
URL:https://bohmtheatre.org/event/lyle-lyle-crocodile-kids-free-film-series/
LOCATION:Bohm Theatre\, 201 S. Superior St\, Albion\, MI\, 49224\, United States
CATEGORIES:Featured - Bohm II,Movie
ATTACH;FMTTYPE=image/jpeg:https://bohmtheatre.org/wp-content/uploads/2023/05/lylelyle.jpg
END:VEVENT
BEGIN:VEVENT
DTSTART;VALUE=DATE:20230819
DTEND;VALUE=DATE:20230820
DTSTAMP:20260424T235740
CREATED:20230608T175814Z
LAST-MODIFIED:20230608T175814Z
UID:5005-1692403200-1692489599@bohmtheatre.org
SUMMARY:Puss in Boots: The Last Wish
DESCRIPTION: Puss in Boots: The Last Wish\nAUGST 19          11:00 AM\nPG                  1h 42m\nWhen Puss in Boots discovers that his passion for adventure has taken its toll and he has burned through eight of his nine lives\, he launches an epic journey to restore them by finding the mythical Last Wish. \n  \nFree Kids Film Series is made possible by our generous sponsors:\nJohn and Jan Shedd \nDecker Manufacturing \nArt & Vivian Davis \nNancy & Dave Rousch \nKent Davis
URL:https://bohmtheatre.org/event/puss-in-boots-the-last-wish-2/
LOCATION:Bohm Theatre\, 201 S. Superior St\, Albion\, MI\, 49224\, United States
CATEGORIES:Movie
ATTACH;FMTTYPE=image/jpeg:https://bohmtheatre.org/wp-content/uploads/2023/05/PiB-scaled.jpg
END:VEVENT
BEGIN:VEVENT
DTSTART;VALUE=DATE:20230825
DTEND;VALUE=DATE:20230828
DTSTAMP:20260424T235740
CREATED:20230815T175751Z
LAST-MODIFIED:20230826T161353Z
UID:5100-1692921600-1693180799@bohmtheatre.org
SUMMARY:Strays
DESCRIPTION:Rated R | 1h 33m \nShowtimes: \n\nFri 7:15 PM\nSat 3:15 PM\nSun 3:15 PM\n\n \nTickets are $5.00 before 5:00 pm. At 5:00 pm and after adults are $6.50\, children (12 and under) and seniors (62 and over) are $5.50. \n\nAn abandoned dog teams up with other strays to get revenge on his former owner.
URL:https://bohmtheatre.org/event/strays/
LOCATION:Bohm II\, 203 S. Superior St\, Albion \, 49224
CATEGORIES:Featured - Bohm II,Movie
ATTACH;FMTTYPE=image/jpeg:https://bohmtheatre.org/wp-content/uploads/2023/08/strays.jpg
END:VEVENT
BEGIN:VEVENT
DTSTART;VALUE=DATE:20230825
DTEND;VALUE=DATE:20230828
DTSTAMP:20260424T235740
CREATED:20230815T175933Z
LAST-MODIFIED:20230826T161206Z
UID:5103-1692921600-1693180799@bohmtheatre.org
SUMMARY:Blue Beetle
DESCRIPTION:Rated PG-13 | 2h 7m \nShowtimes: \n\nFri 7:00 PM\nSat 3:00 PM\nSun 3:00 PM\n\n \nTickets are $5.00 before 5:00 pm. At 5:00 pm and after adults are $6.50\, children (12 and under) and seniors (62 and over) are $5.50. \n\nAn alien scarab chooses college graduate Jaime Reyes to be its symbiotic host\, bestowing the teenager with a suit of armor that’s capable of extraordinary and unpredictable powers\, forever changing his destiny as he becomes the superhero known as Blue Beetle.
URL:https://bohmtheatre.org/event/blue-beetle/
LOCATION:Bohm Theatre\, 201 S. Superior St\, Albion\, MI\, 49224\, United States
CATEGORIES:Featured,Movie
ATTACH;FMTTYPE=image/jpeg:https://bohmtheatre.org/wp-content/uploads/2023/08/BEetle.jpeg
END:VEVENT
END:VCALENDAR