BEGIN:VCALENDAR
VERSION:2.0
PRODID:-//Bohm Theatre - ECPv5.16.0//NONSGML v1.0//EN
CALSCALE:GREGORIAN
METHOD:PUBLISH
X-ORIGINAL-URL:https://bohmtheatre.org
X-WR-CALDESC:Events for Bohm Theatre
REFRESH-INTERVAL;VALUE=DURATION:PT1H
X-Robots-Tag:noindex
X-PUBLISHED-TTL:PT1H
BEGIN:VTIMEZONE
TZID:America/Detroit
BEGIN:DAYLIGHT
TZOFFSETFROM:-0500
TZOFFSETTO:-0400
TZNAME:EDT
DTSTART:20230312T070000
END:DAYLIGHT
BEGIN:STANDARD
TZOFFSETFROM:-0400
TZOFFSETTO:-0500
TZNAME:EST
DTSTART:20231105T060000
END:STANDARD
END:VTIMEZONE
BEGIN:VEVENT
DTSTART;VALUE=DATE:20231201
DTEND;VALUE=DATE:20231204
DTSTAMP:20260425T064611
CREATED:20231102T195257Z
LAST-MODIFIED:20231128T181523Z
UID:5231-1701388800-1701647999@bohmtheatre.org
SUMMARY:The Hunger Games: The Ballad of Songbirds and Snakes
DESCRIPTION:Rated PG-13 | 2h 45m \nShowtimes: \n\nFri 7:30 PM\nSat 7:15 PM\nSun 3:15 PM\n\n \nTickets are $5.00 before 5:00 pm. At 5:00 pm and after adults are $6.50\, children (12 and under) and seniors (62 and over) are $5.50. \n\nCoriolanus Snow mentors and develops feelings for the female District 12 tribute during the 10th Hunger Games.
URL:https://bohmtheatre.org/event/the-hunger-games-the-ballad-of-songbirds-and-snakes/
LOCATION:Bohm Theatre\, 201 S. Superior St\, Albion\, MI\, 49224\, United States
CATEGORIES:Featured - Bohm II,Movie
ATTACH;FMTTYPE=image/jpeg:https://bohmtheatre.org/wp-content/uploads/2023/11/hungergames.jpg
END:VEVENT
BEGIN:VEVENT
DTSTART;VALUE=DATE:20231202
DTEND;VALUE=DATE:20231203
DTSTAMP:20260425T064611
CREATED:20231102T182054Z
LAST-MODIFIED:20231102T182054Z
UID:5220-1701475200-1701561599@bohmtheatre.org
SUMMARY:Polar Express - Holiday Classics
DESCRIPTION:Holiday Favorite\nTHE POLAR EXPRESS\n11:00 AM  \nSaturday\, December  2 \nRated G | 2004 | 1hr 40min
URL:https://bohmtheatre.org/event/polar-express-holiday-classics/
LOCATION:Bohm Theatre\, 201 S. Superior St\, Albion\, MI\, 49224\, United States
CATEGORIES:Movie
ATTACH;FMTTYPE=image/jpeg:https://bohmtheatre.org/wp-content/uploads/2023/11/polarexpress.jpg
END:VEVENT
BEGIN:VEVENT
DTSTART;VALUE=DATE:20231208
DTEND;VALUE=DATE:20231211
DTSTAMP:20260425T064611
CREATED:20231102T195542Z
LAST-MODIFIED:20231205T192315Z
UID:5236-1701993600-1702252799@bohmtheatre.org
SUMMARY:Wish
DESCRIPTION:Rated PG | 1h 32m \nShowtimes: \n\nFri 7:15 PM\nSat 7:15 PM\nSun 3:15 PM\n\n \nTickets are $5.00 before 5:00 pm. At 5:00 pm and after adults are $6.50\, children (12 and under) and seniors (62 and over) are $5.50. \n\nWish will follow a young girl named Asha who wishes on a star and gets a more direct answer than she bargained for when a trouble-making star comes down from the sky to join her.
URL:https://bohmtheatre.org/event/wish/
LOCATION:Bohm Theatre\, 201 S. Superior St\, Albion\, MI\, 49224\, United States
CATEGORIES:Featured - Bohm II,Movie
ATTACH;FMTTYPE=image/jpeg:https://bohmtheatre.org/wp-content/uploads/2023/11/Wish.jpg
ORGANIZER;CN="Blues%20at%20the%20Bohm":MAILTO:events@bohmtheatre.org
END:VEVENT
BEGIN:VEVENT
DTSTART;VALUE=DATE:20231208
DTEND;VALUE=DATE:20231211
DTSTAMP:20260425T064611
CREATED:20231205T192212Z
LAST-MODIFIED:20231205T192212Z
UID:5276-1701993600-1702252799@bohmtheatre.org
SUMMARY:NAPOLEON
DESCRIPTION:Rated R | 2h 38m \nShowtimes: \n\nFri 7:00 PM\nSat 7:00 PM\nSun 3:00 PM\n\n \nTickets are $5.00 before 5:00 pm. At 5:00 pm and after adults are $6.50\, children (12 and under) and seniors (62 and over) are $5.50. \n\nAn epic that details the checkered rise and fall of French Emperor Napoleon Bonaparte and his relentless journey to power through the prism of his addictive\, volatile relationship with his wife\, Josephine.
URL:https://bohmtheatre.org/event/napoleon/
LOCATION:Bohm Theatre\, 201 S. Superior St\, Albion\, MI\, 49224\, United States
CATEGORIES:Featured,Movie
ATTACH;FMTTYPE=image/jpeg:https://bohmtheatre.org/wp-content/uploads/2023/12/Napoleon.jpg
END:VEVENT
BEGIN:VEVENT
DTSTART;VALUE=DATE:20231209
DTEND;VALUE=DATE:20231210
DTSTAMP:20260425T064611
CREATED:20231102T182239Z
LAST-MODIFIED:20231102T182239Z
UID:5223-1702080000-1702166399@bohmtheatre.org
SUMMARY:It's A Wonderful Life - Holiday Classics
DESCRIPTION:Holiday Favorite\nIT’S A WONDERFUL LIFE\n11:00 AM  \nSaturday\, December  9 \nRated PG | 1946 | 2hr 10min
URL:https://bohmtheatre.org/event/its-a-wonderful-life-holiday-classics/
LOCATION:MI
CATEGORIES:Movie
ATTACH;FMTTYPE=image/jpeg:https://bohmtheatre.org/wp-content/uploads/2021/11/Its_a_Wonderful_Life.jpeg
END:VEVENT
BEGIN:VEVENT
DTSTART;VALUE=DATE:20231215
DTEND;VALUE=DATE:20231218
DTSTAMP:20260425T064611
CREATED:20231212T182404Z
LAST-MODIFIED:20231212T182404Z
UID:5297-1702598400-1702857599@bohmtheatre.org
SUMMARY:GODZILLA MINUS ONE
DESCRIPTION:Rated PG-13 | 2h 05m \nShowtimes: \n\nFri 7:15 PM\nSat 7:15 PM\nSun 3:15 PM\n\n \nTickets are $5.00 before 5:00 pm. At 5:00 pm and after adults are $6.50\, children (12 and under) and seniors (62 and over) are $5.50. \n\nJapan is already devastated by the war when a new crisis emerges in the form of a giant monster. \nFrom TOHO co. and Takashi Yamazaki
URL:https://bohmtheatre.org/event/godzilla-minus-one/
LOCATION:Bohm II\, 203 S. Superior St\, Albion \, 49224
CATEGORIES:Featured - Bohm II,Movie
ATTACH;FMTTYPE=image/jpeg:https://bohmtheatre.org/wp-content/uploads/2023/12/GOJIRA.jpeg
END:VEVENT
BEGIN:VEVENT
DTSTART;VALUE=DATE:20231216
DTEND;VALUE=DATE:20231217
DTSTAMP:20260425T064611
CREATED:20231102T182438Z
LAST-MODIFIED:20231102T182438Z
UID:5225-1702684800-1702771199@bohmtheatre.org
SUMMARY:ELF - Holiday Classics
DESCRIPTION:Holiday Favorite\nELF\n11:00 AM  \nSaturday\, December  16 \nRated PG | 2003 | 1hr 37min
URL:https://bohmtheatre.org/event/elf-holiday-classics/
LOCATION:Bohm Theatre\, 201 S. Superior St\, Albion\, MI\, 49224\, United States
CATEGORIES:Movie
ATTACH;FMTTYPE=image/jpeg:https://bohmtheatre.org/wp-content/uploads/2017/12/elf-poster.jpg
END:VEVENT
BEGIN:VEVENT
DTSTART;VALUE=DATE:20231223
DTEND;VALUE=DATE:20231225
DTSTAMP:20260425T064611
CREATED:20231102T182625Z
LAST-MODIFIED:20231102T182625Z
UID:5227-1703289600-1703462399@bohmtheatre.org
SUMMARY:WHITE CHRISTMAS - Holiday Classics
DESCRIPTION:Holiday Favorite\nWHITE CHRISTMAS\n11:00 AM  \nSaturday\, December  23 & 24 \nRated NR | 1954 | 2hr 0min
URL:https://bohmtheatre.org/event/white-christmas-holiday-classics/
LOCATION:Bohm Theatre\, 201 S. Superior St\, Albion\, MI\, 49224\, United States
CATEGORIES:Movie
ATTACH;FMTTYPE=image/jpeg:https://bohmtheatre.org/wp-content/uploads/2021/11/White-Christmas.jpg
END:VEVENT
BEGIN:VEVENT
DTSTART;VALUE=DATE:20231229
DTEND;VALUE=DATE:20240101
DTSTAMP:20260425T064611
CREATED:20231205T214124Z
LAST-MODIFIED:20231226T190525Z
UID:5286-1703808000-1704067199@bohmtheatre.org
SUMMARY:Wonka
DESCRIPTION:Rated PG | 1h 56m \nShowtimes: \n\nFri 7:15 PM\nSat 7:15 PM\nSun 3:15 PM\n\n \nTickets are $5.00 before 5:00 pm. At 5:00 pm and after adults are $6.50\, children (12 and under) and seniors (62 and over) are $5.50. \n\nWith dreams of opening a shop in a city renowned for its chocolate\, a young and poor Willy Wonka discovers that the industry is run by a cartel of greedy chocolatiers.
URL:https://bohmtheatre.org/event/wonka/
LOCATION:Bohm Theatre\, 201 S. Superior St\, Albion\, MI\, 49224\, United States
CATEGORIES:Featured - Bohm II,Movie
ATTACH;FMTTYPE=image/jpeg:https://bohmtheatre.org/wp-content/uploads/2023/12/Wonka.jpg
END:VEVENT
BEGIN:VEVENT
DTSTART;VALUE=DATE:20231229
DTEND;VALUE=DATE:20240101
DTSTAMP:20260425T064611
CREATED:20231208T213255Z
LAST-MODIFIED:20231227T200213Z
UID:5290-1703808000-1704067199@bohmtheatre.org
SUMMARY:Migration
DESCRIPTION:Rated PG | 1h 22m \nShowtimes: \n\nFri 7:00 PM\nSat 7:00 PM\nSun 3:00 PM\n\n \nTickets are $5.00 before 5:00 pm. At 5:00 pm and after adults are $6.50\, children (12 and under) and seniors (62 and over) are $5.50. \n\nA family of ducks try to convince their overprotective father to go on the vacation of a lifetime.
URL:https://bohmtheatre.org/event/migration/
LOCATION:Bohm Theatre\, 201 S. Superior St\, Albion\, MI\, 49224\, United States
CATEGORIES:Featured,Movie
ATTACH;FMTTYPE=image/webp:https://bohmtheatre.org/wp-content/uploads/2023/12/migration_480x.progressive.webp
END:VEVENT
END:VCALENDAR