BEGIN:VCALENDAR
VERSION:2.0
PRODID:-//Bohm Theatre - ECPv5.16.0//NONSGML v1.0//EN
CALSCALE:GREGORIAN
METHOD:PUBLISH
X-WR-CALNAME:Bohm Theatre
X-ORIGINAL-URL:https://bohmtheatre.org
X-WR-CALDESC:Events for Bohm Theatre
REFRESH-INTERVAL;VALUE=DURATION:PT1H
X-Robots-Tag:noindex
X-PUBLISHED-TTL:PT1H
BEGIN:VTIMEZONE
TZID:America/Detroit
BEGIN:DAYLIGHT
TZOFFSETFROM:-0500
TZOFFSETTO:-0400
TZNAME:EDT
DTSTART:20240310T070000
END:DAYLIGHT
BEGIN:STANDARD
TZOFFSETFROM:-0400
TZOFFSETTO:-0500
TZNAME:EST
DTSTART:20241103T060000
END:STANDARD
END:VTIMEZONE
BEGIN:VEVENT
DTSTART;VALUE=DATE:20240830
DTEND;VALUE=DATE:20240902
DTSTAMP:20260425T225804
CREATED:20240812T202943Z
LAST-MODIFIED:20240826T190811Z
UID:5721-1724976000-1725235199@bohmtheatre.org
SUMMARY:It Ends With Us
DESCRIPTION:Rated PG-13 | 2h 10m \nShowtimes: \n\nFri 7:15 PM\nSat 7:15 PM\nSun 3:15 PM\n\n \nTickets are $5.00 before 5:00 pm. At 5:00 pm and after adults are $6.50\, children (12 and under) and seniors (62 and over) are $5.50. \n\nAdapted from the Colleen Hoover novel\, Lily overcomes a traumatic childhood to embark on a new life. A chance meeting with a neurosurgeon sparks a connection but Lily begins to see sides of him that remind her of her parents’ relationship.
URL:https://bohmtheatre.org/event/it-ends-with-us/
LOCATION:Bohm II\, 203 S. Superior St\, Albion \, 49224
CATEGORIES:Featured - Bohm II,Movie
ATTACH;FMTTYPE=image/jpeg:https://bohmtheatre.org/wp-content/uploads/2024/08/IT-ENDS-WITH-US.jpg
END:VEVENT
BEGIN:VEVENT
DTSTART;VALUE=DATE:20240830
DTEND;VALUE=DATE:20240902
DTSTAMP:20260425T225804
CREATED:20240826T192222Z
LAST-MODIFIED:20240826T192222Z
UID:5739-1724976000-1725235199@bohmtheatre.org
SUMMARY:afrAId
DESCRIPTION:Rated PG-13 | 2h 10m \nShowtimes: \n\nFri 7:00 PM\nSat 7:00 PM\nSun 3:00 PM\n\n \nTickets are $5.00 before 5:00 pm. At 5:00 pm and after adults are $6.50\, children (12 and under) and seniors (62 and over) are $5.50. \n\nThe Curtis’ family is selected to test a new home device: a digital assistant called AIA. AIA learns the family’s behaviors and begins to anticipate their needs. And she can make sure nothing – and no one – gets in her family’s way.
URL:https://bohmtheatre.org/event/afraid/
LOCATION:MI
CATEGORIES:Featured,Movie
ATTACH;FMTTYPE=image/jpeg:https://bohmtheatre.org/wp-content/uploads/2024/08/afrAId.jpg
END:VEVENT
BEGIN:VEVENT
DTSTART;VALUE=DATE:20240905
DTEND;VALUE=DATE:20240909
DTSTAMP:20260425T225804
CREATED:20240903T165415Z
LAST-MODIFIED:20240903T165528Z
UID:5777-1725494400-1725839999@bohmtheatre.org
SUMMARY:Beetlejuice Beetlejuice
DESCRIPTION:Rated PG-13 | 1h 44m \nShowtimes: \n\nThu 7:00 PM\nFri 7:00 PM\nSat 7:00 PM\nSun 3:00 PM\n\n \nTickets are $5.00 before 5:00 pm. At 5:00 pm and after adults are $6.50\, children (12 and under) and seniors (62 and over) are $5.50. \n\nAfter a family tragedy\, three generations of the Deetz family return home to Winter River. Still haunted by Beetlejuice\, Lydia’s life is turned upside down when her teenage daughter\, Astrid\, accidentally opens the portal to the Afterlife.
URL:https://bohmtheatre.org/event/beetlejuice-beetlejuice/
LOCATION:MI
CATEGORIES:Featured,Movie
ATTACH;FMTTYPE=image/jpeg:https://bohmtheatre.org/wp-content/uploads/2024/09/BeetlejuiceBeetlejuice.jpeg
END:VEVENT
BEGIN:VEVENT
DTSTART;VALUE=DATE:20240905
DTEND;VALUE=DATE:20240909
DTSTAMP:20260425T225804
CREATED:20240903T165151Z
LAST-MODIFIED:20240903T165553Z
UID:5774-1725494400-1725839999@bohmtheatre.org
SUMMARY:Afraid
DESCRIPTION:Rated PG-13 | 2h 10m \nShowtimes: \n\nThu 7:15 PM\nFri 7:15 PM\nSat 7:15 PM\nSun 3:15 PM\n\n \nTickets are $5.00 before 5:00 pm. At 5:00 pm and after adults are $6.50\, children (12 and under) and seniors (62 and over) are $5.50. \n\nThe Curtis’ family is selected to test a new home device: a digital assistant called AIA. AIA learns the family’s behaviors and begins to anticipate their needs. And she can make sure nothing – and no one – gets in her family’s way.
URL:https://bohmtheatre.org/event/afraid-2/
LOCATION:Bohm Theatre\, 201 S. Superior St\, Albion\, MI\, 49224\, United States
CATEGORIES:Featured - Bohm II,Movie
ATTACH;FMTTYPE=image/jpeg:https://bohmtheatre.org/wp-content/uploads/2024/08/afrAId.jpg
END:VEVENT
BEGIN:VEVENT
DTSTART;VALUE=DATE:20240913
DTEND;VALUE=DATE:20240916
DTSTAMP:20260425T225804
CREATED:20240909T201925Z
LAST-MODIFIED:20240909T201931Z
UID:5804-1726185600-1726444799@bohmtheatre.org
SUMMARY:BEETLEJUICE BEETLEJUICE
DESCRIPTION:Rated PG-13 | 1h 44m \nShowtimes: \n\nFri 7:00 PM\nSat 7:00 PM\nSun 3:00 PM\n\n \nTickets are $5.00 before 5:00 pm. At 5:00 pm and after adults are $6.50\, children (12 and under) and seniors (62 and over) are $5.50. \n\nAfter a family tragedy\, three generations of the Deetz family return home to Winter River. Still haunted by Beetlejuice\, Lydia’s life is turned upside down when her teenage daughter\, Astrid\, accidentally opens the portal to the Afterlife.
URL:https://bohmtheatre.org/event/beetlejuice-beetlejuice-2/
LOCATION:MI
CATEGORIES:Featured,Movie
ATTACH;FMTTYPE=image/jpeg:https://bohmtheatre.org/wp-content/uploads/2024/09/BeetlejuiceBeetlejuice.jpeg
END:VEVENT
BEGIN:VEVENT
DTSTART;VALUE=DATE:20240913
DTEND;VALUE=DATE:20240916
DTSTAMP:20260425T225804
CREATED:20240910T145738Z
LAST-MODIFIED:20240910T145738Z
UID:5806-1726185600-1726444799@bohmtheatre.org
SUMMARY:Reagan
DESCRIPTION:Rated PG-13 | 2h 21m \nShowtimes: \n\nFri 7:15 PM\nSat 7:15 PM\nSun 3:15 PM\n\n \nTickets are $5.00 before 5:00 pm. At 5:00 pm and after adults are $6.50\, children (12 and under) and seniors (62 and over) are $5.50. \n\nA drama based on the life of Ronald Reagan\, from his childhood to his time in the oval office. \n 
URL:https://bohmtheatre.org/event/reagan/
LOCATION:MI
CATEGORIES:Featured - Bohm II,Movie
ATTACH;FMTTYPE=image/jpeg:https://bohmtheatre.org/wp-content/uploads/2024/09/Reagan.jpeg
END:VEVENT
BEGIN:VEVENT
DTSTART;VALUE=DATE:20240927
DTEND;VALUE=DATE:20240930
DTSTAMP:20260425T225804
CREATED:20240916T201650Z
LAST-MODIFIED:20240924T160557Z
UID:5833-1727395200-1727654399@bohmtheatre.org
SUMMARY:Transformers One
DESCRIPTION:Rated PG | 1h 44m \nShowtimes: \n\nFri 7:15 PM\nSat 7:15 PM\nSun 3:15 PM\n\n \nTickets are $5.00 before 5:00 pm. At 5:00 pm and after adults are $6.50\, children (12 and under) and seniors (62 and over) are $5.50. \n\nThe untold origin story of Optimus Prime and Megatron\, better known as sworn enemies\, but once were friends bonded like brothers who changed the fate of Cybertron forever.
URL:https://bohmtheatre.org/event/transformers-one/
LOCATION:Bohm II\, 203 S. Superior St\, Albion \, 49224
CATEGORIES:Featured - Bohm II,Movie
ATTACH;FMTTYPE=image/jpeg:https://bohmtheatre.org/wp-content/uploads/2024/09/TransformersOne.jpeg
END:VEVENT
BEGIN:VEVENT
DTSTART;VALUE=DATE:20240927
DTEND;VALUE=DATE:20240930
DTSTAMP:20260425T225804
CREATED:20240924T160516Z
LAST-MODIFIED:20240924T160516Z
UID:5878-1727395200-1727654399@bohmtheatre.org
SUMMARY:The Wild Robot
DESCRIPTION:Rated PG | 1h 42m \nShowtimes: \n\nFri 7:00 PM\nSat 7:00 PM\nSun 3:00 PM\n\n \nTickets are $5.00 before 5:00 pm. At 5:00 pm and after adults are $6.50\, children (12 and under) and seniors (62 and over) are $5.50. \n\nShipwrecked on a deserted island\, a robot named Roz must learn to adapt to its new surroundings. Building relationships with the native animals\, Roz soon develops a parental bond with an orphaned gosling.
URL:https://bohmtheatre.org/event/the-wild-robot/
LOCATION:Bohm Theatre\, 201 S. Superior St\, Albion\, MI\, 49224\, United States
CATEGORIES:Featured,Movie
ATTACH;FMTTYPE=image/jpeg:https://bohmtheatre.org/wp-content/uploads/2024/09/Wild_Robot_poster.jpg
END:VEVENT
END:VCALENDAR