BEGIN:VCALENDAR
VERSION:2.0
PRODID:-//Bohm Theatre - ECPv5.16.0//NONSGML v1.0//EN
CALSCALE:GREGORIAN
METHOD:PUBLISH
X-ORIGINAL-URL:https://bohmtheatre.org
X-WR-CALDESC:Events for Bohm Theatre
REFRESH-INTERVAL;VALUE=DURATION:PT1H
X-Robots-Tag:noindex
X-PUBLISHED-TTL:PT1H
BEGIN:VTIMEZONE
TZID:America/Detroit
BEGIN:DAYLIGHT
TZOFFSETFROM:-0500
TZOFFSETTO:-0400
TZNAME:EDT
DTSTART:20240310T070000
END:DAYLIGHT
BEGIN:STANDARD
TZOFFSETFROM:-0400
TZOFFSETTO:-0500
TZNAME:EST
DTSTART:20241103T060000
END:STANDARD
END:VTIMEZONE
BEGIN:VEVENT
DTSTART;TZID=America/Detroit:20241001T080000
DTEND;TZID=America/Detroit:20241001T170000
DTSTAMP:20260426T002053
CREATED:20240810T002105Z
LAST-MODIFIED:20240916T202200Z
UID:5702-1727769600-1727802000@bohmtheatre.org
SUMMARY:Frankenstein
DESCRIPTION:TERROR TUESDAYS \nJoin us on Tuesdays in October at 7:00 PM for our Terror Tuesdays film series! \nKicking off the series is \nFRANKENSTEIN (1931)\n\nDr Henry Frankenstein is obsessed with assembling a living being from parts of several exhumed corpses. \n\nTICKETS HERE
URL:https://bohmtheatre.org/event/frankenstein/
LOCATION:Bohm Theatre\, 201 S. Superior St\, Albion\, MI\, 49224\, United States
CATEGORIES:Movie
ATTACH;FMTTYPE=image/jpeg:https://bohmtheatre.org/wp-content/uploads/2024/08/frank.jpeg
END:VEVENT
BEGIN:VEVENT
DTSTART;VALUE=DATE:20241008
DTEND;VALUE=DATE:20241009
DTSTAMP:20260426T002053
CREATED:20240810T002521Z
LAST-MODIFIED:20241007T181125Z
UID:5705-1728345600-1728431999@bohmtheatre.org
SUMMARY:PSYCHO
DESCRIPTION:TERROR TUESDAYS \nJoin us on Tuesdays in October at 7:00 PM for our Terror Tuesdays film series! \nUp next in the series is \nPSYCHO (1960)\n\nA secretary on the run for embezzlement takes refuge at a secluded California motel owned by a repressed man and his overbearing mother. \n\nTICKETS HERE
URL:https://bohmtheatre.org/event/psycho/
LOCATION:Bohm Theatre\, 201 S. Superior St\, Albion\, MI\, 49224\, United States
CATEGORIES:Featured - Bohm II,Movie
ATTACH;FMTTYPE=image/jpeg:https://bohmtheatre.org/wp-content/uploads/2024/08/psycho.jpeg
END:VEVENT
BEGIN:VEVENT
DTSTART;VALUE=DATE:20241011
DTEND;VALUE=DATE:20241014
DTSTAMP:20260426T002053
CREATED:20240930T183044Z
LAST-MODIFIED:20241007T180803Z
UID:5907-1728604800-1728863999@bohmtheatre.org
SUMMARY:Joker: Folie à Deux
DESCRIPTION:Rated R | 2h 18m \nShowtimes: \n\nFri 7:00 PM\nSat 7:00 PM\nSun 3:00 PM\n\n \nTickets are $5.00 before 5:00 pm. At 5:00 pm and after adults are $6.50\, children (12 and under) and seniors (62 and over) are $5.50. \n\nArthur Fleck is institutionalized at Arkham\, awaiting trial for his crimes as Joker. While struggling with his dual identity\, Arthur not only stumbles upon true love\, but also finds the music that’s always been inside him.
URL:https://bohmtheatre.org/event/joker-folie-a-deux/
LOCATION:MI
CATEGORIES:Featured,Movie
ATTACH;FMTTYPE=image/jpeg:https://bohmtheatre.org/wp-content/uploads/2024/09/Joker-Folieadeux.jpeg
END:VEVENT
BEGIN:VEVENT
DTSTART;VALUE=DATE:20241015
DTEND;VALUE=DATE:20241016
DTSTAMP:20260426T002053
CREATED:20240909T201705Z
LAST-MODIFIED:20241009T231142Z
UID:5784-1728950400-1729036799@bohmtheatre.org
SUMMARY:The Ring
DESCRIPTION:TERROR TUESDAYS \nJoin us on Tuesdays in October at 7:00 PM for our Terror Tuesdays film series! \nUp next in the series is \nThe Ring (2002)\n\nA journalist must investigate a mysterious videotape which seems to cause the death of anyone one week to the day after they view it.
URL:https://bohmtheatre.org/event/the-ring/
LOCATION:Bohm Theatre\, 201 S. Superior St\, Albion\, MI\, 49224\, United States
CATEGORIES:Featured - Bohm II,Movie
ATTACH;FMTTYPE=image/jpeg:https://bohmtheatre.org/wp-content/uploads/2024/09/Ring-the.jpeg
END:VEVENT
BEGIN:VEVENT
DTSTART;VALUE=DATE:20241018
DTEND;VALUE=DATE:20241021
DTSTAMP:20260426T002053
CREATED:20240930T183150Z
LAST-MODIFIED:20241015T145928Z
UID:5910-1729209600-1729468799@bohmtheatre.org
SUMMARY:The Wild Robot
DESCRIPTION:RETURNING FOR ONE WEEKEND ONLY! \nRated PG | 1h 42m \nShowtimes: \n\nFri 7:00 PM\nSat 7:00 PM\nSun 3:00 PM\n\n \nTickets are $5.00 before 5:00 pm. At 5:00 pm and after adults are $6.50\, children (12 and under) and seniors (62 and over) are $5.50. \n\nShipwrecked on a deserted island\, a robot named Roz must learn to adapt to its new surroundings. Building relationships with the native animals\, Roz soon develops a parental bond with an orphaned gosling.
URL:https://bohmtheatre.org/event/the-wild-robot-2/
LOCATION:Bohm Theatre\, 201 S. Superior St\, Albion\, MI\, 49224\, United States
CATEGORIES:Featured,Movie
ATTACH;FMTTYPE=image/jpeg:https://bohmtheatre.org/wp-content/uploads/2024/09/Wild_Robot_poster.jpg
END:VEVENT
BEGIN:VEVENT
DTSTART;VALUE=DATE:20241022
DTEND;VALUE=DATE:20241023
DTSTAMP:20260426T002053
CREATED:20240810T003303Z
LAST-MODIFIED:20241021T205048Z
UID:5712-1729555200-1729641599@bohmtheatre.org
SUMMARY:The Shining
DESCRIPTION:TERROR TUESDAYS \nJoin us on Tuesdays in October at 7:00 PM for our Terror Tuesdays film series! \nUp next in the series is \nTHE SHINING (1980)\n\nA family heads to an isolated hotel for the winter where a sinister presence influences the father into violence\, while his psychic son sees horrific forebodings from both past and future. \n\nTICKETS HERE
URL:https://bohmtheatre.org/event/the-shining/
LOCATION:MI
CATEGORIES:Featured - Bohm II,Movie
ATTACH;FMTTYPE=image/jpeg:https://bohmtheatre.org/wp-content/uploads/2024/08/SHINING.jpeg
END:VEVENT
BEGIN:VEVENT
DTSTART;VALUE=DATE:20241029
DTEND;VALUE=DATE:20241030
DTSTAMP:20260426T002053
CREATED:20240810T003607Z
LAST-MODIFIED:20240810T003607Z
UID:5717-1730160000-1730246399@bohmtheatre.org
SUMMARY:Poltergeist
DESCRIPTION:TERROR TUESDAYS \nJoin us on Tuesdays in October at 7:00 PM for our Terror Tuesdays film series! \nClosing out the series is \nPOLTERGEIST (1982)\n\nA family’s home is haunted by a host of demonic ghosts. \n\nTICKETS HERE
URL:https://bohmtheatre.org/event/poltergeist/
LOCATION:MI
CATEGORIES:Movie
ATTACH;FMTTYPE=image/jpeg:https://bohmtheatre.org/wp-content/uploads/2024/08/Poltergeist.jpg
END:VEVENT
BEGIN:VEVENT
DTSTART;VALUE=DATE:20241031
DTEND;VALUE=DATE:20241101
DTSTAMP:20260426T002053
CREATED:20241028T155829Z
LAST-MODIFIED:20241028T155829Z
UID:6096-1730332800-1730419199@bohmtheatre.org
SUMMARY:THE ROCKY HORROR PICTURE SHOW with Mid Michigan Misfits Shadow Cast
DESCRIPTION:Rated R | 1h 38m \nOCTOBER 31st \n11:30 PM \nJoin us for a special screening of THE ROCKY HORROR PICTURE SHOW featuring the Mid Michigan Misfits shadow cast. \nCostumes are strongly encouraged. \n  \nTickets are $5.00 before 5:00 pm. At 5:00 pm and after adults are $6.50\, children (12 and under) and seniors (62 and over) are $5.50. \n\nA newly-engaged couple have a breakdown in an isolated area and must seek shelter at the bizarre residence of Dr. Frank-n-Furter.
URL:https://bohmtheatre.org/event/the-rocky-horror-picture-show-with-mid-michigan-misfits-shadow-cast/
LOCATION:Bohm Theatre\, 201 S. Superior St\, Albion\, MI\, 49224\, United States
CATEGORIES:Featured - Bohm II,Movie
ATTACH;FMTTYPE=image/png:https://bohmtheatre.org/wp-content/uploads/2024/10/Screenshot-2024-10-28-115445.png
END:VEVENT
END:VCALENDAR