BEGIN:VCALENDAR
VERSION:2.0
PRODID:-//Bohm Theatre - ECPv5.16.0//NONSGML v1.0//EN
CALSCALE:GREGORIAN
METHOD:PUBLISH
X-ORIGINAL-URL:https://bohmtheatre.org
X-WR-CALDESC:Events for Bohm Theatre
REFRESH-INTERVAL;VALUE=DURATION:PT1H
X-Robots-Tag:noindex
X-PUBLISHED-TTL:PT1H
BEGIN:VTIMEZONE
TZID:America/Detroit
BEGIN:DAYLIGHT
TZOFFSETFROM:-0500
TZOFFSETTO:-0400
TZNAME:EDT
DTSTART:20190310T070000
END:DAYLIGHT
BEGIN:STANDARD
TZOFFSETFROM:-0400
TZOFFSETTO:-0500
TZNAME:EST
DTSTART:20191103T060000
END:STANDARD
END:VTIMEZONE
BEGIN:VEVENT
DTSTART;VALUE=DATE:20191205
DTEND;VALUE=DATE:20191206
DTSTAMP:20260420T035153
CREATED:20191112T161025Z
LAST-MODIFIED:20191203T174950Z
UID:3284-1575504000-1575590399@bohmtheatre.org
SUMMARY:Ford V Ferrari
DESCRIPTION:Rated PG-13| 2hr 32min \nShowtimes: \n\nThu 6:30\n\n \nTickets are $5.00 before 5:00 pm. At 5:00 pm and after adults are $6.50\, children (12 and under) and seniors (62 and over) are $5.50. \n\nAmerican car designer Carroll Shelby and driver Ken Miles battle corporate interference\, the laws of physics and their own personal demons to build a revolutionary race car for Ford and challenge Ferrari at the 24 Hours of Le Mans in 1966.
URL:https://bohmtheatre.org/event/ford-v-ferrari/
LOCATION:Bohm II\, 203 S. Superior St\, Albion \, 49224
CATEGORIES:Movie
END:VEVENT
BEGIN:VEVENT
DTSTART;VALUE=DATE:20191205
DTEND;VALUE=DATE:20191210
DTSTAMP:20260420T035153
CREATED:20191119T150506Z
LAST-MODIFIED:20191203T175102Z
UID:3309-1575504000-1575935999@bohmtheatre.org
SUMMARY:Frozen II
DESCRIPTION:Rated PG| 1hr 43min \nShowtimes: \n\nThu 7:00 PM (BOHM 1)\nFri 7:00 PM\nSat 3:30 & 6:30 PM\nSun 3:30 & 6:30 PM\n\n \nTickets are $5.00 before 5:00 pm. At 5:00 pm and after adults are $6.50\, children (12 and under) and seniors (62 and over) are $5.50. \n\nAnna\, Elsa\, Kristoff\, Olaf and Sven leave Arendelle to travel to an ancient\, autumn-bound forest of an enchanted land. They set out to find the origin of Elsa’s powers in order to save their kingdom.
URL:https://bohmtheatre.org/event/frozen-ii/
LOCATION:Bohm II\, 203 S. Superior St\, Albion \, 49224
CATEGORIES:Featured - Bohm II,Movie
END:VEVENT
END:VCALENDAR