BEGIN:VCALENDAR
VERSION:2.0
PRODID:-//Bohm Theatre - ECPv5.16.0//NONSGML v1.0//EN
CALSCALE:GREGORIAN
METHOD:PUBLISH
X-WR-CALNAME:Bohm Theatre
X-ORIGINAL-URL:https://bohmtheatre.org
X-WR-CALDESC:Events for Bohm Theatre
REFRESH-INTERVAL;VALUE=DURATION:PT1H
X-Robots-Tag:noindex
X-PUBLISHED-TTL:PT1H
BEGIN:VTIMEZONE
TZID:America/Detroit
BEGIN:DAYLIGHT
TZOFFSETFROM:-0500
TZOFFSETTO:-0400
TZNAME:EDT
DTSTART:20200308T070000
END:DAYLIGHT
BEGIN:STANDARD
TZOFFSETFROM:-0400
TZOFFSETTO:-0500
TZNAME:EST
DTSTART:20201101T060000
END:STANDARD
END:VTIMEZONE
BEGIN:VEVENT
DTSTART;VALUE=DATE:20200109
DTEND;VALUE=DATE:20200110
DTSTAMP:20260420T035100
CREATED:20191211T012736Z
LAST-MODIFIED:20200107T164733Z
UID:3359-1578528000-1578614399@bohmtheatre.org
SUMMARY:Jumanji: The Next Level
DESCRIPTION:Rated PG-13| 2hr 3min \nShowtimes: \n\nThu 6:30 PM\n\n \nTickets are $5.00 before 5:00 pm. At 5:00 pm and after adults are $6.50\, children (12 and under) and seniors (62 and over) are $5.50. \n\nIn Jumanji: The Next Level\, the gang is back but the game has changed. As they return to rescue one of their own\, the players will have to brave parts unknown from arid deserts to snowy mountains\, to escape the world’s most dangerous game.
URL:https://bohmtheatre.org/event/jumanji-the-next-level/
LOCATION:Bohm II\, 203 S. Superior St\, Albion \, 49224
CATEGORIES:Movie
END:VEVENT
BEGIN:VEVENT
DTSTART;VALUE=DATE:20200109
DTEND;VALUE=DATE:20200113
DTSTAMP:20260420T035100
CREATED:20191217T165410Z
LAST-MODIFIED:20200107T165921Z
UID:3365-1578528000-1578873599@bohmtheatre.org
SUMMARY:Star Wars: The Rise of Skywalker
DESCRIPTION:Rated PG-13| 2hr 21min \nShowtimes: \n\nThu 7:00 PM\nFri 7:00 PM\nSat 3:00 & 7:00 PM\nSun 3:00 & 7:00 PM\n\n \nTickets are $5.00 before 5:00 pm. At 5:00 pm and after adults are $6.50\, children (12 and under) and seniors (62 and over) are $5.50. \n\nThe surviving Resistance faces the First Order once more in the final chapter of the Skywalker saga.
URL:https://bohmtheatre.org/event/star-wars-the-rise-of-skywalker/
LOCATION:Bohm Theatre\, 201 S. Superior St\, Albion\, MI\, 49224\, United States
CATEGORIES:Featured,Movie
END:VEVENT
END:VCALENDAR