BEGIN:VCALENDAR
VERSION:2.0
PRODID:-//Bohm Theatre - ECPv5.16.0//NONSGML v1.0//EN
CALSCALE:GREGORIAN
METHOD:PUBLISH
X-ORIGINAL-URL:https://bohmtheatre.org
X-WR-CALDESC:Events for Bohm Theatre
REFRESH-INTERVAL;VALUE=DURATION:PT1H
X-Robots-Tag:noindex
X-PUBLISHED-TTL:PT1H
BEGIN:VTIMEZONE
TZID:America/Detroit
BEGIN:DAYLIGHT
TZOFFSETFROM:-0500
TZOFFSETTO:-0400
TZNAME:EDT
DTSTART:20200308T070000
END:DAYLIGHT
BEGIN:STANDARD
TZOFFSETFROM:-0400
TZOFFSETTO:-0500
TZNAME:EST
DTSTART:20201101T060000
END:STANDARD
END:VTIMEZONE
BEGIN:VEVENT
DTSTART;VALUE=DATE:20200130
DTEND;VALUE=DATE:20200131
DTSTAMP:20260420T020107
CREATED:20200114T161553Z
LAST-MODIFIED:20200128T180558Z
UID:3394-1580342400-1580428799@bohmtheatre.org
SUMMARY:Bad Boys for Life
DESCRIPTION:Rated R| 2hr 03min \nShowtimes: \n\nThu 7:00 PM\n\n \nTickets are $5.00 before 5:00 pm. At 5:00 pm and after adults are $6.50\, children (12 and under) and seniors (62 and over) are $5.50. \n\nThe Bad Boys Mike Lowrey and Marcus Burnett are back together for one last ride in the highly anticipated Bad Boys for Life.
URL:https://bohmtheatre.org/event/bad-boys-for-life/
LOCATION:Bohm Theatre\, 201 S. Superior St\, Albion\, MI\, 49224\, United States
CATEGORIES:Movie
END:VEVENT
BEGIN:VEVENT
DTSTART;VALUE=DATE:20200130
DTEND;VALUE=DATE:20200203
DTSTAMP:20260420T020107
CREATED:20200128T183249Z
LAST-MODIFIED:20200128T183249Z
UID:3406-1580342400-1580687999@bohmtheatre.org
SUMMARY:2020 Oscar Nominated Short Films
DESCRIPTION:Rated PG| 1hr 46min \nShowtimes: \n\nThu 6:30 PM (Live Action)\nFri 6:30 PM (Documentary A)\nSat 3:30 & 6:30 PM (Animation\, Documentary B)\nSun 3:00 & 6:30 PM (Animation\, Live Action)\n\n \nTickets are $5.00 before 5:00 pm. At 5:00 pm and after adults are $6.50\, children (12 and under) and seniors (62 and over) are $5.50. \nA combination of the 2020 Oscar Nominated Short Films divided into categories; Live Action. Animation\, Documentary (A&B) \n 
URL:https://bohmtheatre.org/event/2020-oscar-nominated-short-films/
LOCATION:Bohm II\, 203 S. Superior St\, Albion \, 49224
CATEGORIES:Featured - Bohm II,Movie
END:VEVENT
END:VCALENDAR