BEGIN:VCALENDAR
VERSION:2.0
PRODID:-//Bohm Theatre - ECPv5.16.0//NONSGML v1.0//EN
CALSCALE:GREGORIAN
METHOD:PUBLISH
X-WR-CALNAME:Bohm Theatre
X-ORIGINAL-URL:https://bohmtheatre.org
X-WR-CALDESC:Events for Bohm Theatre
REFRESH-INTERVAL;VALUE=DURATION:PT1H
X-Robots-Tag:noindex
X-PUBLISHED-TTL:PT1H
BEGIN:VTIMEZONE
TZID:America/Detroit
BEGIN:DAYLIGHT
TZOFFSETFROM:-0500
TZOFFSETTO:-0400
TZNAME:EDT
DTSTART:20240310T070000
END:DAYLIGHT
BEGIN:STANDARD
TZOFFSETFROM:-0400
TZOFFSETTO:-0500
TZNAME:EST
DTSTART:20241103T060000
END:STANDARD
END:VTIMEZONE
BEGIN:VEVENT
DTSTART;TZID=America/Detroit:20240228T190000
DTEND;TZID=America/Detroit:20240228T210000
DTSTAMP:20260425T124417
CREATED:20240222T201333Z
LAST-MODIFIED:20240222T201333Z
UID:5437-1709146800-1709154000@bohmtheatre.org
SUMMARY:Guess Who's Coming to Dinner
DESCRIPTION:February 28\, 2024     7:00 PM     $5.00 \n GUESS WHO’S COMING TO DINNER (1967)\nWhen Joanna Drayton (Katharine Houghton)\, a free-thinking white woman\, and black doctor John Prentice (Sidney Poitier) become engaged\, they travel to San Francisco to meet her parents. Matt Drayton (Spencer Tracy) and his wife Christina (Katharine Hepburn) are wealthy liberals who must confront the latent racism the coming marriage arouses. Also attending the Draytons’ dinner are Prentice’s parents (Roy E. Glenn Sr.\, Beah Richards)\, who vehemently disapprove of the relationship. \n 
URL:https://bohmtheatre.org/event/guess-whos-coming-to-dinner/
LOCATION:Bohm Theatre\, 201 S. Superior St\, Albion\, MI\, 49224\, United States
CATEGORIES:Movie
ATTACH;FMTTYPE=image/jpeg:https://bohmtheatre.org/wp-content/uploads/2024/02/GWCTD.jpg
END:VEVENT
END:VCALENDAR